| Back to Multiple platform build/check report for BioC 3.15 |
|
This page was generated on 2022-03-18 11:07:33 -0400 (Fri, 18 Mar 2022).
| Hostname | OS | Arch (*) | R version | Installed pkgs |
|---|---|---|---|---|
| nebbiolo1 | Linux (Ubuntu 20.04.4 LTS) | x86_64 | R Under development (unstable) (2022-02-17 r81757) -- "Unsuffered Consequences" | 4334 |
| riesling1 | Windows Server 2019 Standard | x64 | R Under development (unstable) (2021-11-21 r81221) -- "Unsuffered Consequences" | 4097 |
| palomino3 | Windows Server 2022 Datacenter | x64 | R Under development (unstable) (2022-02-17 r81757 ucrt) -- "Unsuffered Consequences" | 4083 |
| merida1 | macOS 10.14.6 Mojave | x86_64 | R Under development (unstable) (2022-03-02 r81842) -- "Unsuffered Consequences" | 4134 |
| Click on any hostname to see more info about the system (e.g. compilers) (*) as reported by 'uname -p', except on Windows and Mac OS X | ||||
|
To the developers/maintainers of the GA4GHclient package: - Please allow up to 24 hours (and sometimes 48 hours) for your latest push to git@git.bioconductor.org:packages/GA4GHclient.git to reflect on this report. See How and When does the builder pull? When will my changes propagate? here for more information. - Make sure to use the following settings in order to reproduce any error or warning you see on this page. |
| Package 693/2090 | Hostname | OS / Arch | INSTALL | BUILD | CHECK | BUILD BIN | ||||||||
| GA4GHclient 1.19.1 (landing page) Welliton Souza
| nebbiolo1 | Linux (Ubuntu 20.04.4 LTS) / x86_64 | OK | OK | OK | |||||||||
| riesling1 | Windows Server 2019 Standard / x64 | OK | OK | OK | OK | |||||||||
| palomino3 | Windows Server 2022 Datacenter / x64 | OK | OK | OK | OK | |||||||||
| merida1 | macOS 10.14.6 Mojave / x86_64 | OK | OK | OK | OK | |||||||||
| Package: GA4GHclient |
| Version: 1.19.1 |
| Command: D:\biocbuild\bbs-3.15-bioc\R\bin\R.exe CMD INSTALL GA4GHclient |
| StartedAt: 2022-03-17 16:11:37 -0400 (Thu, 17 Mar 2022) |
| EndedAt: 2022-03-17 16:12:58 -0400 (Thu, 17 Mar 2022) |
| EllapsedTime: 80.8 seconds |
| RetCode: 0 |
| Status: OK |
##############################################################################
##############################################################################
###
### Running command:
###
### D:\biocbuild\bbs-3.15-bioc\R\bin\R.exe CMD INSTALL GA4GHclient
###
##############################################################################
##############################################################################
* installing to library 'D:/biocbuild/bbs-3.15-bioc/R/library'
* installing *source* package 'GA4GHclient' ...
** using staged installation
** R
** inst
** byte-compile and prepare package for lazy loading
No methods found in package 'BiocGenerics' for request: 'lengths' when loading 'GA4GHclient'
** help
*** installing help indices
converting help for package 'GA4GHclient'
finding HTML links ... done
GA4GHclient-package html
HGVSnames html
getBiosample html
finding level-2 HTML links ... done
getCallSet html
getDataset html
getExpressionLevel html
getFeature html
getFeatureSet html
getIndividual html
getReadGroupSet html
getReference html
getReferenceSet html
getRnaQuantification html
getRnaQuantificationSet html
getVariant html
getVariantAnnotationSet html
getVariantSet html
listReferenceBases html
makeVCFFromGA4GHResponse html
makeVCFHeaderFromGA4GHResponse html
searchBiosamples html
searchCallSets html
searchDatasets html
searchExpressionLevels html
searchFeatureSets html
searchFeatures html
searchIndividuals html
searchPhenotypeAssociationSets html
searchPhenotypeAssociations html
searchReadGroupSets html
searchReads html
searchReferenceSets html
searchReferences html
searchRnaQuantificationSets html
searchRnaQuantifications html
searchVariantAnnotationSets html
searchVariantAnnotations html
searchVariantSets html
searchVariants html
searchVariantsByGRanges html
** building package indices
** installing vignettes
** testing if installed package can be loaded from temporary location
No methods found in package 'BiocGenerics' for request: 'lengths' when loading 'GA4GHclient'
** testing if installed package can be loaded from final location
No methods found in package 'BiocGenerics' for request: 'lengths' when loading 'GA4GHclient'
** testing if installed package keeps a record of temporary installation path
* DONE (GA4GHclient)
Making 'packages.html' ... done