| Back to Multiple platform build/check report for BioC 3.15 |
|
This page was generated on 2022-10-19 13:20:15 -0400 (Wed, 19 Oct 2022).
| Hostname | OS | Arch (*) | R version | Installed pkgs |
|---|---|---|---|---|
| nebbiolo1 | Linux (Ubuntu 20.04.5 LTS) | x86_64 | 4.2.1 (2022-06-23) -- "Funny-Looking Kid" | 4386 |
| palomino3 | Windows Server 2022 Datacenter | x64 | 4.2.1 (2022-06-23 ucrt) -- "Funny-Looking Kid" | 4138 |
| merida1 | macOS 10.14.6 Mojave | x86_64 | 4.2.1 (2022-06-23) -- "Funny-Looking Kid" | 4205 |
| Click on any hostname to see more info about the system (e.g. compilers) (*) as reported by 'uname -p', except on Windows and Mac OS X | ||||
|
To the developers/maintainers of the FindIT2 package: - Please allow up to 24 hours (and sometimes 48 hours) for your latest push to git@git.bioconductor.org:packages/FindIT2.git to reflect on this report. See How and When does the builder pull? When will my changes propagate? for more information. - Make sure to use the following settings in order to reproduce any error or warning you see on this page. |
| Package 664/2140 | Hostname | OS / Arch | INSTALL | BUILD | CHECK | BUILD BIN | ||||||||
| FindIT2 1.2.3 (landing page) Guandong Shang
| nebbiolo1 | Linux (Ubuntu 20.04.5 LTS) / x86_64 | OK | OK | OK | |||||||||
| palomino3 | Windows Server 2022 Datacenter / x64 | OK | OK | OK | OK | |||||||||
| merida1 | macOS 10.14.6 Mojave / x86_64 | OK | OK | OK | OK | |||||||||
| Package: FindIT2 |
| Version: 1.2.3 |
| Command: /home/biocbuild/bbs-3.15-bioc/R/bin/R CMD check --install=check:FindIT2.install-out.txt --library=/home/biocbuild/bbs-3.15-bioc/R/library --no-vignettes --timings FindIT2_1.2.3.tar.gz |
| StartedAt: 2022-10-18 19:43:49 -0400 (Tue, 18 Oct 2022) |
| EndedAt: 2022-10-18 19:49:05 -0400 (Tue, 18 Oct 2022) |
| EllapsedTime: 316.1 seconds |
| RetCode: 0 |
| Status: OK |
| CheckDir: FindIT2.Rcheck |
| Warnings: 0 |
##############################################################################
##############################################################################
###
### Running command:
###
### /home/biocbuild/bbs-3.15-bioc/R/bin/R CMD check --install=check:FindIT2.install-out.txt --library=/home/biocbuild/bbs-3.15-bioc/R/library --no-vignettes --timings FindIT2_1.2.3.tar.gz
###
##############################################################################
##############################################################################
* using log directory ‘/home/biocbuild/bbs-3.15-bioc/meat/FindIT2.Rcheck’
* using R version 4.2.1 (2022-06-23)
* using platform: x86_64-pc-linux-gnu (64-bit)
* using session charset: UTF-8
* using option ‘--no-vignettes’
* checking for file ‘FindIT2/DESCRIPTION’ ... OK
* this is package ‘FindIT2’ version ‘1.2.3’
* package encoding: UTF-8
* checking package namespace information ... OK
* checking package dependencies ... OK
* checking if this is a source package ... OK
* checking if there is a namespace ... OK
* checking for hidden files and directories ... OK
* checking for portable file names ... OK
* checking for sufficient/correct file permissions ... OK
* checking whether package ‘FindIT2’ can be installed ... OK
* checking installed package size ... OK
* checking package directory ... OK
* checking ‘build’ directory ... OK
* checking DESCRIPTION meta-information ... OK
* checking top-level files ... OK
* checking for left-over files ... OK
* checking index information ... OK
* checking package subdirectories ... OK
* checking R files for non-ASCII characters ... OK
* checking R files for syntax errors ... OK
* checking whether the package can be loaded ... OK
* checking whether the package can be loaded with stated dependencies ... OK
* checking whether the package can be unloaded cleanly ... OK
* checking whether the namespace can be loaded with stated dependencies ... OK
* checking whether the namespace can be unloaded cleanly ... OK
* checking dependencies in R code ... OK
* checking S3 generic/method consistency ... OK
* checking replacement functions ... OK
* checking foreign function calls ... OK
* checking R code for possible problems ... OK
* checking Rd files ... OK
* checking Rd metadata ... OK
* checking Rd cross-references ... OK
* checking for missing documentation entries ... OK
* checking for code/documentation mismatches ... OK
* checking Rd \usage sections ... OK
* checking Rd contents ... OK
* checking for unstated dependencies in examples ... OK
* checking contents of ‘data’ directory ... OK
* checking data for non-ASCII characters ... OK
* checking data for ASCII and uncompressed saves ... OK
* checking files in ‘vignettes’ ... OK
* checking examples ... OK
Examples with CPU (user + system) or elapsed time > 5s
user system elapsed
findIT_regionRP 5.883 0.06 5.943
* checking for unstated dependencies in ‘tests’ ... OK
* checking tests ...
Running ‘testthat.R’
OK
* checking for unstated dependencies in vignettes ... OK
* checking package vignettes in ‘inst/doc’ ... OK
* checking running R code from vignettes ... SKIPPED
* checking re-building of vignette outputs ... SKIPPED
* checking PDF version of manual ... OK
* DONE
Status: OK
FindIT2.Rcheck/00install.out
############################################################################## ############################################################################## ### ### Running command: ### ### /home/biocbuild/bbs-3.15-bioc/R/bin/R CMD INSTALL FindIT2 ### ############################################################################## ############################################################################## * installing to library ‘/home/biocbuild/bbs-3.15-bioc/R/library’ * installing *source* package ‘FindIT2’ ... ** using staged installation ** R ** data ** inst ** byte-compile and prepare package for lazy loading ** help *** installing help indices ** building package indices ** installing vignettes ** testing if installed package can be loaded from temporary location ** testing if installed package can be loaded from final location ** testing if installed package keeps a record of temporary installation path * DONE (FindIT2)
FindIT2.Rcheck/tests/testthat.Rout
R version 4.2.1 (2022-06-23) -- "Funny-Looking Kid"
Copyright (C) 2022 The R Foundation for Statistical Computing
Platform: x86_64-pc-linux-gnu (64-bit)
R is free software and comes with ABSOLUTELY NO WARRANTY.
You are welcome to redistribute it under certain conditions.
Type 'license()' or 'licence()' for distribution details.
R is a collaborative project with many contributors.
Type 'contributors()' for more information and
'citation()' on how to cite R or R packages in publications.
Type 'demo()' for some demos, 'help()' for on-line help, or
'help.start()' for an HTML browser interface to help.
Type 'q()' to quit R.
> library(testthat)
> library(FindIT2)
Loading required package: GenomicRanges
Loading required package: stats4
Loading required package: BiocGenerics
Attaching package: 'BiocGenerics'
The following objects are masked from 'package:stats':
IQR, mad, sd, var, xtabs
The following objects are masked from 'package:base':
Filter, Find, Map, Position, Reduce, anyDuplicated, append,
as.data.frame, basename, cbind, colnames, dirname, do.call,
duplicated, eval, evalq, get, grep, grepl, intersect, is.unsorted,
lapply, mapply, match, mget, order, paste, pmax, pmax.int, pmin,
pmin.int, rank, rbind, rownames, sapply, setdiff, sort, table,
tapply, union, unique, unsplit, which.max, which.min
Loading required package: S4Vectors
Attaching package: 'S4Vectors'
The following objects are masked from 'package:base':
I, expand.grid, unname
Loading required package: IRanges
Loading required package: GenomeInfoDb
> if (!requireNamespace("TxDb.Athaliana.BioMart.plantsmart28")) {
+ stop("unable to load TxDb.Athaliana.BioMart.plantsmart28")
+ }
Loading required namespace: TxDb.Athaliana.BioMart.plantsmart28
>
> test_check("FindIT2")
>> preparing gene features information... 2022-10-18 19:48:08
>> some scan range may cross Chr bound, trimming... 2022-10-18 19:48:10
>> preparing weight info... 2022-10-18 19:48:10
>> loading E50h_sampleChr5.bw info... 2022-10-18 19:48:10
------------
>> extracting and calcluating Chr5 signal... 2022-10-18 19:48:11
>> dealing with Chr5 left gene signal... 2022-10-18 19:48:13
>> norming Chr5RP accoring to the whole Chr RP... 2022-10-18 19:48:13
>> merging all Chr RP together... 2022-10-18 19:48:13
>> done 2022-10-18 19:48:13
>> checking seqlevels match... 2022-10-18 19:48:14
>> your peak_GR seqlevel:Chr5...
>> your Txdb seqlevel:Chr1 Chr2 Chr3 Chr4 Chr5 ChrM ChrC...
Good, your Chrs in peak_GR is all in Txdb
------------
annotatePeak using geneScan mode begins
>> preparing gene features information and scan region... 2022-10-18 19:48:14
>> some scan range may cross Chr bound, trimming... 2022-10-18 19:48:14
>> finding overlap peak in gene scan region... 2022-10-18 19:48:14
>> dealing with left peak not your gene scan region... 2022-10-18 19:48:14
>> merging two set peaks... 2022-10-18 19:48:15
>> calculating distance and dealing with gene strand... 2022-10-18 19:48:15
>> merging all info together ... 2022-10-18 19:48:15
>> done 2022-10-18 19:48:15
>> calculating peakCenter to TSS using peak-gene pair... 2022-10-18 19:48:15
>> pre-filling 1356 noAssoc peak gene's RP with 0... 2022-10-18 19:48:16
>> calculating RP using centerToTSS and peak score2022-10-18 19:48:16
>> merging all info together 2022-10-18 19:48:17
>> done 2022-10-18 19:48:18
>> calculating peakCenter to TSS using peak-gene pair... 2022-10-18 19:48:18
>> pre-filling 1356 noAssoc peak gene's RP with 0... 2022-10-18 19:48:19
>> calculating RP using centerToTSS and peak score2022-10-18 19:48:19
>> merging all info together 2022-10-18 19:48:22
>> done 2022-10-18 19:48:22
>> checking seqlevels match... 2022-10-18 19:48:22
>> your peak_GR seqlevel:Chr5...
>> your Txdb seqlevel:Chr1 Chr2 Chr3 Chr4 Chr5 ChrM ChrC...
Good, your Chrs in peak_GR is all in Txdb
------------
annotatePeak using geneScan mode begins
>> preparing gene features information and scan region... 2022-10-18 19:48:22
>> some scan range may cross Chr bound, trimming... 2022-10-18 19:48:23
>> finding overlap peak in gene scan region... 2022-10-18 19:48:23
>> dealing with left peak not your gene scan region... 2022-10-18 19:48:23
>> merging two set peaks... 2022-10-18 19:48:23
>> calculating distance and dealing with gene strand... 2022-10-18 19:48:23
>> merging all info together ... 2022-10-18 19:48:23
>> done 2022-10-18 19:48:23
>> calculating peakCenter to TSS using peak-gene pair... 2022-10-18 19:48:23
>> calculating RP using centerToTSS and TF hit 2022-10-18 19:48:25
>> merging all info together 2022-10-18 19:48:25
>> done 2022-10-18 19:48:25
>> calculating peakCenter to TSS using peak-gene pair... 2022-10-18 19:48:25
>> calculating RP using centerToTSS and TF hit 2022-10-18 19:48:26
>> merging all info together 2022-10-18 19:48:26
>> done 2022-10-18 19:48:26
>> checking seqlevels match... 2022-10-18 19:48:27
>> your peak_GR seqlevel:Chr5...
>> your Txdb seqlevel:Chr1 Chr2 Chr3 Chr4 Chr5 ChrM ChrC...
Good, your Chrs in peak_GR is all in Txdb
------------
annotatePeak using geneScan mode begins
>> preparing gene features information and scan region... 2022-10-18 19:48:27
>> some scan range may cross Chr bound, trimming... 2022-10-18 19:48:27
>> finding overlap peak in gene scan region... 2022-10-18 19:48:27
>> dealing with left peak not your gene scan region... 2022-10-18 19:48:27
>> merging two set peaks... 2022-10-18 19:48:27
>> calculating distance and dealing with gene strand... 2022-10-18 19:48:27
>> merging all info together ... 2022-10-18 19:48:27
>> done 2022-10-18 19:48:27
>> calculating peakCenter to TSS using peak-gene pair... 2022-10-18 19:48:27
>> pre-filling 1356 noAssoc peak gene's RP with 0... 2022-10-18 19:48:28
>> calculating RP using centerToTSS and peak score2022-10-18 19:48:28
>> merging all info together 2022-10-18 19:48:30
>> done 2022-10-18 19:48:30
>> extracting RP info from regionRP... 2022-10-18 19:48:31
>> dealing with TF_GR_databse... 2022-10-18 19:48:31
>> calculating percent and p-value... 2022-10-18 19:48:31
>> dealing withE5_0h_R1... 2022-10-18 19:48:31
>> dealing withE5_0h_R2... 2022-10-18 19:48:31
>> dealing withE5_4h_R1... 2022-10-18 19:48:31
>> dealing withE5_4h_R2... 2022-10-18 19:48:31
>> dealing withE5_8h_R1... 2022-10-18 19:48:31
>> dealing withE5_8h_R2... 2022-10-18 19:48:31
>> dealing withE5_16h_R1... 2022-10-18 19:48:31
>> dealing withE5_16h_R2... 2022-10-18 19:48:31
>> dealing withE5_24h_R1... 2022-10-18 19:48:31
>> dealing withE5_24h_R2... 2022-10-18 19:48:32
>> dealing withE5_48h_R1... 2022-10-18 19:48:32
>> dealing withE5_48h_R2... 2022-10-18 19:48:32
>> dealing withE5_48h_R3... 2022-10-18 19:48:32
>> dealing withE5_72h_R1... 2022-10-18 19:48:32
>> dealing withE5_72h_R2... 2022-10-18 19:48:32
>> dealing withE5_72h_R3... 2022-10-18 19:48:32
>> merging all info together... 2022-10-18 19:48:32
>> done 2022-10-18 19:48:32
>> preparing gene features information... 2022-10-18 19:48:32
>> some scan range may cross Chr bound, trimming... 2022-10-18 19:48:33
>> calculating p-value for each TF, which may be time consuming... 2022-10-18 19:48:33
>> merging all info together... 2022-10-18 19:48:33
>> done 2022-10-18 19:48:33
>> dealing with TF_GR_database... 2022-10-18 19:48:33
>> calculating coef and converting into z-score using INT... 2022-10-18 19:48:33
>> dealing with E5_0h_R1... 2022-10-18 19:48:33
>> dealing with E5_0h_R2... 2022-10-18 19:48:33
>> dealing with E5_4h_R1... 2022-10-18 19:48:34
>> dealing with E5_4h_R2... 2022-10-18 19:48:34
>> dealing with E5_8h_R1... 2022-10-18 19:48:34
>> dealing with E5_8h_R2... 2022-10-18 19:48:34
>> dealing with E5_16h_R1... 2022-10-18 19:48:34
>> dealing with E5_16h_R2... 2022-10-18 19:48:34
>> dealing with E5_24h_R1... 2022-10-18 19:48:34
>> dealing with E5_24h_R2... 2022-10-18 19:48:34
>> dealing with E5_48h_R1... 2022-10-18 19:48:34
>> dealing with E5_48h_R2... 2022-10-18 19:48:34
>> dealing with E5_48h_R3... 2022-10-18 19:48:34
>> dealing with E5_72h_R1... 2022-10-18 19:48:34
>> dealing with E5_72h_R2... 2022-10-18 19:48:34
>> dealing with E5_72h_R3... 2022-10-18 19:48:35
>> merging all info together... 2022-10-18 19:48:35
>> done 2022-10-18 19:48:35
>> checking seqlevels match... 2022-10-18 19:48:35
>> your peak_GR seqlevel:Chr5...
>> your Txdb seqlevel:Chr1 Chr2 Chr3 Chr4 Chr5 ChrM ChrC...
Good, your Chrs in peak_GR is all in Txdb
------------
annotatePeak using geneScan mode begins
>> preparing gene features information and scan region... 2022-10-18 19:48:35
>> some scan range may cross Chr bound, trimming... 2022-10-18 19:48:36
>> finding overlap peak in gene scan region... 2022-10-18 19:48:36
>> dealing with left peak not your gene scan region... 2022-10-18 19:48:36
>> merging two set peaks... 2022-10-18 19:48:36
>> calculating distance and dealing with gene strand... 2022-10-18 19:48:36
>> merging all info together ... 2022-10-18 19:48:36
>> done 2022-10-18 19:48:36
>> calculating peakCenter to TSS using peak-gene pair... 2022-10-18 19:48:36
>> calculating RP using centerToTSS and TF hit 2022-10-18 19:48:37
>> merging all info together 2022-10-18 19:48:37
>> done 2022-10-18 19:48:37
>> checking seqlevels match... 2022-10-18 19:48:37
>> your peak_GR seqlevel:5...
>> your Txdb seqlevel:Chr1 Chr2 Chr3 Chr4 Chr5 ChrM ChrC...
>> checking seqlevels match... 2022-10-18 19:48:37
>> your peak_GR seqlevel:Chr5 Chr6...
>> your Txdb seqlevel:Chr1 Chr2 Chr3 Chr4 Chr5 ChrM ChrC...
>> checking seqlevels match... 2022-10-18 19:48:40
>> your peak_GR seqlevel:Chr5...
>> your Txdb seqlevel:Chr1 Chr2 Chr3 Chr4 Chr5 ChrM ChrC...
Good, your Chrs in peak_GR is all in Txdb
>> checking seqlevels match... 2022-10-18 19:48:40
>> your peak_GR seqlevel:Chr5...
>> your Txdb seqlevel:Chr1 Chr2 Chr3 Chr4 Chr5 ChrM ChrC...
Good, your Chrs in peak_GR is all in Txdb
------------
annotating Peak using nearest gene mode begins
>> preparing gene features information... 2022-10-18 19:48:40
>> finding nearest gene and calculating distance... 2022-10-18 19:48:41
>> dealing with gene strand ... 2022-10-18 19:48:41
>> merging all info together ... 2022-10-18 19:48:41
>> done 2022-10-18 19:48:41
>> checking seqlevels match... 2022-10-18 19:48:41
>> your peak_GR seqlevel:Chr5...
>> your Txdb seqlevel:Chr1 Chr2 Chr3 Chr4 Chr5 ChrM ChrC...
Good, your Chrs in peak_GR is all in Txdb
>> checking seqlevels match... 2022-10-18 19:48:41
>> your peak_GR seqlevel:Chr5...
>> your Txdb seqlevel:Chr1 Chr2 Chr3 Chr4 Chr5 ChrM ChrC...
Good, your Chrs in peak_GR is all in Txdb
------------
annotating Peak using nearest gene mode begins
>> preparing gene features information... 2022-10-18 19:48:41
>> finding nearest gene and calculating distance... 2022-10-18 19:48:42
>> dealing with gene strand ... 2022-10-18 19:48:42
>> merging all info together ... 2022-10-18 19:48:42
>> done 2022-10-18 19:48:42
>> checking seqlevels match... 2022-10-18 19:48:43
>> your peak_GR seqlevel:Chr5...
>> your Txdb seqlevel:Chr1 Chr2 Chr3 Chr4 Chr5 ChrM ChrC...
Good, your Chrs in peak_GR is all in Txdb
>> checking seqlevels match... 2022-10-18 19:48:43
>> your peak_GR seqlevel:Chr5...
>> your Txdb seqlevel:Chr1 Chr2 Chr3 Chr4 Chr5 ChrM ChrC...
Good, your Chrs in peak_GR is all in Txdb
------------
annotating Peak using nearest gene mode begins
>> preparing gene features information... 2022-10-18 19:48:43
>> finding nearest gene and calculating distance... 2022-10-18 19:48:44
>> dealing with gene strand ... 2022-10-18 19:48:44
>> merging all info together ... 2022-10-18 19:48:44
>> done 2022-10-18 19:48:44
>> checking seqlevels match... 2022-10-18 19:48:45
>> your peak_GR seqlevel:Chr5...
>> your Txdb seqlevel:Chr1 Chr2 Chr3 Chr4 Chr5 ChrM ChrC...
Good, your Chrs in peak_GR is all in Txdb
>> checking seqlevels match... 2022-10-18 19:48:45
>> your peak_GR seqlevel:Chr5...
>> your Txdb seqlevel:Chr1 Chr2 Chr3 Chr4 Chr5 ChrM ChrC...
Good, your Chrs in peak_GR is all in Txdb
------------
annotating Peak using nearest gene mode begins
>> preparing gene features information... 2022-10-18 19:48:45
>> finding nearest gene and calculating distance... 2022-10-18 19:48:46
>> dealing with gene strand ... 2022-10-18 19:48:46
>> merging all info together ... 2022-10-18 19:48:46
>> done 2022-10-18 19:48:46
It seems that there 1 genes have not been annotated by nearestGene mode
>> checking seqlevels match... 2022-10-18 19:48:47
>> your peak_GR seqlevel:Chr5...
>> your Txdb seqlevel:Chr1 Chr2 Chr3 Chr4 Chr5 ChrM ChrC...
Good, your Chrs in peak_GR is all in Txdb
>> checking seqlevels match... 2022-10-18 19:48:47
>> your peak_GR seqlevel:Chr5...
>> your Txdb seqlevel:Chr1 Chr2 Chr3 Chr4 Chr5 ChrM ChrC...
Good, your Chrs in peak_GR is all in Txdb
------------
annotating Peak using nearest gene mode begins
>> preparing gene features information... 2022-10-18 19:48:47
>> finding nearest gene and calculating distance... 2022-10-18 19:48:48
>> dealing with gene strand ... 2022-10-18 19:48:48
>> merging all info together ... 2022-10-18 19:48:48
>> done 2022-10-18 19:48:48
It seems that there 1 genes have not been annotated by nearestGene mode
>> checking seqlevels match... 2022-10-18 19:48:49
>> your peak_GR seqlevel:Chr5...
>> your Txdb seqlevel:Chr1 Chr2 Chr3 Chr4 Chr5 ChrM ChrC...
Good, your Chrs in peak_GR is all in Txdb
>> checking seqlevels match... 2022-10-18 19:48:50
>> your peak_GR seqlevel:Chr5...
>> your Txdb seqlevel:Chr1 Chr2 Chr3 Chr4 Chr5 ChrM ChrC...
Good, your Chrs in peak_GR is all in Txdb
>> some scan range may cross Chr bound, trimming... 2022-10-18 19:48:50
>> checking seqlevels match... 2022-10-18 19:48:51
>> your peak_GR seqlevel:Chr5...
>> your Txdb seqlevel:Chr1 Chr2 Chr3 Chr4 Chr5 ChrM ChrC...
Good, your Chrs in peak_GR is all in Txdb
>> some scan range may cross Chr bound, trimming... 2022-10-18 19:48:52
Good, your two matrix colnames matchs
>> calculating cor and pvalue, which may be time consuming... 2022-10-18 19:48:53
>> merging all info together... 2022-10-18 19:48:53
>> done 2022-10-18 19:48:53
>> checking seqlevels match... 2022-10-18 19:48:53
>> your peak_GR seqlevel:Chr5...
>> your Txdb seqlevel:Chr1 Chr2 Chr3 Chr4 Chr5 ChrM ChrC...
Good, your Chrs in peak_GR is all in Txdb
>> using scanPromoter parameter to scan promoter for each gene... 2022-10-18 19:48:53
>> checking seqlevels match... 2022-10-18 19:48:53
>> your peak_GR seqlevel:Chr5...
>> your Txdb seqlevel:Chr1 Chr2 Chr3 Chr4 Chr5 ChrM ChrC...
Good, your Chrs in peak_GR is all in Txdb
>> some scan range may cross Chr bound, trimming... 2022-10-18 19:48:54
>> there are 85 gene have scaned promoter
>> using scanEnhancer parameter to scan Enhancer for each gene... 2022-10-18 19:48:54
>> checking seqlevels match... 2022-10-18 19:48:54
>> your peak_GR seqlevel:Chr5...
>> your Txdb seqlevel:Chr1 Chr2 Chr3 Chr4 Chr5 ChrM ChrC...
Good, your Chrs in peak_GR is all in Txdb
>> some scan range may cross Chr bound, trimming... 2022-10-18 19:48:56
>> calculating cor and pvalue, which may be time consuming... 2022-10-18 19:48:57
>> merging all info together... 2022-10-18 19:48:57
>> done 2022-10-18 19:48:57
Good, your two matrix colnames matchs
>> calculating cor and pvalue, which may be time consuming... 2022-10-18 19:48:57
>> merging all info together... 2022-10-18 19:48:57
>> done 2022-10-18 19:48:57
>> checking seqlevels match... 2022-10-18 19:48:57
>> your peak_GR seqlevel:Chr5...
>> your Txdb seqlevel:Chr1 Chr2 Chr3 Chr4 Chr5 ChrM ChrC...
Good, your Chrs in peak_GR is all in Txdb
------------
annotatePeak using geneScan mode begins
>> preparing gene features information and scan region... 2022-10-18 19:48:57
>> some scan range may cross Chr bound, trimming... 2022-10-18 19:48:58
>> finding overlap peak in gene scan region... 2022-10-18 19:48:58
>> dealing with left peak not your gene scan region... 2022-10-18 19:48:58
>> merging two set peaks... 2022-10-18 19:48:58
>> calculating distance and dealing with gene strand... 2022-10-18 19:48:58
>> merging all info together ... 2022-10-18 19:48:58
>> done 2022-10-18 19:48:58
Good, your two matrix colnames matchs
>> calculating cor and pvalue, which may be time consuming... 2022-10-18 19:48:59
>> merging all info together... 2022-10-18 19:48:59
>> done 2022-10-18 19:48:59
>> checking seqlevels match... 2022-10-18 19:48:59
>> your peak_GR seqlevel:Chr5...
>> your Txdb seqlevel:Chr1 Chr2 Chr3 Chr4 Chr5 ChrM ChrC...
Good, your Chrs in peak_GR is all in Txdb
>> using scanPromoter parameter to scan promoter for each gene... 2022-10-18 19:48:59
>> checking seqlevels match... 2022-10-18 19:48:59
>> your peak_GR seqlevel:Chr5...
>> your Txdb seqlevel:Chr1 Chr2 Chr3 Chr4 Chr5 ChrM ChrC...
Good, your Chrs in peak_GR is all in Txdb
>> some scan range may cross Chr bound, trimming... 2022-10-18 19:49:00
>> there are 85 gene have scaned promoter
>> using scanEnhancer parameter to scan Enhancer for each gene... 2022-10-18 19:49:00
>> checking seqlevels match... 2022-10-18 19:49:00
>> your peak_GR seqlevel:Chr5...
>> your Txdb seqlevel:Chr1 Chr2 Chr3 Chr4 Chr5 ChrM ChrC...
Good, your Chrs in peak_GR is all in Txdb
>> some scan range may cross Chr bound, trimming... 2022-10-18 19:49:01
>> calculating cor and pvalue, which may be time consuming... 2022-10-18 19:49:01
>> merging all info together... 2022-10-18 19:49:01
>> done 2022-10-18 19:49:01
Joining, by = "feature_id"
Joining, by = "feature_id"
`geom_smooth()` using formula 'y ~ x'
Joining, by = "feature_id"
Joining, by = "feature_id"
`geom_smooth()` using formula 'y ~ x'
[ FAIL 0 | WARN 0 | SKIP 0 | PASS 65 ]
>
> proc.time()
user system elapsed
62.318 2.063 64.368
FindIT2.Rcheck/FindIT2-Ex.timings
| name | user | system | elapsed | |
| TF_target_database | 0.001 | 0.000 | 0.001 | |
| calcRP_TFHit | 3.449 | 0.160 | 3.652 | |
| calcRP_coverage | 3.369 | 0.432 | 3.802 | |
| calcRP_region | 4.469 | 0.098 | 4.568 | |
| enhancerPromoterCor | 2.541 | 0.036 | 2.578 | |
| findIT_MARA | 0.423 | 0.003 | 0.426 | |
| findIT_TFHit | 0.889 | 0.000 | 0.889 | |
| findIT_TTPair | 0.088 | 0.012 | 0.099 | |
| findIT_enrichFisher | 0.165 | 0.007 | 0.172 | |
| findIT_enrichWilcox | 0.183 | 0.008 | 0.191 | |
| findIT_regionRP | 5.883 | 0.060 | 5.943 | |
| getAssocPairNumber | 1.138 | 0.012 | 1.150 | |
| integrate_ChIP_RNA | 2.010 | 0.008 | 2.018 | |
| integrate_replicates | 0.002 | 0.000 | 0.002 | |
| jaccard_findIT_TTpair | 0.121 | 0.000 | 0.121 | |
| jaccard_findIT_enrichFisher | 0.237 | 0.004 | 0.241 | |
| loadPeakFile | 0.051 | 0.007 | 0.059 | |
| mm_geneBound | 1.159 | 0.008 | 1.167 | |
| mm_geneScan | 1.163 | 0.004 | 1.167 | |
| mm_nearestGene | 1.924 | 0.104 | 2.029 | |
| peakGeneCor | 2.069 | 0.116 | 2.185 | |
| plot_annoDistance | 1.272 | 0.039 | 1.311 | |
| plot_peakGeneAlias_summary | 1.239 | 0.012 | 1.251 | |
| plot_peakGeneCor | 2.541 | 0.027 | 2.570 | |
| test_geneSet | 0.000 | 0.000 | 0.001 | |