| Back to Multiple platform build/check report for BioC 3.15 | 
 | 
This page was generated on 2022-10-19 13:22:55 -0400 (Wed, 19 Oct 2022).
| Hostname | OS | Arch (*) | R version | Installed pkgs | 
|---|---|---|---|---|
| nebbiolo1 | Linux (Ubuntu 20.04.5 LTS) | x86_64 | 4.2.1 (2022-06-23) -- "Funny-Looking Kid" | 4386 | 
| palomino3 | Windows Server 2022 Datacenter | x64 | 4.2.1 (2022-06-23 ucrt) -- "Funny-Looking Kid" | 4138 | 
| merida1 | macOS 10.14.6 Mojave | x86_64 | 4.2.1 (2022-06-23) -- "Funny-Looking Kid" | 4205 | 
| Click on any hostname to see more info about the system (e.g. compilers) (*) as reported by 'uname -p', except on Windows and Mac OS X | ||||
| To the developers/maintainers of the FamAgg package: - Please allow up to 24 hours (and sometimes 48 hours) for your latest push to git@git.bioconductor.org:packages/FamAgg.git to reflect on this report. See How and When does the builder pull? When will my changes propagate? for more information. - Make sure to use the following settings in order to reproduce any error or warning you see on this page. | 
| Package 643/2140 | Hostname | OS / Arch | INSTALL | BUILD | CHECK | BUILD BIN | ||||||||
| FamAgg 1.24.0  (landing page) Johannes Rainer 
 | nebbiolo1 | Linux (Ubuntu 20.04.5 LTS) / x86_64 | OK | OK | OK |  | ||||||||
| palomino3 | Windows Server 2022 Datacenter / x64 | OK | OK | OK | OK |  | ||||||||
| merida1 | macOS 10.14.6 Mojave / x86_64 | OK | OK | OK | OK |  | ||||||||
| Package: FamAgg | 
| Version: 1.24.0 | 
| Command: rm -rf FamAgg.buildbin-libdir && mkdir FamAgg.buildbin-libdir && /Users/biocbuild/BBS/utils/build-universal.sh FamAgg_1.24.0.tar.gz /Library/Frameworks/R.framework/Resources/bin/R FamAgg.buildbin-libdir | 
| StartedAt: 2022-10-19 10:20:29 -0400 (Wed, 19 Oct 2022) | 
| EndedAt: 2022-10-19 10:20:57 -0400 (Wed, 19 Oct 2022) | 
| EllapsedTime: 28.2 seconds | 
| RetCode: 0 | 
| Status: OK | 
| PackageFile: FamAgg_1.24.0.tgz | 
| PackageFileSize: 1.907 MiB | 
############################################################################## ############################################################################## ### ### Running command: ### ### rm -rf FamAgg.buildbin-libdir && mkdir FamAgg.buildbin-libdir && /Users/biocbuild/BBS/utils/build-universal.sh FamAgg_1.24.0.tar.gz /Library/Frameworks/R.framework/Resources/bin/R FamAgg.buildbin-libdir ### ############################################################################## ############################################################################## >>>>>>> >>>>>>> INSTALLATION WITH 'R CMD INSTALL --preclean --no-multiarch --library=FamAgg.buildbin-libdir FamAgg_1.24.0.tar.gz' >>>>>>> * installing *source* package ‘FamAgg’ ... ** using staged installation ** R ** inst ** byte-compile and prepare package for lazy loading Creating a new generic function for ‘pedigree’ in package ‘FamAgg’ in method for ‘countGenerations’ with signature ‘"pedigreeList"’: no definition for class “pedigreeList” in method for ‘countGenerations’ with signature ‘"pedigree"’: no definition for class “pedigree” in method for ‘estimateGenerations’ with signature ‘"pedigree"’: no definition for class “pedigree” in method for ‘estimateGenerations’ with signature ‘"pedigreeList"’: no definition for class “pedigreeList” in method for ‘findFounders’ with signature ‘"pedigreeList"’: no definition for class “pedigreeList” in method for ‘findFounders’ with signature ‘"pedigreeList"’: no definition for class “pedigreeList” in method for ‘generationsFrom’ with signature ‘"pedigree"’: no definition for class “pedigree” in method for ‘generationsFrom’ with signature ‘"pedigreeList"’: no definition for class “pedigreeList” in method for ‘getAncestors’ with signature ‘"pedigreeList"’: no definition for class “pedigreeList” in method for ‘getAncestors’ with signature ‘"pedigree"’: no definition for class “pedigree” in method for ‘getChildren’ with signature ‘"pedigreeList"’: no definition for class “pedigreeList” in method for ‘getChildren’ with signature ‘"pedigree"’: no definition for class “pedigree” in method for ‘getCommonAncestor’ with signature ‘"pedigree"’: no definition for class “pedigree” in method for ‘getCommonAncestor’ with signature ‘"pedigreeList"’: no definition for class “pedigreeList” in method for ‘getMissingMate’ with signature ‘"pedigreeList"’: no definition for class “pedigreeList” in method for ‘getMissingMate’ with signature ‘"pedigree"’: no definition for class “pedigree” in method for ‘getSiblings’ with signature ‘"pedigreeList"’: no definition for class “pedigreeList” in method for ‘getSiblings’ with signature ‘"pedigree"’: no definition for class “pedigree” in method for ‘getAll’ with signature ‘"pedigreeList"’: no definition for class “pedigreeList” in method for ‘getAll’ with signature ‘"pedigree"’: no definition for class “pedigree” in method for ‘getExternalMatched’ with signature ‘"pedigreeList"’: no definition for class “pedigreeList” in method for ‘getExternalMatched’ with signature ‘"pedigree"’: no definition for class “pedigree” in method for ‘getGenerationMatched’ with signature ‘"pedigreeList"’: no definition for class “pedigreeList” in method for ‘getGenerationMatched’ with signature ‘"pedigree"’: no definition for class “pedigree” in method for ‘getGenerationSexMatched’ with signature ‘"pedigreeList"’: no definition for class “pedigreeList” in method for ‘getGenerationSexMatched’ with signature ‘"pedigree"’: no definition for class “pedigree” in method for ‘getSexMatched’ with signature ‘"pedigreeList"’: no definition for class “pedigreeList” in method for ‘getSexMatched’ with signature ‘"pedigree"’: no definition for class “pedigree” ** help *** installing help indices ** building package indices ** installing vignettes ** testing if installed package can be loaded from temporary location ** testing if installed package can be loaded from final location ** testing if installed package keeps a record of temporary installation path * DONE (FamAgg)