| Back to Multiple platform build/check report for BioC 3.15 |
|
This page was generated on 2022-03-18 11:07:30 -0400 (Fri, 18 Mar 2022).
| Hostname | OS | Arch (*) | R version | Installed pkgs |
|---|---|---|---|---|
| nebbiolo1 | Linux (Ubuntu 20.04.4 LTS) | x86_64 | R Under development (unstable) (2022-02-17 r81757) -- "Unsuffered Consequences" | 4334 |
| riesling1 | Windows Server 2019 Standard | x64 | R Under development (unstable) (2021-11-21 r81221) -- "Unsuffered Consequences" | 4097 |
| palomino3 | Windows Server 2022 Datacenter | x64 | R Under development (unstable) (2022-02-17 r81757 ucrt) -- "Unsuffered Consequences" | 4083 |
| merida1 | macOS 10.14.6 Mojave | x86_64 | R Under development (unstable) (2022-03-02 r81842) -- "Unsuffered Consequences" | 4134 |
| Click on any hostname to see more info about the system (e.g. compilers) (*) as reported by 'uname -p', except on Windows and Mac OS X | ||||
|
To the developers/maintainers of the FGNet package: - Please allow up to 24 hours (and sometimes 48 hours) for your latest push to git@git.bioconductor.org:packages/FGNet.git to reflect on this report. See How and When does the builder pull? When will my changes propagate? here for more information. - Make sure to use the following settings in order to reproduce any error or warning you see on this page. |
| Package 642/2090 | Hostname | OS / Arch | INSTALL | BUILD | CHECK | BUILD BIN | ||||||||
| FGNet 3.29.0 (landing page) Sara Aibar
| nebbiolo1 | Linux (Ubuntu 20.04.4 LTS) / x86_64 | OK | OK | ERROR | |||||||||
| riesling1 | Windows Server 2019 Standard / x64 | OK | OK | OK | OK | |||||||||
| palomino3 | Windows Server 2022 Datacenter / x64 | OK | OK | ERROR | OK | |||||||||
| merida1 | macOS 10.14.6 Mojave / x86_64 | OK | OK | ERROR | OK | |||||||||
| Package: FGNet |
| Version: 3.29.0 |
| Command: D:\biocbuild\bbs-3.15-bioc\R\bin\R.exe CMD check --no-multiarch --install=check:FGNet.install-out.txt --library=D:\biocbuild\bbs-3.15-bioc\R\library --no-vignettes --timings FGNet_3.29.0.tar.gz |
| StartedAt: 2022-03-17 19:05:30 -0400 (Thu, 17 Mar 2022) |
| EndedAt: 2022-03-17 19:06:37 -0400 (Thu, 17 Mar 2022) |
| EllapsedTime: 66.8 seconds |
| RetCode: 0 |
| Status: OK |
| CheckDir: FGNet.Rcheck |
| Warnings: 0 |
##############################################################################
##############################################################################
###
### Running command:
###
### D:\biocbuild\bbs-3.15-bioc\R\bin\R.exe CMD check --no-multiarch --install=check:FGNet.install-out.txt --library=D:\biocbuild\bbs-3.15-bioc\R\library --no-vignettes --timings FGNet_3.29.0.tar.gz
###
##############################################################################
##############################################################################
* using log directory 'D:/biocbuild/bbs-3.15-bioc/meat/FGNet.Rcheck'
* using R Under development (unstable) (2021-11-21 r81221)
* using platform: x86_64-w64-mingw32 (64-bit)
* using session charset: ISO8859-1
* using option '--no-vignettes'
* checking for file 'FGNet/DESCRIPTION' ... OK
* checking extension type ... Package
* this is package 'FGNet' version '3.29.0'
* checking package namespace information ... OK
* checking package dependencies ... OK
* checking if this is a source package ... OK
* checking if there is a namespace ... OK
* checking for hidden files and directories ... OK
* checking for portable file names ... OK
* checking whether package 'FGNet' can be installed ... OK
* checking installed package size ... OK
* checking package directory ... OK
* checking 'build' directory ... OK
* checking DESCRIPTION meta-information ... OK
* checking top-level files ... OK
* checking for left-over files ... OK
* checking index information ... OK
* checking package subdirectories ... OK
* checking R files for non-ASCII characters ... OK
* checking R files for syntax errors ... OK
* checking whether the package can be loaded ... OK
* checking whether the package can be loaded with stated dependencies ... OK
* checking whether the package can be unloaded cleanly ... OK
* checking whether the namespace can be loaded with stated dependencies ... OK
* checking whether the namespace can be unloaded cleanly ... OK
* checking dependencies in R code ... OK
* checking S3 generic/method consistency ... OK
* checking replacement functions ... OK
* checking foreign function calls ... OK
* checking R code for possible problems ... NOTE
buildGeneSets: no visible global function definition for 'columns'
buildGeneSets: no visible binding for global variable 'GO.db'
buildGeneSets: no visible binding for global variable
'reactomePATHID2NAME'
fea_gage: no visible global function definition for 'exprs'
fea_gage: no visible global function definition for 'gage'
fea_gage: no visible global function definition for 'esset.grp'
fea_gtLinker_getResults: no visible global function definition for
'url.exists'
fea_topGO: no visible global function definition for 'groupGOTerms'
fea_topGO: no visible binding for global variable 'annFUN.gene2GO'
fea_topGO: no visible global function definition for 'getSigGroups'
fea_topGO: no visible global function definition for 'GenTable'
fea_topGO : <anonymous>: no visible global function definition for
'genesInTerm'
fea_topGO : <anonymous>: no visible global function definition for
'sigGenes'
formatResultsFile: no visible binding for global variable 'rawResults'
format_david: no visible global function definition for 'getURL'
plotGoAncestors : <anonymous>: no visible binding for global variable
'GOTERM'
processFile: no visible binding for '<<-' assignment to 'rawResults'
processFile: no visible binding for global variable 'rawResults'
refList: no visible global function definition for 'columns'
submitQuery: no visible global function definition for 'readList'
tabFEA_fill: no visible binding for global variable 'GtkShadowType'
tabFEA_fill: no visible global function definition for 'gtkVBox'
tabFEA_fill: no visible global function definition for
'pangoFontDescriptionFromString'
tabFEA_fill: no visible global function definition for
'gtkFrameSetShadowType'
tabFEA_fill: no visible global function definition for 'gtkEntryNew'
tabFEA_fill: no visible global function definition for 'newDavidVars'
tabFEA_fill: no visible global function definition for 'tabDavid_fill'
tabFEA_fill: no visible binding for '<<-' assignment to 'rawResults'
tabFEA_fill: no visible global function definition for 'gtkLabelNew'
tabGTL_fill: no visible binding for global variable 'GtkShadowType'
tabGage_fill: no visible binding for global variable 'GtkShadowType'
tabHelp_fill: no visible binding for global variable 'GtkShadowType'
tabNetwork_common_fill: no visible binding for global variable
'GtkShadowType'
tabNetwork_common_fill: no visible global function definition for
'pangoFontDescriptionFromString'
tabNetwork_common_fill: no visible global function definition for
'gSignalConnect'
tabNetwork_fill: no visible global function definition for
'gtkLabelNew'
tabOther_fill: no visible binding for global variable 'GtkShadowType'
tabOther_fill : <anonymous>: no visible binding for global variable
'GtkShadowType'
tabPlotNetwork_fill: no visible binding for global variable
'GtkShadowType'
tabSubNetwork_fill: no visible binding for global variable
'GtkShadowType'
tabTopGo_fill: no visible binding for global variable 'GtkShadowType'
tabTopGo_fill: no visible binding for global variable 'evidenceScroll'
viewFile: no visible binding for global variable 'rawResults'
Undefined global functions or variables:
GO.db GOTERM GenTable GtkShadowType annFUN.gene2GO columns esset.grp
evidenceScroll exprs gSignalConnect gage genesInTerm getSigGroups
getURL groupGOTerms gtkEntryNew gtkFrameSetShadowType gtkLabelNew
gtkVBox newDavidVars pangoFontDescriptionFromString rawResults
reactomePATHID2NAME readList sigGenes tabDavid_fill url.exists
* checking Rd files ... OK
* checking Rd metadata ... OK
* checking Rd cross-references ... OK
* checking for missing documentation entries ... OK
* checking for code/documentation mismatches ... OK
* checking Rd \usage sections ... OK
* checking Rd contents ... OK
* checking for unstated dependencies in examples ... OK
* checking contents of 'data' directory ... OK
* checking data for non-ASCII characters ... OK
* checking data for ASCII and uncompressed saves ... OK
* checking files in 'vignettes' ... OK
* checking examples ... OK
Examples with CPU (user + system) or elapsed time > 5s
user system elapsed
plotGoAncestors 6.46 1.21 7.67
* checking for unstated dependencies in 'tests' ... OK
* checking tests ...
Running 'runTests.R'
OK
* checking for unstated dependencies in vignettes ... OK
* checking package vignettes in 'inst/doc' ... OK
* checking running R code from vignettes ... SKIPPED
* checking re-building of vignette outputs ... SKIPPED
* checking PDF version of manual ... OK
* DONE
Status: 1 NOTE
See
'D:/biocbuild/bbs-3.15-bioc/meat/FGNet.Rcheck/00check.log'
for details.
FGNet.Rcheck/00install.out
##############################################################################
##############################################################################
###
### Running command:
###
### D:\biocbuild\bbs-3.15-bioc\R\bin\R.exe CMD INSTALL FGNet
###
##############################################################################
##############################################################################
* installing to library 'D:/biocbuild/bbs-3.15-bioc/R/library'
* installing *source* package 'FGNet' ...
** using staged installation
** R
** data
** inst
** byte-compile and prepare package for lazy loading
** help
*** installing help indices
converting help for package 'FGNet'
finding HTML links ... done
FGNet-package html
FGNet_GUI html
FGNet_report html
analyzeNetwork html
clustersDistance html
data html
fea2incidMat html
fea_gage html
fea_gtLinker html
fea_topGO html
format_david html
format_results html
functionalNetwork html
getTerms html
keywordsTerm html
plotGoAncestors html
readGeneTermSets html
** building package indices
** installing vignettes
** testing if installed package can be loaded from temporary location
** testing if installed package can be loaded from final location
** testing if installed package keeps a record of temporary installation path
* DONE (FGNet)
Making 'packages.html' ... done
FGNet.Rcheck/tests/runTests.Rout
R Under development (unstable) (2021-11-21 r81221) -- "Unsuffered Consequences"
Copyright (C) 2021 The R Foundation for Statistical Computing
Platform: x86_64-w64-mingw32/x64 (64-bit)
R is free software and comes with ABSOLUTELY NO WARRANTY.
You are welcome to redistribute it under certain conditions.
Type 'license()' or 'licence()' for distribution details.
R is a collaborative project with many contributors.
Type 'contributors()' for more information and
'citation()' on how to cite R or R packages in publications.
Type 'demo()' for some demos, 'help()' for on-line help, or
'help.start()' for an HTML browser interface to help.
Type 'q()' to quit R.
> BiocGenerics:::testPackage("FGNet")
RUNIT TEST PROTOCOL -- Thu Mar 17 19:06:25 2022
***********************************************
Number of test functions: 1
Number of errors: 0
Number of failures: 0
1 Test Suite :
FGNet RUnit Tests - 1 test function, 0 errors, 0 failures
Number of test functions: 1
Number of errors: 0
Number of failures: 0
>
> proc.time()
user system elapsed
0.73 0.04 0.76
FGNet.Rcheck/FGNet-Ex.timings
| name | user | system | elapsed | |
| FGNet-package | 0 | 0 | 0 | |
| FGNet_GUI | 0 | 0 | 0 | |
| FGNet_report | 0 | 0 | 0 | |
| analyzeNetwork | 0 | 0 | 0 | |
| clustersDistance | 0 | 0 | 0 | |
| fea2incidMat | 0.00 | 0.01 | 0.02 | |
| fea_gage | 0 | 0 | 0 | |
| fea_gtLinker | 0 | 0 | 0 | |
| fea_topGO | 0 | 0 | 0 | |
| format_david | 0.54 | 0.03 | 0.59 | |
| format_results | 0 | 0 | 0 | |
| functionalNetwork | 0 | 0 | 0 | |
| getTerms | 0 | 0 | 0 | |
| keywordsTerm | 0 | 0 | 0 | |
| plotGoAncestors | 6.46 | 1.21 | 7.67 | |