| Back to Multiple platform build/check report for BioC 3.15 | 
  | 
This page was generated on 2022-03-18 11:07:27 -0400 (Fri, 18 Mar 2022).
| Hostname | OS | Arch (*) | R version | Installed pkgs | 
|---|---|---|---|---|
| nebbiolo1 | Linux (Ubuntu 20.04.4 LTS) | x86_64 | R Under development (unstable) (2022-02-17 r81757) -- "Unsuffered Consequences" | 4334 | 
| riesling1 | Windows Server 2019 Standard | x64 | R Under development (unstable) (2021-11-21 r81221) -- "Unsuffered Consequences" | 4097 | 
| palomino3 | Windows Server 2022 Datacenter | x64 | R Under development (unstable) (2022-02-17 r81757 ucrt) -- "Unsuffered Consequences" | 4083 | 
| merida1 | macOS 10.14.6 Mojave | x86_64 | R Under development (unstable) (2022-03-02 r81842) -- "Unsuffered Consequences" | 4134 | 
| Click on any hostname to see more info about the system (e.g. compilers) (*) as reported by 'uname -p', except on Windows and Mac OS X | ||||
| 
To the developers/maintainers of the EnrichedHeatmap package: - Please allow up to 24 hours (and sometimes 48 hours) for your latest push to git@git.bioconductor.org:packages/EnrichedHeatmap.git to reflect on this report. See How and When does the builder pull? When will my changes propagate? here for more information. - Make sure to use the following settings in order to reproduce any error or warning you see on this page.  | 
| Package 584/2090 | Hostname | OS / Arch | INSTALL | BUILD | CHECK | BUILD BIN | ||||||||
| EnrichedHeatmap 1.25.1  (landing page) Zuguang Gu 
  | nebbiolo1 | Linux (Ubuntu 20.04.4 LTS) / x86_64 | OK | OK | OK | |||||||||
| riesling1 | Windows Server 2019 Standard / x64 | OK | OK | OK | OK | |||||||||
| palomino3 | Windows Server 2022 Datacenter / x64 | OK | OK | OK | OK | |||||||||
| merida1 | macOS 10.14.6 Mojave / x86_64 | OK | OK | OK | OK | |||||||||
| Package: EnrichedHeatmap | 
| Version: 1.25.1 | 
| Command: rm -rf EnrichedHeatmap.buildbin-libdir && mkdir EnrichedHeatmap.buildbin-libdir && D:\biocbuild\bbs-3.15-bioc\R\bin\R.exe CMD INSTALL --build --library=EnrichedHeatmap.buildbin-libdir EnrichedHeatmap_1.25.1.tar.gz | 
| StartedAt: 2022-03-17 21:06:31 -0400 (Thu, 17 Mar 2022) | 
| EndedAt: 2022-03-17 21:07:58 -0400 (Thu, 17 Mar 2022) | 
| EllapsedTime: 86.6 seconds | 
| RetCode: 0 | 
| Status: OK | 
| PackageFile: EnrichedHeatmap_1.25.1.zip | 
| PackageFileSize: 6.267 MiB | 
##############################################################################
##############################################################################
###
### Running command:
###
###   rm -rf EnrichedHeatmap.buildbin-libdir && mkdir EnrichedHeatmap.buildbin-libdir && D:\biocbuild\bbs-3.15-bioc\R\bin\R.exe CMD INSTALL --build --library=EnrichedHeatmap.buildbin-libdir EnrichedHeatmap_1.25.1.tar.gz
###
##############################################################################
##############################################################################
* installing *source* package 'EnrichedHeatmap' ...
** using staged installation
** libs
"C:/rtools40/mingw64/bin/"g++ -std=gnu++11  -I"D:/biocbuild/bbs-3.15-bioc/R/include" -DNDEBUG  -I'D:/biocbuild/bbs-3.15-bioc/R/library/Rcpp/include'   -I"C:/extsoft/include"     -O2 -Wall  -mfpmath=sse -msse2 -mstackrealign -fno-reorder-blocks-and-partition  -c RcppExports.cpp -o RcppExports.o
"C:/rtools40/mingw64/bin/"g++ -std=gnu++11  -I"D:/biocbuild/bbs-3.15-bioc/R/include" -DNDEBUG  -I'D:/biocbuild/bbs-3.15-bioc/R/library/Rcpp/include'   -I"C:/extsoft/include"     -O2 -Wall  -mfpmath=sse -msse2 -mstackrealign -fno-reorder-blocks-and-partition  -c dist_by_closeness.cpp -o dist_by_closeness.o
C:/rtools40/mingw64/bin/g++ -std=gnu++11 -shared -s -static-libgcc -o EnrichedHeatmap.dll tmp.def RcppExports.o dist_by_closeness.o -LC:/extsoft/lib/x64 -LC:/extsoft/lib -LD:/biocbuild/bbs-3.15-bioc/R/bin/x64 -lR
installing to D:/biocbuild/bbs-3.15-bioc/meat/EnrichedHeatmap.buildbin-libdir/00LOCK-EnrichedHeatmap/00new/EnrichedHeatmap/libs/x64
** R
** inst
** byte-compile and prepare package for lazy loading
** help
*** installing help indices
  converting help for package 'EnrichedHeatmap'
    finding HTML links ... done
    EnrichedHeatmap                         html  
    finding level-2 HTML links ... done
    Extract.normalizedMatrix                html  
    anno_enriched                           html  
    as.normalizedMatrix                     html  
    copyAttr                                html  
    default_smooth_fun                      html  
    discretize                              html  
    dist_by_closeness                       html  
    enriched_score                          html  
    extract_anno_enriched                   html  
    failed_rows                             html  
    getSignalsFromList                      html  
    makeWindows                             html  
    normalizeToMatrix                       html  
    print.normalizedMatrix                  html  
    rbind.normalizedMatrix                  html  
** building package indices
** installing vignettes
** testing if installed package can be loaded from temporary location
** testing if installed package can be loaded from final location
** testing if installed package keeps a record of temporary installation path
* MD5 sums
packaged installation of 'EnrichedHeatmap' as EnrichedHeatmap_1.25.1.zip
* DONE (EnrichedHeatmap)