| Back to Multiple platform build/check report for BioC 3.15 |
|
This page was generated on 2022-03-18 11:07:20 -0400 (Fri, 18 Mar 2022).
| Hostname | OS | Arch (*) | R version | Installed pkgs |
|---|---|---|---|---|
| nebbiolo1 | Linux (Ubuntu 20.04.4 LTS) | x86_64 | R Under development (unstable) (2022-02-17 r81757) -- "Unsuffered Consequences" | 4334 |
| riesling1 | Windows Server 2019 Standard | x64 | R Under development (unstable) (2021-11-21 r81221) -- "Unsuffered Consequences" | 4097 |
| palomino3 | Windows Server 2022 Datacenter | x64 | R Under development (unstable) (2022-02-17 r81757 ucrt) -- "Unsuffered Consequences" | 4083 |
| merida1 | macOS 10.14.6 Mojave | x86_64 | R Under development (unstable) (2022-03-02 r81842) -- "Unsuffered Consequences" | 4134 |
| Click on any hostname to see more info about the system (e.g. compilers) (*) as reported by 'uname -p', except on Windows and Mac OS X | ||||
|
To the developers/maintainers of the DelayedMatrixStats package: - Please allow up to 24 hours (and sometimes 48 hours) for your latest push to git@git.bioconductor.org:packages/DelayedMatrixStats.git to reflect on this report. See How and When does the builder pull? When will my changes propagate? here for more information. - Make sure to use the following settings in order to reproduce any error or warning you see on this page. |
| Package 485/2090 | Hostname | OS / Arch | INSTALL | BUILD | CHECK | BUILD BIN | ||||||||
| DelayedMatrixStats 1.17.0 (landing page) Peter Hickey
| nebbiolo1 | Linux (Ubuntu 20.04.4 LTS) / x86_64 | OK | OK | OK | |||||||||
| riesling1 | Windows Server 2019 Standard / x64 | OK | OK | OK | OK | |||||||||
| palomino3 | Windows Server 2022 Datacenter / x64 | OK | OK | OK | OK | |||||||||
| merida1 | macOS 10.14.6 Mojave / x86_64 | OK | OK | OK | OK | |||||||||
| Package: DelayedMatrixStats |
| Version: 1.17.0 |
| Command: D:\biocbuild\bbs-3.15-bioc\R\bin\R.exe CMD check --no-multiarch --install=check:DelayedMatrixStats.install-out.txt --library=D:\biocbuild\bbs-3.15-bioc\R\library --no-vignettes --timings DelayedMatrixStats_1.17.0.tar.gz |
| StartedAt: 2022-03-17 18:54:00 -0400 (Thu, 17 Mar 2022) |
| EndedAt: 2022-03-17 18:57:51 -0400 (Thu, 17 Mar 2022) |
| EllapsedTime: 231.1 seconds |
| RetCode: 0 |
| Status: OK |
| CheckDir: DelayedMatrixStats.Rcheck |
| Warnings: 0 |
############################################################################## ############################################################################## ### ### Running command: ### ### D:\biocbuild\bbs-3.15-bioc\R\bin\R.exe CMD check --no-multiarch --install=check:DelayedMatrixStats.install-out.txt --library=D:\biocbuild\bbs-3.15-bioc\R\library --no-vignettes --timings DelayedMatrixStats_1.17.0.tar.gz ### ############################################################################## ############################################################################## * using log directory 'D:/biocbuild/bbs-3.15-bioc/meat/DelayedMatrixStats.Rcheck' * using R Under development (unstable) (2021-11-21 r81221) * using platform: x86_64-w64-mingw32 (64-bit) * using session charset: ISO8859-1 * using option '--no-vignettes' * checking for file 'DelayedMatrixStats/DESCRIPTION' ... OK * checking extension type ... Package * this is package 'DelayedMatrixStats' version '1.17.0' * package encoding: UTF-8 * checking package namespace information ... OK * checking package dependencies ... OK * checking if this is a source package ... OK * checking if there is a namespace ... OK * checking for hidden files and directories ... OK * checking for portable file names ... OK * checking whether package 'DelayedMatrixStats' can be installed ... OK * checking installed package size ... OK * checking package directory ... OK * checking 'build' directory ... OK * checking DESCRIPTION meta-information ... OK * checking top-level files ... OK * checking for left-over files ... OK * checking index information ... OK * checking package subdirectories ... OK * checking R files for non-ASCII characters ... OK * checking R files for syntax errors ... OK * checking whether the package can be loaded ... OK * checking whether the package can be loaded with stated dependencies ... OK * checking whether the package can be unloaded cleanly ... OK * checking whether the namespace can be loaded with stated dependencies ... OK * checking whether the namespace can be unloaded cleanly ... OK * checking dependencies in R code ... NOTE Missing object imported by a ':::' call: 'DelayedArray:::.reduce_array_dimensions' Unexported objects imported by ':::' calls: 'DelayedArray:::.get_ans_type' 'DelayedArray:::RleArraySeed' 'DelayedArray:::get_Nindex_lengths' 'DelayedArray:::set_dim' 'DelayedArray:::set_dimnames' 'DelayedArray:::subset_by_Nindex' 'DelayedArray:::to_linear_index' See the note in ?`:::` about the use of this operator. * checking S3 generic/method consistency ... OK * checking replacement functions ... OK * checking foreign function calls ... OK * checking R code for possible problems ... OK * checking Rd files ... OK * checking Rd metadata ... OK * checking Rd cross-references ... OK * checking for missing documentation entries ... OK * checking for code/documentation mismatches ... OK * checking Rd \usage sections ... OK * checking Rd contents ... OK * checking for unstated dependencies in examples ... OK * checking files in 'vignettes' ... OK * checking examples ... OK * checking for unstated dependencies in 'tests' ... OK * checking tests ... Running 'testthat.R' OK * checking for unstated dependencies in vignettes ... OK * checking package vignettes in 'inst/doc' ... OK * checking running R code from vignettes ... SKIPPED * checking re-building of vignette outputs ... SKIPPED * checking PDF version of manual ... OK * DONE Status: 1 NOTE See 'D:/biocbuild/bbs-3.15-bioc/meat/DelayedMatrixStats.Rcheck/00check.log' for details.
DelayedMatrixStats.Rcheck/00install.out
##############################################################################
##############################################################################
###
### Running command:
###
### D:\biocbuild\bbs-3.15-bioc\R\bin\R.exe CMD INSTALL DelayedMatrixStats
###
##############################################################################
##############################################################################
* installing to library 'D:/biocbuild/bbs-3.15-bioc/R/library'
* installing *source* package 'DelayedMatrixStats' ...
** using staged installation
** R
** inst
** byte-compile and prepare package for lazy loading
** help
*** installing help indices
converting help for package 'DelayedMatrixStats'
finding HTML links ... done
DelayedMatrixStats html
colAlls html
finding level-2 HTML links ... done
colAnyNAs html
colAvgsPerRowSet html
colCollapse html
colCounts html
colCummaxs html
colDiffs html
colIQRDiffs html
colIQRs html
colLogSumExps html
colMads html
colMeans2 html
colMedians html
colOrderStats html
colProds html
colQuantiles html
colRanks html
colSums2 html
colTabulates html
colVars html
colWeightedMads html
colWeightedMeans html
colWeightedMedians html
colWeightedVars html
from_DelayedArray_to_simple_seed_class
html
reexports html
subset_by_Nindex html
** building package indices
** installing vignettes
** testing if installed package can be loaded from temporary location
** testing if installed package can be loaded from final location
** testing if installed package keeps a record of temporary installation path
* DONE (DelayedMatrixStats)
Making 'packages.html' ... done
DelayedMatrixStats.Rcheck/tests/testthat.Rout
R Under development (unstable) (2021-11-21 r81221) -- "Unsuffered Consequences"
Copyright (C) 2021 The R Foundation for Statistical Computing
Platform: x86_64-w64-mingw32/x64 (64-bit)
R is free software and comes with ABSOLUTELY NO WARRANTY.
You are welcome to redistribute it under certain conditions.
Type 'license()' or 'licence()' for distribution details.
R is a collaborative project with many contributors.
Type 'contributors()' for more information and
'citation()' on how to cite R or R packages in publications.
Type 'demo()' for some demos, 'help()' for on-line help, or
'help.start()' for an HTML browser interface to help.
Type 'q()' to quit R.
> library(testthat)
> library(DelayedMatrixStats)
Loading required package: MatrixGenerics
Loading required package: matrixStats
Attaching package: 'MatrixGenerics'
The following objects are masked from 'package:matrixStats':
colAlls, colAnyNAs, colAnys, colAvgsPerRowSet, colCollapse,
colCounts, colCummaxs, colCummins, colCumprods, colCumsums,
colDiffs, colIQRDiffs, colIQRs, colLogSumExps, colMadDiffs,
colMads, colMaxs, colMeans2, colMedians, colMins, colOrderStats,
colProds, colQuantiles, colRanges, colRanks, colSdDiffs, colSds,
colSums2, colTabulates, colVarDiffs, colVars, colWeightedMads,
colWeightedMeans, colWeightedMedians, colWeightedSds,
colWeightedVars, rowAlls, rowAnyNAs, rowAnys, rowAvgsPerColSet,
rowCollapse, rowCounts, rowCummaxs, rowCummins, rowCumprods,
rowCumsums, rowDiffs, rowIQRDiffs, rowIQRs, rowLogSumExps,
rowMadDiffs, rowMads, rowMaxs, rowMeans2, rowMedians, rowMins,
rowOrderStats, rowProds, rowQuantiles, rowRanges, rowRanks,
rowSdDiffs, rowSds, rowSums2, rowTabulates, rowVarDiffs, rowVars,
rowWeightedMads, rowWeightedMeans, rowWeightedMedians,
rowWeightedSds, rowWeightedVars
Loading required package: DelayedArray
Loading required package: stats4
Loading required package: Matrix
Loading required package: BiocGenerics
Attaching package: 'BiocGenerics'
The following objects are masked from 'package:stats':
IQR, mad, sd, var, xtabs
The following objects are masked from 'package:base':
Filter, Find, Map, Position, Reduce, anyDuplicated, append,
as.data.frame, basename, cbind, colnames, dirname, do.call,
duplicated, eval, evalq, get, grep, grepl, intersect, is.unsorted,
lapply, mapply, match, mget, order, paste, pmax, pmax.int, pmin,
pmin.int, rank, rbind, rownames, sapply, setdiff, sort, table,
tapply, union, unique, unsplit, which.max, which.min
Loading required package: S4Vectors
Attaching package: 'S4Vectors'
The following objects are masked from 'package:Matrix':
expand, unname
The following objects are masked from 'package:base':
I, expand.grid, unname
Loading required package: IRanges
Attaching package: 'IRanges'
The following object is masked from 'package:grDevices':
windows
Attaching package: 'DelayedArray'
The following objects are masked from 'package:base':
aperm, apply, rowsum, scale, sweep
Attaching package: 'DelayedMatrixStats'
The following objects are masked from 'package:matrixStats':
colAnyMissings, rowAnyMissings
>
> test_check("DelayedMatrixStats")
Loading required package: rhdf5
Attaching package: 'HDF5Array'
The following object is masked from 'package:rhdf5':
h5ls
[ FAIL 0 | WARN 0 | SKIP 1 | PASS 14731 ]
== Skipped tests ===============================================================
* On Windows (1)
[ FAIL 0 | WARN 0 | SKIP 1 | PASS 14731 ]
>
> proc.time()
user system elapsed
121.95 6.53 135.73
DelayedMatrixStats.Rcheck/DelayedMatrixStats-Ex.timings
| name | user | system | elapsed | |
| colAlls | 0.06 | 0.00 | 0.06 | |
| colAnyNAs | 0.32 | 0.04 | 0.35 | |
| colAvgsPerRowSet | 0.16 | 0.00 | 0.16 | |
| colCollapse | 0.06 | 0.01 | 0.09 | |
| colCounts | 0.06 | 0.00 | 0.06 | |
| colCummaxs | 0.08 | 0.02 | 0.10 | |
| colDiffs | 0.06 | 0.01 | 0.15 | |
| colIQRDiffs | 0.08 | 0.00 | 0.08 | |
| colIQRs | 0 | 0 | 0 | |
| colLogSumExps | 0.01 | 0.00 | 0.01 | |
| colMads | 0.05 | 0.00 | 0.05 | |
| colMeans2 | 0.02 | 0.00 | 0.02 | |
| colMedians | 0.01 | 0.00 | 0.01 | |
| colOrderStats | 0.03 | 0.00 | 0.03 | |
| colProds | 0.05 | 0.00 | 0.08 | |
| colQuantiles | 0.02 | 0.00 | 0.02 | |
| colRanks | 0.03 | 0.00 | 0.03 | |
| colSums2 | 0 | 0 | 0 | |
| colTabulates | 0.08 | 0.00 | 0.08 | |
| colVars | 0.07 | 0.00 | 0.07 | |
| colWeightedMads | 0 | 0 | 0 | |
| colWeightedMeans | 0.02 | 0.00 | 0.02 | |
| colWeightedMedians | 0.01 | 0.00 | 0.02 | |
| colWeightedVars | 0.05 | 0.00 | 0.04 | |