| Back to Multiple platform build/check report for BioC 3.15 | 
  | 
This page was generated on 2022-03-12 11:06:57 -0500 (Sat, 12 Mar 2022).
| Hostname | OS | Arch (*) | R version | Installed pkgs | 
|---|---|---|---|---|
| nebbiolo1 | Linux (Ubuntu 20.04.4 LTS) | x86_64 | R Under development (unstable) (2022-02-17 r81757) -- "Unsuffered Consequences" | 4335 | 
| riesling1 | Windows Server 2019 Standard | x64 | R Under development (unstable) (2021-11-21 r81221) -- "Unsuffered Consequences" | 4097 | 
| palomino3 | Windows Server 2022 Datacenter | x64 | R Under development (unstable) (2022-02-17 r81757 ucrt) -- "Unsuffered Consequences" | 4073 | 
| merida1 | macOS 10.14.6 Mojave | x86_64 | R Under development (unstable) (2022-03-02 r81842) -- "Unsuffered Consequences" | 4134 | 
| Click on any hostname to see more info about the system (e.g. compilers) (*) as reported by 'uname -p', except on Windows and Mac OS X | ||||
| 
To the developers/maintainers of the DeepPINCS package: - Please allow up to 24 hours (and sometimes 48 hours) for your latest push to git@git.bioconductor.org:packages/DeepPINCS.git to reflect on this report. See How and When does the builder pull? When will my changes propagate? here for more information. - Make sure to use the following settings in order to reproduce any error or warning you see on this page.  | 
| Package 476/2090 | Hostname | OS / Arch | INSTALL | BUILD | CHECK | BUILD BIN | ||||||||
| DeepPINCS 1.3.6  (landing page) Dongmin Jung 
  | nebbiolo1 | Linux (Ubuntu 20.04.4 LTS) / x86_64 | OK | OK | OK | |||||||||
| riesling1 | Windows Server 2019 Standard / x64 | OK | OK | OK | OK | |||||||||
| palomino3 | Windows Server 2022 Datacenter / x64 | OK | ERROR | skipped | skipped | |||||||||
| merida1 | macOS 10.14.6 Mojave / x86_64 | OK | OK | OK | OK | |||||||||
| Package: DeepPINCS | 
| Version: 1.3.6 | 
| Command: rm -rf DeepPINCS.buildbin-libdir && mkdir DeepPINCS.buildbin-libdir && D:\biocbuild\bbs-3.15-bioc\R\bin\R.exe CMD INSTALL --build --library=DeepPINCS.buildbin-libdir DeepPINCS_1.3.6.tar.gz | 
| StartedAt: 2022-03-11 21:07:57 -0500 (Fri, 11 Mar 2022) | 
| EndedAt: 2022-03-11 21:09:16 -0500 (Fri, 11 Mar 2022) | 
| EllapsedTime: 78.3 seconds | 
| RetCode: 0 | 
| Status: OK | 
| PackageFile: DeepPINCS_1.3.6.zip | 
| PackageFileSize: 2.86 MiB | 
##############################################################################
##############################################################################
###
### Running command:
###
###   rm -rf DeepPINCS.buildbin-libdir && mkdir DeepPINCS.buildbin-libdir && D:\biocbuild\bbs-3.15-bioc\R\bin\R.exe CMD INSTALL --build --library=DeepPINCS.buildbin-libdir DeepPINCS_1.3.6.tar.gz
###
##############################################################################
##############################################################################
* installing *source* package 'DeepPINCS' ...
** using staged installation
** R
** data
*** moving datasets to lazyload DB
** inst
** byte-compile and prepare package for lazy loading
** help
*** installing help indices
  converting help for package 'DeepPINCS'
    finding HTML links ... done
    SARS_CoV2_3CL_Protease                  html  
    antiviral_drug                          html  
    cpi_model                               html  
    encoder_in_out                          html  
    example_bioassay                        html  
    example_cci                             html  
    example_chem                            html  
    example_cpi                             html  
    example_pd                              html  
    example_ppi                             html  
    example_prot                            html  
    get_canonical_smiles                    html  
    get_fingerprint                         html  
    get_graph_structure_node_feature        html  
    get_seq_encode_pad                      html  
    metric_concordance_index                html  
    metric_f1_score                         html  
    multiple_sampling_generator             html  
    seq_check                               html  
    seq_preprocessing                       html  
** building package indices
** installing vignettes
** testing if installed package can be loaded from temporary location
** testing if installed package can be loaded from final location
** testing if installed package keeps a record of temporary installation path
* MD5 sums
packaged installation of 'DeepPINCS' as DeepPINCS_1.3.6.zip
* DONE (DeepPINCS)