| Back to Multiple platform build/check report for BioC 3.15 |
|
This page was generated on 2022-03-18 11:07:25 -0400 (Fri, 18 Mar 2022).
| Hostname | OS | Arch (*) | R version | Installed pkgs |
|---|---|---|---|---|
| nebbiolo1 | Linux (Ubuntu 20.04.4 LTS) | x86_64 | R Under development (unstable) (2022-02-17 r81757) -- "Unsuffered Consequences" | 4334 |
| riesling1 | Windows Server 2019 Standard | x64 | R Under development (unstable) (2021-11-21 r81221) -- "Unsuffered Consequences" | 4097 |
| palomino3 | Windows Server 2022 Datacenter | x64 | R Under development (unstable) (2022-02-17 r81757 ucrt) -- "Unsuffered Consequences" | 4083 |
| merida1 | macOS 10.14.6 Mojave | x86_64 | R Under development (unstable) (2022-03-02 r81842) -- "Unsuffered Consequences" | 4134 |
| Click on any hostname to see more info about the system (e.g. compilers) (*) as reported by 'uname -p', except on Windows and Mac OS X | ||||
|
To the developers/maintainers of the DTA package: - Please allow up to 24 hours (and sometimes 48 hours) for your latest push to git@git.bioconductor.org:packages/DTA.git to reflect on this report. See How and When does the builder pull? When will my changes propagate? here for more information. - Make sure to use the following settings in order to reproduce any error or warning you see on this page. |
| Package 554/2090 | Hostname | OS / Arch | INSTALL | BUILD | CHECK | BUILD BIN | ||||||||
| DTA 2.41.0 (landing page) Bjoern Schwalb
| nebbiolo1 | Linux (Ubuntu 20.04.4 LTS) / x86_64 | OK | OK | OK | |||||||||
| riesling1 | Windows Server 2019 Standard / x64 | OK | OK | OK | OK | |||||||||
| palomino3 | Windows Server 2022 Datacenter / x64 | OK | OK | OK | OK | |||||||||
| merida1 | macOS 10.14.6 Mojave / x86_64 | OK | OK | OK | OK | |||||||||
| Package: DTA |
| Version: 2.41.0 |
| Command: rm -rf DTA.buildbin-libdir && mkdir DTA.buildbin-libdir && D:\biocbuild\bbs-3.15-bioc\R\bin\R.exe CMD INSTALL --build --library=DTA.buildbin-libdir DTA_2.41.0.tar.gz |
| StartedAt: 2022-03-17 21:05:50 -0400 (Thu, 17 Mar 2022) |
| EndedAt: 2022-03-17 21:07:15 -0400 (Thu, 17 Mar 2022) |
| EllapsedTime: 84.6 seconds |
| RetCode: 0 |
| Status: OK |
| PackageFile: DTA_2.41.0.zip |
| PackageFileSize: 11.6 MiB |
##############################################################################
##############################################################################
###
### Running command:
###
### rm -rf DTA.buildbin-libdir && mkdir DTA.buildbin-libdir && D:\biocbuild\bbs-3.15-bioc\R\bin\R.exe CMD INSTALL --build --library=DTA.buildbin-libdir DTA_2.41.0.tar.gz
###
##############################################################################
##############################################################################
* installing *source* package 'DTA' ...
** using staged installation
** R
** data
** inst
** byte-compile and prepare package for lazy loading
** help
*** installing help indices
converting help for package 'DTA'
finding HTML links ... done
DTA-package html
DTA.dynamic.estimate html
DTA.dynamic.generate html
DTA.estimate html
DTA.generate html
DTA.map.it html
DTA.normalize html
DTA.phenomat html
DTA.plot.it html
Dm.tnumber html
Doelken2008 html
Hs.datamat html
Hs.enst2ensg html
Hs.phenomat html
Hs.reliable html
Hs.tnumber html
Miller2011 html
Miller2011dynamic html
Mm.datamat html
Mm.enst2ensg html
Mm.phenomat html
Mm.reliable html
Mm.tnumber html
Pol.phenomat html
Raw.datamat html
Sc.affy2ensg html
Sc.datamat html
Sc.datamat.dynamic html
Sc.ensg.reliable html
Sc.phenomat html
Sc.phenomat.dynamic html
Sc.reliable html
Sc.reliable.dynamic html
Sc.ribig.ensg html
Sc.rpg.ensg html
Sc.stress.ensg html
Sc.tf.ensg html
Sc.tnumber html
Sp.affy.reliable html
Sp.tnumber html
Sun2011 html
Wt.phenomat html
tls html
** building package indices
** installing vignettes
** testing if installed package can be loaded from temporary location
** testing if installed package can be loaded from final location
** testing if installed package keeps a record of temporary installation path
* MD5 sums
packaged installation of 'DTA' as DTA_2.41.0.zip
* DONE (DTA)