Back to Multiple platform build/check report for BioC 3.15 |
|
This page was generated on 2022-10-19 13:22:50 -0400 (Wed, 19 Oct 2022).
Hostname | OS | Arch (*) | R version | Installed pkgs |
---|---|---|---|---|
nebbiolo1 | Linux (Ubuntu 20.04.5 LTS) | x86_64 | 4.2.1 (2022-06-23) -- "Funny-Looking Kid" | 4386 |
palomino3 | Windows Server 2022 Datacenter | x64 | 4.2.1 (2022-06-23 ucrt) -- "Funny-Looking Kid" | 4138 |
merida1 | macOS 10.14.6 Mojave | x86_64 | 4.2.1 (2022-06-23) -- "Funny-Looking Kid" | 4205 |
Click on any hostname to see more info about the system (e.g. compilers) (*) as reported by 'uname -p', except on Windows and Mac OS X |
To the developers/maintainers of the DIAlignR package: - Please allow up to 24 hours (and sometimes 48 hours) for your latest push to git@git.bioconductor.org:packages/DIAlignR.git to reflect on this report. See How and When does the builder pull? When will my changes propagate? for more information. - Make sure to use the following settings in order to reproduce any error or warning you see on this page. |
Package 522/2140 | Hostname | OS / Arch | INSTALL | BUILD | CHECK | BUILD BIN | ||||||||
DIAlignR 2.4.0 (landing page) Shubham Gupta
| nebbiolo1 | Linux (Ubuntu 20.04.5 LTS) / x86_64 | OK | OK | OK | ![]() | ||||||||
palomino3 | Windows Server 2022 Datacenter / x64 | OK | OK | OK | OK | ![]() | ||||||||
merida1 | macOS 10.14.6 Mojave / x86_64 | OK | OK | OK | OK | ![]() | ||||||||
Package: DIAlignR |
Version: 2.4.0 |
Command: /Library/Frameworks/R.framework/Resources/bin/R CMD check --install=check:DIAlignR.install-out.txt --library=/Library/Frameworks/R.framework/Resources/library --no-vignettes --timings DIAlignR_2.4.0.tar.gz |
StartedAt: 2022-10-19 01:37:25 -0400 (Wed, 19 Oct 2022) |
EndedAt: 2022-10-19 01:43:26 -0400 (Wed, 19 Oct 2022) |
EllapsedTime: 360.9 seconds |
RetCode: 0 |
Status: OK |
CheckDir: DIAlignR.Rcheck |
Warnings: 0 |
############################################################################## ############################################################################## ### ### Running command: ### ### /Library/Frameworks/R.framework/Resources/bin/R CMD check --install=check:DIAlignR.install-out.txt --library=/Library/Frameworks/R.framework/Resources/library --no-vignettes --timings DIAlignR_2.4.0.tar.gz ### ############################################################################## ############################################################################## * using log directory ‘/Users/biocbuild/bbs-3.15-bioc/meat/DIAlignR.Rcheck’ * using R version 4.2.1 (2022-06-23) * using platform: x86_64-apple-darwin17.0 (64-bit) * using session charset: UTF-8 * using option ‘--no-vignettes’ * checking for file ‘DIAlignR/DESCRIPTION’ ... OK * checking extension type ... Package * this is package ‘DIAlignR’ version ‘2.4.0’ * package encoding: UTF-8 * checking package namespace information ... OK * checking package dependencies ... OK * checking if this is a source package ... OK * checking if there is a namespace ... OK * checking for hidden files and directories ... NOTE Found the following hidden files and directories: .dockerignore These were most likely included in error. See section ‘Package structure’ in the ‘Writing R Extensions’ manual. * checking for portable file names ... OK * checking for sufficient/correct file permissions ... OK * checking whether package ‘DIAlignR’ can be installed ... OK * checking installed package size ... NOTE installed size is 11.4Mb sub-directories of 1Mb or more: extdata 4.0Mb metabo 4.1Mb ptms 1.5Mb * checking package directory ... OK * checking DESCRIPTION meta-information ... OK * checking top-level files ... OK * checking for left-over files ... OK * checking index information ... OK * checking package subdirectories ... OK * checking R files for non-ASCII characters ... OK * checking R files for syntax errors ... OK * checking whether the package can be loaded ... OK * checking whether the package can be loaded with stated dependencies ... OK * checking whether the package can be unloaded cleanly ... OK * checking whether the namespace can be loaded with stated dependencies ... OK * checking whether the namespace can be unloaded cleanly ... OK * checking dependencies in R code ... NOTE Namespace in Imports field not imported from: ‘magrittr’ All declared Imports should be used. * checking S3 generic/method consistency ... OK * checking replacement functions ... OK * checking foreign function calls ... OK * checking R code for possible problems ... NOTE alignTargetedRuns: no visible binding for global variable ‘peptide_id’ alignTargetedRuns : <anonymous>: no visible global function definition for ‘.’ alignTargetedRuns: no visible binding for global variable ‘intensity’ alignToRoot4: no visible binding for global variable ‘trees’ alignToRoot4: no visible binding for global variable ‘precursors’ alignToRoot4: no visible binding for global variable ‘intensity’ childXICs: possible error in cummax(v = cummax(ifelse(is.na(x), -Inf, x))): unused argument (v = cummax(ifelse(is.na(x), -Inf, x))) dist4split: no visible global function definition for ‘as.dist’ distMat.rSqrd : <anonymous> : <anonymous>: no visible binding for global variable ‘RT.ref’ distMat.rSqrd : <anonymous> : <anonymous>: no visible binding for global variable ‘RT.eXp’ fetchPrecursorsInfo: no visible binding for global variable ‘transition_id’ fetchPrecursorsInfo: no visible global function definition for ‘.’ fetchPrecursorsInfo: no visible binding for global variable ‘transition_group_id’ fetchTransitionsFromRun: no visible binding for global variable ‘intensity’ fetchTransitionsFromRun: no visible global function definition for ‘.’ fetchTransitionsFromRun: no visible binding for global variable ‘transition_group_id’ fetchTransitionsFromRun: no visible binding for global variable ‘peak_group_rank’ fetchTransitionsFromRun: no visible global function definition for ‘head’ getNativeIDs: no visible binding for global variable ‘peptide_id’ getPeptideScores: no visible binding for global variable ‘col2’ getPeptideScores: no visible binding for global variable ‘run’ getQuery: no visible binding for global variable ‘identifying.transitionPEPfilter’ getRTdf: no visible binding for global variable ‘peak_group_rank’ getRTdf: no visible binding for global variable ‘m_score’ getRTdf: no visible global function definition for ‘.’ getRTdf: no visible binding for global variable ‘transition_group_id’ getRTdf: no visible binding for global variable ‘RT’ getRefRun : <anonymous>: no visible binding for global variable ‘pvalue’ ipfReassignFDR: no visible binding for global variable ‘ref_run’ ipfReassignFDR: no visible binding for global variable ‘run’ ipfReassignFDR: no visible global function definition for ‘.’ ipfReassignFDR: no visible binding for global variable ‘i.to’ ipfReassignFDR: no visible binding for global variable ‘m_score_new’ ipfReassignFDR: no visible binding for global variable ‘ms2_m_score’ ipfReassignFDR: no visible binding for global variable ‘m_score’ mstAlignRuns: no visible binding for global variable ‘ropenms’ mstAlignRuns: no visible binding for global variable ‘peptide_id’ mstAlignRuns : <anonymous>: no visible global function definition for ‘.’ mstAlignRuns: no visible binding for global variable ‘intensity’ mstScript1: no visible binding for global variable ‘ropenms’ mstScript2: no visible binding for global variable ‘fileInfo’ mstScript2: no visible binding for global variable ‘peptide_id’ mstScript2: no visible binding for global variable ‘features’ mstScript2 : <anonymous>: no visible global function definition for ‘.’ mstScript2 : <anonymous>: no visible binding for global variable ‘features’ mstScript2: no visible binding for global variable ‘intensity’ progAlignRuns: no visible binding for global variable ‘peptide_id’ progAlignRuns : <anonymous>: no visible global function definition for ‘.’ progAlignRuns: no visible binding for global variable ‘intensity’ progComb3: no visible binding for global variable ‘precursors’ progComb3: no visible binding for global variable ‘ropenms’ progSplit2: no visible binding for global variable ‘trees’ progSplit2: no visible binding for global variable ‘scoreFile’ progSplit2: no visible binding for global variable ‘precursors’ progSplit2 : <anonymous>: no visible global function definition for ‘.’ progSplit2: no visible binding for global variable ‘ropenms’ progSplit4: no visible binding for global variable ‘precursors’ progSplit4 : <anonymous>: no visible global function definition for ‘.’ progSplit4: no visible binding for global variable ‘intensity’ progTree1: no visible binding for global variable ‘ropenms’ progTree1: no visible binding for global variable ‘peptide_id’ reIntensity: no visible binding for global variable ‘run’ reIntensity: no visible binding for global variable ‘alignment_rank’ recalculateIntensity: no visible binding for global variable ‘peptide_id’ recalculateIntensity: no visible binding for global variable ‘chromatogramIndex’ script2: no visible binding for global variable ‘fileInfo’ script2: no visible binding for global variable ‘peptide_id’ script2 : <anonymous>: no visible global function definition for ‘.’ script2: no visible binding for global variable ‘features’ script2: no visible binding for global variable ‘globalFits’ script2: no visible binding for global variable ‘RSE’ script2: no visible binding for global variable ‘intensity’ setRootRank : <anonymous>: no visible global function definition for ‘.’ writeTables: no visible binding for global variable ‘peptide_id’ writeTables: no visible binding for global variable ‘run’ writeTables: no visible binding for global variable ‘precursor’ Undefined global functions or variables: . RSE RT RT.eXp RT.ref alignment_rank as.dist chromatogramIndex col2 features fileInfo globalFits head i.to identifying.transitionPEPfilter intensity m_score m_score_new ms2_m_score peak_group_rank peptide_id precursor precursors pvalue ref_run ropenms run scoreFile transition_group_id transition_id trees Consider adding importFrom("datasets", "trees") importFrom("stats", "as.dist") importFrom("utils", "head") to your NAMESPACE file. * checking Rd files ... OK * checking Rd metadata ... OK * checking Rd cross-references ... OK * checking for missing documentation entries ... OK * checking for code/documentation mismatches ... OK * checking Rd \usage sections ... OK * checking Rd contents ... OK * checking for unstated dependencies in examples ... OK * checking contents of ‘data’ directory ... OK * checking data for non-ASCII characters ... OK * checking data for ASCII and uncompressed saves ... OK * checking line endings in C/C++/Fortran sources/headers ... OK * checking compiled code ... NOTE Note: information on .o files is not available File ‘/Library/Frameworks/R.framework/Versions/4.2/Resources/library/DIAlignR/libs/DIAlignR.so’: Found ‘__ZNSt3__14coutE’, possibly from ‘std::cout’ (C++) Compiled code should not call entry points which might terminate R nor write to stdout/stderr instead of to the console, nor use Fortran I/O nor system RNGs. The detected symbols are linked into the code but might come from libraries and not actually be called. See ‘Writing portable packages’ in the ‘Writing R Extensions’ manual. * checking files in ‘vignettes’ ... OK * checking examples ... OK Examples with CPU (user + system) or elapsed time > 5s user system elapsed alignTargetedRuns 30.417 42.096 20.807 script1 3.371 7.067 4.164 script2 5.317 3.096 5.755 alignToMaster 6.026 0.103 6.137 traverseUp 5.930 0.084 6.028 traverseDown 5.592 0.044 5.642 mstScript2 4.296 1.075 4.480 * checking for unstated dependencies in ‘tests’ ... OK * checking tests ... Running ‘testthat.R’ OK * checking for unstated dependencies in vignettes ... OK * checking package vignettes in ‘inst/doc’ ... OK * checking running R code from vignettes ... SKIPPED * checking re-building of vignette outputs ... SKIPPED * checking PDF version of manual ... OK * DONE Status: 5 NOTEs See ‘/Users/biocbuild/bbs-3.15-bioc/meat/DIAlignR.Rcheck/00check.log’ for details.
DIAlignR.Rcheck/00install.out
############################################################################## ############################################################################## ### ### Running command: ### ### /Library/Frameworks/R.framework/Resources/bin/R CMD INSTALL DIAlignR ### ############################################################################## ############################################################################## * installing to library ‘/Library/Frameworks/R.framework/Versions/4.2/Resources/library’ * installing *source* package ‘DIAlignR’ ... ** using staged installation ** libs clang++ -mmacosx-version-min=10.13 -std=gnu++14 -I"/Library/Frameworks/R.framework/Resources/include" -DNDEBUG -I'/Library/Frameworks/R.framework/Versions/4.2/Resources/library/Rcpp/include' -I'/Library/Frameworks/R.framework/Versions/4.2/Resources/library/RcppEigen/include' -I/usr/local/include -fPIC -Wall -g -O2 -c ChromatogramPeak.cpp -o ChromatogramPeak.o clang++ -mmacosx-version-min=10.13 -std=gnu++14 -I"/Library/Frameworks/R.framework/Resources/include" -DNDEBUG -I'/Library/Frameworks/R.framework/Versions/4.2/Resources/library/Rcpp/include' -I'/Library/Frameworks/R.framework/Versions/4.2/Resources/library/RcppEigen/include' -I/usr/local/include -fPIC -Wall -g -O2 -c DPosition.cpp -o DPosition.o clang++ -mmacosx-version-min=10.13 -std=gnu++14 -I"/Library/Frameworks/R.framework/Resources/include" -DNDEBUG -I'/Library/Frameworks/R.framework/Versions/4.2/Resources/library/Rcpp/include' -I'/Library/Frameworks/R.framework/Versions/4.2/Resources/library/RcppEigen/include' -I/usr/local/include -fPIC -Wall -g -O2 -c MSChromatogram.cpp -o MSChromatogram.o clang++ -mmacosx-version-min=10.13 -std=gnu++14 -I"/Library/Frameworks/R.framework/Resources/include" -DNDEBUG -I'/Library/Frameworks/R.framework/Versions/4.2/Resources/library/Rcpp/include' -I'/Library/Frameworks/R.framework/Versions/4.2/Resources/library/RcppEigen/include' -I/usr/local/include -fPIC -Wall -g -O2 -c PeakIntegrator.cpp -o PeakIntegrator.o clang++ -mmacosx-version-min=10.13 -std=gnu++14 -I"/Library/Frameworks/R.framework/Resources/include" -DNDEBUG -I'/Library/Frameworks/R.framework/Versions/4.2/Resources/library/Rcpp/include' -I'/Library/Frameworks/R.framework/Versions/4.2/Resources/library/RcppEigen/include' -I/usr/local/include -fPIC -Wall -g -O2 -c RcppExports.cpp -o RcppExports.o In file included from RcppExports.cpp:4: In file included from /Library/Frameworks/R.framework/Versions/4.2/Resources/library/RcppEigen/include/RcppEigen.h:25: In file included from /Library/Frameworks/R.framework/Versions/4.2/Resources/library/RcppEigen/include/RcppEigenForward.h:30: In file included from /Library/Frameworks/R.framework/Versions/4.2/Resources/library/RcppEigen/include/Eigen/Dense:1: In file included from /Library/Frameworks/R.framework/Versions/4.2/Resources/library/RcppEigen/include/Eigen/Core:540: /Library/Frameworks/R.framework/Versions/4.2/Resources/library/RcppEigen/include/Eigen/src/Core/util/ReenableStupidWarnings.h:14:30: warning: pragma diagnostic pop could not pop, no matching push [-Wunknown-pragmas] #pragma clang diagnostic pop ^ In file included from RcppExports.cpp:4: In file included from /Library/Frameworks/R.framework/Versions/4.2/Resources/library/RcppEigen/include/RcppEigen.h:25: In file included from /Library/Frameworks/R.framework/Versions/4.2/Resources/library/RcppEigen/include/RcppEigenForward.h:30: In file included from /Library/Frameworks/R.framework/Versions/4.2/Resources/library/RcppEigen/include/Eigen/Dense:2: In file included from /Library/Frameworks/R.framework/Versions/4.2/Resources/library/RcppEigen/include/Eigen/LU:47: /Library/Frameworks/R.framework/Versions/4.2/Resources/library/RcppEigen/include/Eigen/src/Core/util/ReenableStupidWarnings.h:14:30: warning: pragma diagnostic pop could not pop, no matching push [-Wunknown-pragmas] #pragma clang diagnostic pop ^ In file included from RcppExports.cpp:4: In file included from /Library/Frameworks/R.framework/Versions/4.2/Resources/library/RcppEigen/include/RcppEigen.h:25: In file included from /Library/Frameworks/R.framework/Versions/4.2/Resources/library/RcppEigen/include/RcppEigenForward.h:30: In file included from /Library/Frameworks/R.framework/Versions/4.2/Resources/library/RcppEigen/include/Eigen/Dense:3: In file included from /Library/Frameworks/R.framework/Versions/4.2/Resources/library/RcppEigen/include/Eigen/Cholesky:12: In file included from /Library/Frameworks/R.framework/Versions/4.2/Resources/library/RcppEigen/include/Eigen/Jacobi:29: /Library/Frameworks/R.framework/Versions/4.2/Resources/library/RcppEigen/include/Eigen/src/Core/util/ReenableStupidWarnings.h:14:30: warning: pragma diagnostic pop could not pop, no matching push [-Wunknown-pragmas] #pragma clang diagnostic pop ^ In file included from RcppExports.cpp:4: In file included from /Library/Frameworks/R.framework/Versions/4.2/Resources/library/RcppEigen/include/RcppEigen.h:25: In file included from /Library/Frameworks/R.framework/Versions/4.2/Resources/library/RcppEigen/include/RcppEigenForward.h:30: In file included from /Library/Frameworks/R.framework/Versions/4.2/Resources/library/RcppEigen/include/Eigen/Dense:3: In file included from /Library/Frameworks/R.framework/Versions/4.2/Resources/library/RcppEigen/include/Eigen/Cholesky:43: /Library/Frameworks/R.framework/Versions/4.2/Resources/library/RcppEigen/include/Eigen/src/Core/util/ReenableStupidWarnings.h:14:30: warning: pragma diagnostic pop could not pop, no matching push [-Wunknown-pragmas] #pragma clang diagnostic pop ^ In file included from RcppExports.cpp:4: In file included from /Library/Frameworks/R.framework/Versions/4.2/Resources/library/RcppEigen/include/RcppEigen.h:25: In file included from /Library/Frameworks/R.framework/Versions/4.2/Resources/library/RcppEigen/include/RcppEigenForward.h:30: In file included from /Library/Frameworks/R.framework/Versions/4.2/Resources/library/RcppEigen/include/Eigen/Dense:4: In file included from /Library/Frameworks/R.framework/Versions/4.2/Resources/library/RcppEigen/include/Eigen/QR:15: In file included from /Library/Frameworks/R.framework/Versions/4.2/Resources/library/RcppEigen/include/Eigen/Householder:27: /Library/Frameworks/R.framework/Versions/4.2/Resources/library/RcppEigen/include/Eigen/src/Core/util/ReenableStupidWarnings.h:14:30: warning: pragma diagnostic pop could not pop, no matching push [-Wunknown-pragmas] #pragma clang diagnostic pop ^ In file included from RcppExports.cpp:4: In file included from /Library/Frameworks/R.framework/Versions/4.2/Resources/library/RcppEigen/include/RcppEigen.h:25: In file included from /Library/Frameworks/R.framework/Versions/4.2/Resources/library/RcppEigen/include/RcppEigenForward.h:30: In file included from /Library/Frameworks/R.framework/Versions/4.2/Resources/library/RcppEigen/include/Eigen/Dense:4: In file included from /Library/Frameworks/R.framework/Versions/4.2/Resources/library/RcppEigen/include/Eigen/QR:48: /Library/Frameworks/R.framework/Versions/4.2/Resources/library/RcppEigen/include/Eigen/src/Core/util/ReenableStupidWarnings.h:14:30: warning: pragma diagnostic pop could not pop, no matching push [-Wunknown-pragmas] #pragma clang diagnostic pop ^ In file included from RcppExports.cpp:4: In file included from /Library/Frameworks/R.framework/Versions/4.2/Resources/library/RcppEigen/include/RcppEigen.h:25: In file included from /Library/Frameworks/R.framework/Versions/4.2/Resources/library/RcppEigen/include/RcppEigenForward.h:30: In file included from /Library/Frameworks/R.framework/Versions/4.2/Resources/library/RcppEigen/include/Eigen/Dense:5: In file included from /Library/Frameworks/R.framework/Versions/4.2/Resources/library/RcppEigen/include/Eigen/SVD:48: /Library/Frameworks/R.framework/Versions/4.2/Resources/library/RcppEigen/include/Eigen/src/Core/util/ReenableStupidWarnings.h:14:30: warning: pragma diagnostic pop could not pop, no matching push [-Wunknown-pragmas] #pragma clang diagnostic pop ^ In file included from RcppExports.cpp:4: In file included from /Library/Frameworks/R.framework/Versions/4.2/Resources/library/RcppEigen/include/RcppEigen.h:25: In file included from /Library/Frameworks/R.framework/Versions/4.2/Resources/library/RcppEigen/include/RcppEigenForward.h:30: In file included from /Library/Frameworks/R.framework/Versions/4.2/Resources/library/RcppEigen/include/Eigen/Dense:6: In file included from /Library/Frameworks/R.framework/Versions/4.2/Resources/library/RcppEigen/include/Eigen/Geometry:58: /Library/Frameworks/R.framework/Versions/4.2/Resources/library/RcppEigen/include/Eigen/src/Core/util/ReenableStupidWarnings.h:14:30: warning: pragma diagnostic pop could not pop, no matching push [-Wunknown-pragmas] #pragma clang diagnostic pop ^ In file included from RcppExports.cpp:4: In file included from /Library/Frameworks/R.framework/Versions/4.2/Resources/library/RcppEigen/include/RcppEigen.h:25: In file included from /Library/Frameworks/R.framework/Versions/4.2/Resources/library/RcppEigen/include/RcppEigenForward.h:30: In file included from /Library/Frameworks/R.framework/Versions/4.2/Resources/library/RcppEigen/include/Eigen/Dense:7: In file included from /Library/Frameworks/R.framework/Versions/4.2/Resources/library/RcppEigen/include/Eigen/Eigenvalues:58: /Library/Frameworks/R.framework/Versions/4.2/Resources/library/RcppEigen/include/Eigen/src/Core/util/ReenableStupidWarnings.h:14:30: warning: pragma diagnostic pop could not pop, no matching push [-Wunknown-pragmas] #pragma clang diagnostic pop ^ In file included from RcppExports.cpp:4: In file included from /Library/Frameworks/R.framework/Versions/4.2/Resources/library/RcppEigen/include/RcppEigen.h:25: In file included from /Library/Frameworks/R.framework/Versions/4.2/Resources/library/RcppEigen/include/RcppEigenForward.h:31: In file included from /Library/Frameworks/R.framework/Versions/4.2/Resources/library/RcppEigen/include/Eigen/Sparse:26: In file included from /Library/Frameworks/R.framework/Versions/4.2/Resources/library/RcppEigen/include/Eigen/SparseCore:66: /Library/Frameworks/R.framework/Versions/4.2/Resources/library/RcppEigen/include/Eigen/src/Core/util/ReenableStupidWarnings.h:14:30: warning: pragma diagnostic pop could not pop, no matching push [-Wunknown-pragmas] #pragma clang diagnostic pop ^ In file included from RcppExports.cpp:4: In file included from /Library/Frameworks/R.framework/Versions/4.2/Resources/library/RcppEigen/include/RcppEigen.h:25: In file included from /Library/Frameworks/R.framework/Versions/4.2/Resources/library/RcppEigen/include/RcppEigenForward.h:31: In file included from /Library/Frameworks/R.framework/Versions/4.2/Resources/library/RcppEigen/include/Eigen/Sparse:27: In file included from /Library/Frameworks/R.framework/Versions/4.2/Resources/library/RcppEigen/include/Eigen/OrderingMethods:71: /Library/Frameworks/R.framework/Versions/4.2/Resources/library/RcppEigen/include/Eigen/src/Core/util/ReenableStupidWarnings.h:14:30: warning: pragma diagnostic pop could not pop, no matching push [-Wunknown-pragmas] #pragma clang diagnostic pop ^ In file included from RcppExports.cpp:4: In file included from /Library/Frameworks/R.framework/Versions/4.2/Resources/library/RcppEigen/include/RcppEigen.h:25: In file included from /Library/Frameworks/R.framework/Versions/4.2/Resources/library/RcppEigen/include/RcppEigenForward.h:31: In file included from /Library/Frameworks/R.framework/Versions/4.2/Resources/library/RcppEigen/include/Eigen/Sparse:29: In file included from /Library/Frameworks/R.framework/Versions/4.2/Resources/library/RcppEigen/include/Eigen/SparseCholesky:43: /Library/Frameworks/R.framework/Versions/4.2/Resources/library/RcppEigen/include/Eigen/src/Core/util/ReenableStupidWarnings.h:14:30: warning: pragma diagnostic pop could not pop, no matching push [-Wunknown-pragmas] #pragma clang diagnostic pop ^ In file included from RcppExports.cpp:4: In file included from /Library/Frameworks/R.framework/Versions/4.2/Resources/library/RcppEigen/include/RcppEigen.h:25: In file included from /Library/Frameworks/R.framework/Versions/4.2/Resources/library/RcppEigen/include/RcppEigenForward.h:31: In file included from /Library/Frameworks/R.framework/Versions/4.2/Resources/library/RcppEigen/include/Eigen/Sparse:32: In file included from /Library/Frameworks/R.framework/Versions/4.2/Resources/library/RcppEigen/include/Eigen/SparseQR:34: /Library/Frameworks/R.framework/Versions/4.2/Resources/library/RcppEigen/include/Eigen/src/Core/util/ReenableStupidWarnings.h:14:30: warning: pragma diagnostic pop could not pop, no matching push [-Wunknown-pragmas] #pragma clang diagnostic pop ^ In file included from RcppExports.cpp:4: In file included from /Library/Frameworks/R.framework/Versions/4.2/Resources/library/RcppEigen/include/RcppEigen.h:25: In file included from /Library/Frameworks/R.framework/Versions/4.2/Resources/library/RcppEigen/include/RcppEigenForward.h:31: In file included from /Library/Frameworks/R.framework/Versions/4.2/Resources/library/RcppEigen/include/Eigen/Sparse:33: In file included from /Library/Frameworks/R.framework/Versions/4.2/Resources/library/RcppEigen/include/Eigen/IterativeLinearSolvers:46: /Library/Frameworks/R.framework/Versions/4.2/Resources/library/RcppEigen/include/Eigen/src/Core/util/ReenableStupidWarnings.h:14:30: warning: pragma diagnostic pop could not pop, no matching push [-Wunknown-pragmas] #pragma clang diagnostic pop ^ In file included from RcppExports.cpp:4: In file included from /Library/Frameworks/R.framework/Versions/4.2/Resources/library/RcppEigen/include/RcppEigen.h:25: In file included from /Library/Frameworks/R.framework/Versions/4.2/Resources/library/RcppEigen/include/RcppEigenForward.h:32: In file included from /Library/Frameworks/R.framework/Versions/4.2/Resources/library/RcppEigen/include/Eigen/CholmodSupport:45: /Library/Frameworks/R.framework/Versions/4.2/Resources/library/RcppEigen/include/Eigen/src/Core/util/ReenableStupidWarnings.h:14:30: warning: pragma diagnostic pop could not pop, no matching push [-Wunknown-pragmas] #pragma clang diagnostic pop ^ In file included from RcppExports.cpp:4: In file included from /Library/Frameworks/R.framework/Versions/4.2/Resources/library/RcppEigen/include/RcppEigen.h:25: In file included from /Library/Frameworks/R.framework/Versions/4.2/Resources/library/RcppEigen/include/RcppEigenForward.h:35: In file included from /Library/Frameworks/R.framework/Versions/4.2/Resources/library/RcppEigen/include/unsupported/Eigen/KroneckerProduct:34: /Library/Frameworks/R.framework/Versions/4.2/Resources/library/RcppEigen/include/unsupported/Eigen/../../Eigen/src/Core/util/ReenableStupidWarnings.h:14:30: warning: pragma diagnostic pop could not pop, no matching push [-Wunknown-pragmas] #pragma clang diagnostic pop ^ In file included from RcppExports.cpp:4: In file included from /Library/Frameworks/R.framework/Versions/4.2/Resources/library/RcppEigen/include/RcppEigen.h:25: In file included from /Library/Frameworks/R.framework/Versions/4.2/Resources/library/RcppEigen/include/RcppEigenForward.h:39: In file included from /Library/Frameworks/R.framework/Versions/4.2/Resources/library/RcppEigen/include/unsupported/Eigen/Polynomials:135: /Library/Frameworks/R.framework/Versions/4.2/Resources/library/RcppEigen/include/unsupported/Eigen/../../Eigen/src/Core/util/ReenableStupidWarnings.h:14:30: warning: pragma diagnostic pop could not pop, no matching push [-Wunknown-pragmas] #pragma clang diagnostic pop ^ In file included from RcppExports.cpp:4: In file included from /Library/Frameworks/R.framework/Versions/4.2/Resources/library/RcppEigen/include/RcppEigen.h:25: In file included from /Library/Frameworks/R.framework/Versions/4.2/Resources/library/RcppEigen/include/RcppEigenForward.h:40: In file included from /Library/Frameworks/R.framework/Versions/4.2/Resources/library/RcppEigen/include/unsupported/Eigen/SparseExtra:51: /Library/Frameworks/R.framework/Versions/4.2/Resources/library/RcppEigen/include/unsupported/Eigen/../../Eigen/src/Core/util/ReenableStupidWarnings.h:14:30: warning: pragma diagnostic pop could not pop, no matching push [-Wunknown-pragmas] #pragma clang diagnostic pop ^ 18 warnings generated. clang++ -mmacosx-version-min=10.13 -std=gnu++14 -I"/Library/Frameworks/R.framework/Resources/include" -DNDEBUG -I'/Library/Frameworks/R.framework/Versions/4.2/Resources/library/Rcpp/include' -I'/Library/Frameworks/R.framework/Versions/4.2/Resources/library/RcppEigen/include' -I/usr/local/include -fPIC -Wall -g -O2 -c Rmain.cpp -o Rmain.o In file included from Rmain.cpp:19: ./miscell.h:14:19: warning: unused function 'detect_end_na' [-Wunused-function] static bool const detect_end_na(double a, double b); ^ ./miscell.h:16:19: warning: unused function 'detect_start_na' [-Wunused-function] static bool const detect_start_na(double a, double b); ^ ./miscell.h:18:19: warning: unused function 'lessZero' [-Wunused-function] static bool const lessZero(double a); ^ 3 warnings generated. clang++ -mmacosx-version-min=10.13 -std=gnu++14 -I"/Library/Frameworks/R.framework/Resources/include" -DNDEBUG -I'/Library/Frameworks/R.framework/Versions/4.2/Resources/library/Rcpp/include' -I'/Library/Frameworks/R.framework/Versions/4.2/Resources/library/RcppEigen/include' -I/usr/local/include -fPIC -Wall -g -O2 -c SavitzkyGolayFilter.cpp -o SavitzkyGolayFilter.o In file included from SavitzkyGolayFilter.cpp:1: In file included from /Library/Frameworks/R.framework/Versions/4.2/Resources/library/RcppEigen/include/RcppEigen.h:25: In file included from /Library/Frameworks/R.framework/Versions/4.2/Resources/library/RcppEigen/include/RcppEigenForward.h:30: In file included from /Library/Frameworks/R.framework/Versions/4.2/Resources/library/RcppEigen/include/Eigen/Dense:1: In file included from /Library/Frameworks/R.framework/Versions/4.2/Resources/library/RcppEigen/include/Eigen/Core:540: /Library/Frameworks/R.framework/Versions/4.2/Resources/library/RcppEigen/include/Eigen/src/Core/util/ReenableStupidWarnings.h:14:30: warning: pragma diagnostic pop could not pop, no matching push [-Wunknown-pragmas] #pragma clang diagnostic pop ^ In file included from SavitzkyGolayFilter.cpp:1: In file included from /Library/Frameworks/R.framework/Versions/4.2/Resources/library/RcppEigen/include/RcppEigen.h:25: In file included from /Library/Frameworks/R.framework/Versions/4.2/Resources/library/RcppEigen/include/RcppEigenForward.h:30: In file included from /Library/Frameworks/R.framework/Versions/4.2/Resources/library/RcppEigen/include/Eigen/Dense:2: In file included from /Library/Frameworks/R.framework/Versions/4.2/Resources/library/RcppEigen/include/Eigen/LU:47: /Library/Frameworks/R.framework/Versions/4.2/Resources/library/RcppEigen/include/Eigen/src/Core/util/ReenableStupidWarnings.h:14:30: warning: pragma diagnostic pop could not pop, no matching push [-Wunknown-pragmas] #pragma clang diagnostic pop ^ In file included from SavitzkyGolayFilter.cpp:1: In file included from /Library/Frameworks/R.framework/Versions/4.2/Resources/library/RcppEigen/include/RcppEigen.h:25: In file included from /Library/Frameworks/R.framework/Versions/4.2/Resources/library/RcppEigen/include/RcppEigenForward.h:30: In file included from /Library/Frameworks/R.framework/Versions/4.2/Resources/library/RcppEigen/include/Eigen/Dense:3: In file included from /Library/Frameworks/R.framework/Versions/4.2/Resources/library/RcppEigen/include/Eigen/Cholesky:12: In file included from /Library/Frameworks/R.framework/Versions/4.2/Resources/library/RcppEigen/include/Eigen/Jacobi:29: /Library/Frameworks/R.framework/Versions/4.2/Resources/library/RcppEigen/include/Eigen/src/Core/util/ReenableStupidWarnings.h:14:30: warning: pragma diagnostic pop could not pop, no matching push [-Wunknown-pragmas] #pragma clang diagnostic pop ^ In file included from SavitzkyGolayFilter.cpp:1: In file included from /Library/Frameworks/R.framework/Versions/4.2/Resources/library/RcppEigen/include/RcppEigen.h:25: In file included from /Library/Frameworks/R.framework/Versions/4.2/Resources/library/RcppEigen/include/RcppEigenForward.h:30: In file included from /Library/Frameworks/R.framework/Versions/4.2/Resources/library/RcppEigen/include/Eigen/Dense:3: In file included from /Library/Frameworks/R.framework/Versions/4.2/Resources/library/RcppEigen/include/Eigen/Cholesky:43: /Library/Frameworks/R.framework/Versions/4.2/Resources/library/RcppEigen/include/Eigen/src/Core/util/ReenableStupidWarnings.h:14:30: warning: pragma diagnostic pop could not pop, no matching push [-Wunknown-pragmas] #pragma clang diagnostic pop ^ In file included from SavitzkyGolayFilter.cpp:1: In file included from /Library/Frameworks/R.framework/Versions/4.2/Resources/library/RcppEigen/include/RcppEigen.h:25: In file included from /Library/Frameworks/R.framework/Versions/4.2/Resources/library/RcppEigen/include/RcppEigenForward.h:30: In file included from /Library/Frameworks/R.framework/Versions/4.2/Resources/library/RcppEigen/include/Eigen/Dense:4: In file included from /Library/Frameworks/R.framework/Versions/4.2/Resources/library/RcppEigen/include/Eigen/QR:15: In file included from /Library/Frameworks/R.framework/Versions/4.2/Resources/library/RcppEigen/include/Eigen/Householder:27: /Library/Frameworks/R.framework/Versions/4.2/Resources/library/RcppEigen/include/Eigen/src/Core/util/ReenableStupidWarnings.h:14:30: warning: pragma diagnostic pop could not pop, no matching push [-Wunknown-pragmas] #pragma clang diagnostic pop ^ In file included from SavitzkyGolayFilter.cpp:1: In file included from /Library/Frameworks/R.framework/Versions/4.2/Resources/library/RcppEigen/include/RcppEigen.h:25: In file included from /Library/Frameworks/R.framework/Versions/4.2/Resources/library/RcppEigen/include/RcppEigenForward.h:30: In file included from /Library/Frameworks/R.framework/Versions/4.2/Resources/library/RcppEigen/include/Eigen/Dense:4: In file included from /Library/Frameworks/R.framework/Versions/4.2/Resources/library/RcppEigen/include/Eigen/QR:48: /Library/Frameworks/R.framework/Versions/4.2/Resources/library/RcppEigen/include/Eigen/src/Core/util/ReenableStupidWarnings.h:14:30: warning: pragma diagnostic pop could not pop, no matching push [-Wunknown-pragmas] #pragma clang diagnostic pop ^ In file included from SavitzkyGolayFilter.cpp:1: In file included from /Library/Frameworks/R.framework/Versions/4.2/Resources/library/RcppEigen/include/RcppEigen.h:25: In file included from /Library/Frameworks/R.framework/Versions/4.2/Resources/library/RcppEigen/include/RcppEigenForward.h:30: In file included from /Library/Frameworks/R.framework/Versions/4.2/Resources/library/RcppEigen/include/Eigen/Dense:5: In file included from /Library/Frameworks/R.framework/Versions/4.2/Resources/library/RcppEigen/include/Eigen/SVD:48: /Library/Frameworks/R.framework/Versions/4.2/Resources/library/RcppEigen/include/Eigen/src/Core/util/ReenableStupidWarnings.h:14:30: warning: pragma diagnostic pop could not pop, no matching push [-Wunknown-pragmas] #pragma clang diagnostic pop ^ In file included from SavitzkyGolayFilter.cpp:1: In file included from /Library/Frameworks/R.framework/Versions/4.2/Resources/library/RcppEigen/include/RcppEigen.h:25: In file included from /Library/Frameworks/R.framework/Versions/4.2/Resources/library/RcppEigen/include/RcppEigenForward.h:30: In file included from /Library/Frameworks/R.framework/Versions/4.2/Resources/library/RcppEigen/include/Eigen/Dense:6: In file included from /Library/Frameworks/R.framework/Versions/4.2/Resources/library/RcppEigen/include/Eigen/Geometry:58: /Library/Frameworks/R.framework/Versions/4.2/Resources/library/RcppEigen/include/Eigen/src/Core/util/ReenableStupidWarnings.h:14:30: warning: pragma diagnostic pop could not pop, no matching push [-Wunknown-pragmas] #pragma clang diagnostic pop ^ In file included from SavitzkyGolayFilter.cpp:1: In file included from /Library/Frameworks/R.framework/Versions/4.2/Resources/library/RcppEigen/include/RcppEigen.h:25: In file included from /Library/Frameworks/R.framework/Versions/4.2/Resources/library/RcppEigen/include/RcppEigenForward.h:30: In file included from /Library/Frameworks/R.framework/Versions/4.2/Resources/library/RcppEigen/include/Eigen/Dense:7: In file included from /Library/Frameworks/R.framework/Versions/4.2/Resources/library/RcppEigen/include/Eigen/Eigenvalues:58: /Library/Frameworks/R.framework/Versions/4.2/Resources/library/RcppEigen/include/Eigen/src/Core/util/ReenableStupidWarnings.h:14:30: warning: pragma diagnostic pop could not pop, no matching push [-Wunknown-pragmas] #pragma clang diagnostic pop ^ In file included from SavitzkyGolayFilter.cpp:1: In file included from /Library/Frameworks/R.framework/Versions/4.2/Resources/library/RcppEigen/include/RcppEigen.h:25: In file included from /Library/Frameworks/R.framework/Versions/4.2/Resources/library/RcppEigen/include/RcppEigenForward.h:31: In file included from /Library/Frameworks/R.framework/Versions/4.2/Resources/library/RcppEigen/include/Eigen/Sparse:26: In file included from /Library/Frameworks/R.framework/Versions/4.2/Resources/library/RcppEigen/include/Eigen/SparseCore:66: /Library/Frameworks/R.framework/Versions/4.2/Resources/library/RcppEigen/include/Eigen/src/Core/util/ReenableStupidWarnings.h:14:30: warning: pragma diagnostic pop could not pop, no matching push [-Wunknown-pragmas] #pragma clang diagnostic pop ^ In file included from SavitzkyGolayFilter.cpp:1: In file included from /Library/Frameworks/R.framework/Versions/4.2/Resources/library/RcppEigen/include/RcppEigen.h:25: In file included from /Library/Frameworks/R.framework/Versions/4.2/Resources/library/RcppEigen/include/RcppEigenForward.h:31: In file included from /Library/Frameworks/R.framework/Versions/4.2/Resources/library/RcppEigen/include/Eigen/Sparse:27: In file included from /Library/Frameworks/R.framework/Versions/4.2/Resources/library/RcppEigen/include/Eigen/OrderingMethods:71: /Library/Frameworks/R.framework/Versions/4.2/Resources/library/RcppEigen/include/Eigen/src/Core/util/ReenableStupidWarnings.h:14:30: warning: pragma diagnostic pop could not pop, no matching push [-Wunknown-pragmas] #pragma clang diagnostic pop ^ In file included from SavitzkyGolayFilter.cpp:1: In file included from /Library/Frameworks/R.framework/Versions/4.2/Resources/library/RcppEigen/include/RcppEigen.h:25: In file included from /Library/Frameworks/R.framework/Versions/4.2/Resources/library/RcppEigen/include/RcppEigenForward.h:31: In file included from /Library/Frameworks/R.framework/Versions/4.2/Resources/library/RcppEigen/include/Eigen/Sparse:29: In file included from /Library/Frameworks/R.framework/Versions/4.2/Resources/library/RcppEigen/include/Eigen/SparseCholesky:43: /Library/Frameworks/R.framework/Versions/4.2/Resources/library/RcppEigen/include/Eigen/src/Core/util/ReenableStupidWarnings.h:14:30: warning: pragma diagnostic pop could not pop, no matching push [-Wunknown-pragmas] #pragma clang diagnostic pop ^ In file included from SavitzkyGolayFilter.cpp:1: In file included from /Library/Frameworks/R.framework/Versions/4.2/Resources/library/RcppEigen/include/RcppEigen.h:25: In file included from /Library/Frameworks/R.framework/Versions/4.2/Resources/library/RcppEigen/include/RcppEigenForward.h:31: In file included from /Library/Frameworks/R.framework/Versions/4.2/Resources/library/RcppEigen/include/Eigen/Sparse:32: In file included from /Library/Frameworks/R.framework/Versions/4.2/Resources/library/RcppEigen/include/Eigen/SparseQR:34: /Library/Frameworks/R.framework/Versions/4.2/Resources/library/RcppEigen/include/Eigen/src/Core/util/ReenableStupidWarnings.h:14:30: warning: pragma diagnostic pop could not pop, no matching push [-Wunknown-pragmas] #pragma clang diagnostic pop ^ In file included from SavitzkyGolayFilter.cpp:1: In file included from /Library/Frameworks/R.framework/Versions/4.2/Resources/library/RcppEigen/include/RcppEigen.h:25: In file included from /Library/Frameworks/R.framework/Versions/4.2/Resources/library/RcppEigen/include/RcppEigenForward.h:31: In file included from /Library/Frameworks/R.framework/Versions/4.2/Resources/library/RcppEigen/include/Eigen/Sparse:33: In file included from /Library/Frameworks/R.framework/Versions/4.2/Resources/library/RcppEigen/include/Eigen/IterativeLinearSolvers:46: /Library/Frameworks/R.framework/Versions/4.2/Resources/library/RcppEigen/include/Eigen/src/Core/util/ReenableStupidWarnings.h:14:30: warning: pragma diagnostic pop could not pop, no matching push [-Wunknown-pragmas] #pragma clang diagnostic pop ^ In file included from SavitzkyGolayFilter.cpp:1: In file included from /Library/Frameworks/R.framework/Versions/4.2/Resources/library/RcppEigen/include/RcppEigen.h:25: In file included from /Library/Frameworks/R.framework/Versions/4.2/Resources/library/RcppEigen/include/RcppEigenForward.h:32: In file included from /Library/Frameworks/R.framework/Versions/4.2/Resources/library/RcppEigen/include/Eigen/CholmodSupport:45: /Library/Frameworks/R.framework/Versions/4.2/Resources/library/RcppEigen/include/Eigen/src/Core/util/ReenableStupidWarnings.h:14:30: warning: pragma diagnostic pop could not pop, no matching push [-Wunknown-pragmas] #pragma clang diagnostic pop ^ In file included from SavitzkyGolayFilter.cpp:1: In file included from /Library/Frameworks/R.framework/Versions/4.2/Resources/library/RcppEigen/include/RcppEigen.h:25: In file included from /Library/Frameworks/R.framework/Versions/4.2/Resources/library/RcppEigen/include/RcppEigenForward.h:35: In file included from /Library/Frameworks/R.framework/Versions/4.2/Resources/library/RcppEigen/include/unsupported/Eigen/KroneckerProduct:34: /Library/Frameworks/R.framework/Versions/4.2/Resources/library/RcppEigen/include/unsupported/Eigen/../../Eigen/src/Core/util/ReenableStupidWarnings.h:14:30: warning: pragma diagnostic pop could not pop, no matching push [-Wunknown-pragmas] #pragma clang diagnostic pop ^ In file included from SavitzkyGolayFilter.cpp:1: In file included from /Library/Frameworks/R.framework/Versions/4.2/Resources/library/RcppEigen/include/RcppEigen.h:25: In file included from /Library/Frameworks/R.framework/Versions/4.2/Resources/library/RcppEigen/include/RcppEigenForward.h:39: In file included from /Library/Frameworks/R.framework/Versions/4.2/Resources/library/RcppEigen/include/unsupported/Eigen/Polynomials:135: /Library/Frameworks/R.framework/Versions/4.2/Resources/library/RcppEigen/include/unsupported/Eigen/../../Eigen/src/Core/util/ReenableStupidWarnings.h:14:30: warning: pragma diagnostic pop could not pop, no matching push [-Wunknown-pragmas] #pragma clang diagnostic pop ^ In file included from SavitzkyGolayFilter.cpp:1: In file included from /Library/Frameworks/R.framework/Versions/4.2/Resources/library/RcppEigen/include/RcppEigen.h:25: In file included from /Library/Frameworks/R.framework/Versions/4.2/Resources/library/RcppEigen/include/RcppEigenForward.h:40: In file included from /Library/Frameworks/R.framework/Versions/4.2/Resources/library/RcppEigen/include/unsupported/Eigen/SparseExtra:51: /Library/Frameworks/R.framework/Versions/4.2/Resources/library/RcppEigen/include/unsupported/Eigen/../../Eigen/src/Core/util/ReenableStupidWarnings.h:14:30: warning: pragma diagnostic pop could not pop, no matching push [-Wunknown-pragmas] #pragma clang diagnostic pop ^ 18 warnings generated. clang++ -mmacosx-version-min=10.13 -std=gnu++14 -I"/Library/Frameworks/R.framework/Resources/include" -DNDEBUG -I'/Library/Frameworks/R.framework/Versions/4.2/Resources/library/Rcpp/include' -I'/Library/Frameworks/R.framework/Versions/4.2/Resources/library/RcppEigen/include' -I/usr/local/include -fPIC -Wall -g -O2 -c affinealignment.cpp -o affinealignment.o clang++ -mmacosx-version-min=10.13 -std=gnu++14 -I"/Library/Frameworks/R.framework/Resources/include" -DNDEBUG -I'/Library/Frameworks/R.framework/Versions/4.2/Resources/library/Rcpp/include' -I'/Library/Frameworks/R.framework/Versions/4.2/Resources/library/RcppEigen/include' -I/usr/local/include -fPIC -Wall -g -O2 -c affinealignobj.cpp -o affinealignobj.o clang++ -mmacosx-version-min=10.13 -std=gnu++14 -I"/Library/Frameworks/R.framework/Resources/include" -DNDEBUG -I'/Library/Frameworks/R.framework/Versions/4.2/Resources/library/Rcpp/include' -I'/Library/Frameworks/R.framework/Versions/4.2/Resources/library/RcppEigen/include' -I/usr/local/include -fPIC -Wall -g -O2 -c alignment.cpp -o alignment.o clang++ -mmacosx-version-min=10.13 -std=gnu++14 -I"/Library/Frameworks/R.framework/Resources/include" -DNDEBUG -I'/Library/Frameworks/R.framework/Versions/4.2/Resources/library/Rcpp/include' -I'/Library/Frameworks/R.framework/Versions/4.2/Resources/library/RcppEigen/include' -I/usr/local/include -fPIC -Wall -g -O2 -c chromSimMatrix.cpp -o chromSimMatrix.o clang++ -mmacosx-version-min=10.13 -std=gnu++14 -I"/Library/Frameworks/R.framework/Resources/include" -DNDEBUG -I'/Library/Frameworks/R.framework/Versions/4.2/Resources/library/Rcpp/include' -I'/Library/Frameworks/R.framework/Versions/4.2/Resources/library/RcppEigen/include' -I/usr/local/include -fPIC -Wall -g -O2 -c constrainMat.cpp -o constrainMat.o constrainMat.cpp:78:10: warning: unused variable 'mapped' [-Wunused-variable] double mapped = 0.0; ^ 1 warning generated. clang++ -mmacosx-version-min=10.13 -std=gnu++14 -I"/Library/Frameworks/R.framework/Resources/include" -DNDEBUG -I'/Library/Frameworks/R.framework/Versions/4.2/Resources/library/Rcpp/include' -I'/Library/Frameworks/R.framework/Versions/4.2/Resources/library/RcppEigen/include' -I/usr/local/include -fPIC -Wall -g -O2 -c gapPenalty.cpp -o gapPenalty.o clang++ -mmacosx-version-min=10.13 -std=gnu++14 -I"/Library/Frameworks/R.framework/Resources/include" -DNDEBUG -I'/Library/Frameworks/R.framework/Versions/4.2/Resources/library/Rcpp/include' -I'/Library/Frameworks/R.framework/Versions/4.2/Resources/library/RcppEigen/include' -I/usr/local/include -fPIC -Wall -g -O2 -c integrateArea.cpp -o integrateArea.o clang++ -mmacosx-version-min=10.13 -std=gnu++14 -I"/Library/Frameworks/R.framework/Resources/include" -DNDEBUG -I'/Library/Frameworks/R.framework/Versions/4.2/Resources/library/Rcpp/include' -I'/Library/Frameworks/R.framework/Versions/4.2/Resources/library/RcppEigen/include' -I/usr/local/include -fPIC -Wall -g -O2 -c interface.cpp -o interface.o clang++ -mmacosx-version-min=10.13 -std=gnu++14 -I"/Library/Frameworks/R.framework/Resources/include" -DNDEBUG -I'/Library/Frameworks/R.framework/Versions/4.2/Resources/library/Rcpp/include' -I'/Library/Frameworks/R.framework/Versions/4.2/Resources/library/RcppEigen/include' -I/usr/local/include -fPIC -Wall -g -O2 -c miscell.cpp -o miscell.o miscell.cpp:53:19: warning: unused function 'lessZero' [-Wunused-function] static bool const lessZero(double a){ ^ 1 warning generated. clang++ -mmacosx-version-min=10.13 -std=gnu++14 -I"/Library/Frameworks/R.framework/Resources/include" -DNDEBUG -I'/Library/Frameworks/R.framework/Versions/4.2/Resources/library/Rcpp/include' -I'/Library/Frameworks/R.framework/Versions/4.2/Resources/library/RcppEigen/include' -I/usr/local/include -fPIC -Wall -g -O2 -c run_alignment.cpp -o run_alignment.o clang++ -mmacosx-version-min=10.13 -std=gnu++14 -I"/Library/Frameworks/R.framework/Resources/include" -DNDEBUG -I'/Library/Frameworks/R.framework/Versions/4.2/Resources/library/Rcpp/include' -I'/Library/Frameworks/R.framework/Versions/4.2/Resources/library/RcppEigen/include' -I/usr/local/include -fPIC -Wall -g -O2 -c simpleFcn.cpp -o simpleFcn.o clang++ -mmacosx-version-min=10.13 -std=gnu++14 -I"/Library/Frameworks/R.framework/Resources/include" -DNDEBUG -I'/Library/Frameworks/R.framework/Versions/4.2/Resources/library/Rcpp/include' -I'/Library/Frameworks/R.framework/Versions/4.2/Resources/library/RcppEigen/include' -I/usr/local/include -fPIC -Wall -g -O2 -c spline.cpp -o spline.o clang++ -mmacosx-version-min=10.13 -std=gnu++14 -I"/Library/Frameworks/R.framework/Resources/include" -DNDEBUG -I'/Library/Frameworks/R.framework/Versions/4.2/Resources/library/Rcpp/include' -I'/Library/Frameworks/R.framework/Versions/4.2/Resources/library/RcppEigen/include' -I/usr/local/include -fPIC -Wall -g -O2 -c utils.cpp -o utils.o utils.cpp:48:9: warning: unused variable 'idx' [-Wunused-variable] int idx = n*(1-p); ^ 1 warning generated. clang++ -mmacosx-version-min=10.13 -std=gnu++14 -dynamiclib -Wl,-headerpad_max_install_names -undefined dynamic_lookup -single_module -multiply_defined suppress -L/Library/Frameworks/R.framework/Resources/lib -L/usr/local/lib -o DIAlignR.so ChromatogramPeak.o DPosition.o MSChromatogram.o PeakIntegrator.o RcppExports.o Rmain.o SavitzkyGolayFilter.o affinealignment.o affinealignobj.o alignment.o chromSimMatrix.o constrainMat.o gapPenalty.o integrateArea.o interface.o miscell.o run_alignment.o simpleFcn.o spline.o utils.o -F/Library/Frameworks/R.framework/.. -framework R -Wl,-framework -Wl,CoreFoundation installing to /Library/Frameworks/R.framework/Versions/4.2/Resources/library/00LOCK-DIAlignR/00new/DIAlignR/libs ** R ** data ** inst ** byte-compile and prepare package for lazy loading ** help *** installing help indices ** building package indices ** installing vignettes ** testing if installed package can be loaded from temporary location ** checking absolute paths in shared objects and dynamic libraries ** testing if installed package can be loaded from final location ** testing if installed package keeps a record of temporary installation path * DONE (DIAlignR)
DIAlignR.Rcheck/tests/testthat.Rout
R version 4.2.1 (2022-06-23) -- "Funny-Looking Kid" Copyright (C) 2022 The R Foundation for Statistical Computing Platform: x86_64-apple-darwin17.0 (64-bit) R is free software and comes with ABSOLUTELY NO WARRANTY. You are welcome to redistribute it under certain conditions. Type 'license()' or 'licence()' for distribution details. R is a collaborative project with many contributors. Type 'contributors()' for more information and 'citation()' on how to cite R or R packages in publications. Type 'demo()' for some demos, 'help()' for on-line help, or 'help.start()' for an HTML browser interface to help. Type 'q()' to quit R. > library(testthat) > library(DIAlignR) > > test_check("DIAlignR") [1] "hroest_K120808_Strep10%PlasmaBiolRepl1_R03_SW_filt" [2] "hroest_K120809_Strep0%PlasmaBiolRepl2_R04_SW_filt" [3] "hroest_K120809_Strep10%PlasmaBiolRepl2_R04_SW_filt" Time difference of 0.08824396 secs Time difference of 0.4654341 secs Time difference of 0.167836 secs Time difference of 0.04374981 secs Time difference of 0.01433015 secs Time difference of 0.928314 secs Time difference of 2.704832 secs Time difference of 0.04395318 secs Time difference of 0.637675 secs [1] "hroest_K120808_Strep10%PlasmaBiolRepl1_R03_SW_filt" [2] "hroest_K120809_Strep0%PlasmaBiolRepl2_R04_SW_filt" Time difference of 0.02754378 secs Time difference of 0.4206181 secs Time difference of 0.168185 secs Time difference of 0.02986288 secs Time difference of 0.01042581 secs Time difference of 0.4044621 secs Time difference of 1.765643 secs Time difference of 0.01693606 secs Time difference of 1.461493 secs [1] "hroest_K120808_Strep10%PlasmaBiolRepl1_R03_SW_filt" [2] "hroest_K120809_Strep0%PlasmaBiolRepl2_R04_SW_filt" [3] "hroest_K120809_Strep10%PlasmaBiolRepl2_R04_SW_filt" Time difference of 0.02809787 secs Time difference of 0.3916149 secs Time difference of 0.1924651 secs Time difference of 0.168412 secs Time difference of 0.01302099 secs Time difference of 0.56002 secs Time difference of 2.448679 secs Time difference of 0.035779 secs Time difference of 0.5408359 secs [1] "hroest_K120808_Strep10%PlasmaBiolRepl1_R03_SW_filt" [2] "hroest_K120809_Strep0%PlasmaBiolRepl2_R04_SW_filt" [3] "hroest_K120809_Strep10%PlasmaBiolRepl2_R04_SW_filt" Time difference of 0.02911091 secs Time difference of 0.02533102 secs Time difference of 0.0004608631 secs Time difference of 0.159169 secs Time difference of 0.01302004 secs Time difference of 0.5004919 secs Time difference of 0.02427197 secs Time difference of 0.01401186 secs Time difference of 0.1453061 secs [1] "hroest_K120809_Strep0%PlasmaBiolRepl2_R04_SW_filt" [2] "hroest_K120809_Strep10%PlasmaBiolRepl2_R04_SW_filt" [1] "PestMix1_8Step1Plasma1SWATH20-50" "PestMix1_8Step8Plasma1SWATH20-50" Time difference of 0.01226616 secs Time difference of 0.05671811 secs Time difference of 0.01832104 secs Time difference of 0.02046299 secs Time difference of 0.008942127 secs Time difference of 0.3792641 secs Time difference of 0.169806 secs Time difference of 0.009949923 secs Time difference of 0.2873831 secs [1] "chludwig_K150309_004b_SW_1_16" "chludwig_K150309_008_SW_1_4" [3] "chludwig_K150309_013_SW_0" Time difference of 0.01364589 secs Time difference of 0.01880288 secs Time difference of 0.001926899 secs Time difference of 0.02658892 secs Time difference of 0.01206899 secs Time difference of 0.523232 secs Time difference of 0.01258588 secs Time difference of 0.04921603 secs Time difference of 0.418613 secs <simpleWarning in simpleLoess(y, x, w, span, degree = degree, parametric = parametric, drop.square = drop.square, normalize = normalize, statistics = control$statistics, surface = control$surface, cell = control$cell, iterations = iterations, iterTrace = control$iterTrace, trace.hat = control$trace.hat): span too small. fewer data values than degrees of freedom.> <simpleWarning in simpleLoess(y, x, w, span, degree = degree, parametric = parametric, drop.square = drop.square, normalize = normalize, statistics = control$statistics, surface = control$surface, cell = control$cell, iterations = iterations, iterTrace = control$iterTrace, trace.hat = control$trace.hat): span too small. fewer data values than degrees of freedom.> <simpleWarning in sqrt(sum.squares/one.delta): NaNs produced> <simpleError in simpleLoess(y, x, w, span, degree = degree, parametric = parametric, drop.square = drop.square, normalize = normalize, statistics = control$statistics, surface = control$surface, cell = control$cell, iterations = iterations, iterTrace = control$iterTrace, trace.hat = control$trace.hat): span is too small> runName run0 hroest_K120808_Strep10%PlasmaBiolRepl1_R03_SW_filt run1 hroest_K120809_Strep0%PlasmaBiolRepl2_R04_SW_filt run2 hroest_K120809_Strep10%PlasmaBiolRepl2_R04_SW_filt Time difference of 0.166642 secs Time difference of 0.02687001 secs Time difference of 0.003262997 secs Time difference of 0.01502109 secs Time difference of 0.522367 secs Time difference of 0.03187013 secs Time difference of 0.02849412 secs Time difference of 0.142997 secs runName run0 hroest_K120808_Strep10%PlasmaBiolRepl1_R03_SW_filt run1 hroest_K120809_Strep0%PlasmaBiolRepl2_R04_SW_filt run2 hroest_K120809_Strep10%PlasmaBiolRepl2_R04_SW_filt Time difference of 0.04017115 secs [1] "run0 run1\nrun2 run2" Time difference of 0.415633 secs Time difference of 0.2211761 secs Time difference of 0.01445484 secs Time difference of 0.8279262 secs Time difference of 2.427262 secs Time difference of 0.02741814 secs Time difference of 0.5442691 secs runName run0 hroest_K120808_Strep10%PlasmaBiolRepl1_R03_SW_filt run1 hroest_K120809_Strep0%PlasmaBiolRepl2_R04_SW_filt run2 hroest_K120809_Strep10%PlasmaBiolRepl2_R04_SW_filt Time difference of 0.290951 secs Time difference of 2.908584 secs Time difference of 14.53819 secs Time difference of 0.7650771 secs runName run0 hroest_K120808_Strep10%PlasmaBiolRepl1_R03_SW_filt run1 hroest_K120809_Strep0%PlasmaBiolRepl2_R04_SW_filt run2 hroest_K120809_Strep10%PlasmaBiolRepl2_R04_SW_filt Time difference of 0.1727688 secs [1] "Written /Library/Frameworks/R.framework/Versions/4.2/Resources/library/DIAlignR/extdata/temp_prog1.RData" [1] "Written /Library/Frameworks/R.framework/Versions/4.2/Resources/library/DIAlignR/extdata/temp_0_2.rds" [1] "progTree1 is done." Time difference of 2.50667 secs Time difference of 0.7767029 secs [1] "Written /Library/Frameworks/R.framework/Versions/4.2/Resources/library/DIAlignR/extdata/temp_1_2.rds" Time difference of 1.590605 secs [1] "Written /Library/Frameworks/R.framework/Versions/4.2/Resources/library/DIAlignR/extdata/temp_2_2.rds" Time difference of 0.7973042 secs Time difference of 0.366272 secs [1] "Written /Library/Frameworks/R.framework/Versions/4.2/Resources/library/DIAlignR/extdata/temp_all_2.rds" Time difference of 0.3388541 secs runName run0 hroest_K120808_Strep10%PlasmaBiolRepl1_R03_SW_filt run1 hroest_K120809_Strep0%PlasmaBiolRepl2_R04_SW_filt run2 hroest_K120809_Strep10%PlasmaBiolRepl2_R04_SW_filt Time difference of 0.168607 secs [1] "Written /Library/Frameworks/R.framework/Versions/4.2/Resources/library/DIAlignR/extdata/temp_prog1.RData" [1] "Written /Library/Frameworks/R.framework/Versions/4.2/Resources/library/DIAlignR/extdata/temp_0_2.rds" [1] "progTree1 is done." Time difference of 2.26803 secs Time difference of 0.7969708 secs [1] "Written /Library/Frameworks/R.framework/Versions/4.2/Resources/library/DIAlignR/extdata/temp_1_2.rds" Time difference of 1.017379 secs [1] "Written /Library/Frameworks/R.framework/Versions/4.2/Resources/library/DIAlignR/extdata/temp_2_2.rds" Time difference of 0.753191 secs Time difference of 0.02747297 secs [1] "Written /Library/Frameworks/R.framework/Versions/4.2/Resources/library/DIAlignR/extdata/temp_all_2.rds" Error : Unable to find conda binary. Is Anaconda installed? Error : Unable to find conda binary. Is Anaconda installed? Error : Unable to find conda binary. Is Anaconda installed? [ FAIL 0 | WARN 9 | SKIP 8 | PASS 627 ] ══ Skipped tests ═══════════════════════════════════════════════════════════════ • empty test (5) • ropenms not available for testing. A conda environment with name TricEnvr is MUST for testing. (3) [ FAIL 0 | WARN 9 | SKIP 8 | PASS 627 ] > > proc.time() user system elapsed 142.276 21.299 110.463
DIAlignR.Rcheck/DIAlignR-Ex.timings
name | user | system | elapsed | |
MSTperBatch | 0.001 | 0.000 | 0.002 | |
addFlankToLeft | 0.004 | 0.001 | 0.003 | |
addFlankToRight | 0.002 | 0.001 | 0.002 | |
addXIC | 0 | 0 | 0 | |
alignChromatogramsCpp | 0.037 | 0.006 | 0.044 | |
alignTargetedRuns | 30.417 | 42.096 | 20.807 | |
alignToMaster | 6.026 | 0.103 | 6.137 | |
alignToRef | 0.001 | 0.000 | 0.001 | |
alignToRefMST | 0.001 | 0.001 | 0.001 | |
alignedXIC | 0.150 | 0.005 | 0.156 | |
analytesFromFeatures | 0.055 | 0.004 | 0.059 | |
approxFill | 0.001 | 0.000 | 0.001 | |
areaIntegrator | 0.004 | 0.001 | 0.006 | |
blobXICs | 0.003 | 0.002 | 0.004 | |
calculateIntensity | 0.003 | 0.001 | 0.004 | |
checkOverlap | 0 | 0 | 0 | |
checkParams | 0.000 | 0.000 | 0.001 | |
childXIC | 0.157 | 0.002 | 0.159 | |
childXICs | 0.903 | 0.016 | 0.921 | |
constrainSimCpp | 0.001 | 0.000 | 0.002 | |
createMZML | 0.004 | 0.001 | 0.005 | |
createSqMass | 0.003 | 0.002 | 0.005 | |
dialignrLoess | 0.001 | 0.000 | 0.001 | |
doAffineAlignmentCpp | 0.002 | 0.001 | 0.002 | |
doAlignmentCpp | 0.001 | 0.001 | 0.002 | |
extractXIC_group | 1.442 | 0.018 | 1.463 | |
extractXIC_group2 | 0.001 | 0.001 | 0.002 | |
fetchAnalytesInfo | 0.012 | 0.001 | 0.012 | |
fetchFeaturesFromRun | 0.011 | 0.001 | 0.013 | |
fetchPeptidesInfo | 0.012 | 0.001 | 0.013 | |
fetchPeptidesInfo2 | 0.013 | 0.001 | 0.013 | |
fetchPrecursorsInfo | 0.002 | 0.000 | 0.001 | |
fetchTransitionsFromRun | 0.012 | 0.001 | 0.013 | |
filenamesFromMZML | 0.002 | 0.000 | 0.001 | |
filenamesFromOSW | 0.001 | 0.000 | 0.002 | |
getAlignObj | 0.056 | 0.003 | 0.059 | |
getAlignObjs | 2.113 | 0.027 | 2.143 | |
getAlignedFigs | 0.378 | 0.008 | 0.386 | |
getAlignedIndices | 0.013 | 0.002 | 0.015 | |
getAlignedTimes | 0.029 | 0.003 | 0.032 | |
getAlignedTimesCpp | 0.010 | 0.001 | 0.010 | |
getAlignedTimesFast | 0.020 | 0.004 | 0.024 | |
getBaseGapPenaltyCpp | 0.000 | 0.000 | 0.001 | |
getChildFeature | 0.066 | 0.005 | 0.071 | |
getChildXICpp | 0.008 | 0.001 | 0.009 | |
getChildXICs | 4.076 | 0.030 | 4.112 | |
getChromSimMatCpp | 0.002 | 0.002 | 0.004 | |
getChromatogramIndices | 0.235 | 0.005 | 0.240 | |
getFeatures | 0.066 | 0.004 | 0.070 | |
getGlobalAlignMaskCpp | 0.001 | 0.001 | 0.002 | |
getGlobalAlignment | 0.011 | 0.002 | 0.013 | |
getGlobalFits | 3.182 | 0.017 | 3.205 | |
getLOESSfit | 0.004 | 0.001 | 0.005 | |
getLinearfit | 0.004 | 0.001 | 0.005 | |
getMST | 0.001 | 0.000 | 0.000 | |
getMZMLpointers | 0.023 | 0.001 | 0.025 | |
getMappedRT | 0.018 | 0.001 | 0.019 | |
getMultipeptide | 2.601 | 0.021 | 2.625 | |
getNativeIDs | 0.031 | 0.001 | 0.033 | |
getNodeIDs | 0.001 | 0.000 | 0.001 | |
getNodeRun | 0.794 | 0.016 | 0.811 | |
getOswAnalytes | 0.008 | 0.001 | 0.009 | |
getOswFiles | 0.012 | 0.001 | 0.013 | |
getPeptideScores | 0.054 | 0.003 | 0.056 | |
getPrecursorByID | 0.023 | 0.001 | 0.025 | |
getPrecursorIndices | 0.077 | 0.003 | 0.080 | |
getPrecursors | 0.039 | 0.002 | 0.041 | |
getRSE | 0.005 | 0.001 | 0.005 | |
getRTdf | 0.009 | 0.001 | 0.009 | |
getRefRun | 0.659 | 0.005 | 0.665 | |
getRunNames | 0.016 | 0.001 | 0.017 | |
getSeqSimMatCpp | 0.001 | 0.000 | 0.001 | |
getTransitions | 0.266 | 0.010 | 0.276 | |
getTree | 0.048 | 0.002 | 0.051 | |
getXICs | 0.228 | 0.008 | 0.236 | |
getXICs4AlignObj | 0.126 | 0.004 | 0.131 | |
get_ropenms | 0 | 0 | 0 | |
imputeChromatogram | 0.023 | 0.001 | 0.024 | |
ipfReassignFDR | 0.001 | 0.000 | 0.000 | |
mapIdxToTime | 0.000 | 0.000 | 0.001 | |
mappedRTfromAlignObj | 0.003 | 0.001 | 0.004 | |
mergeXIC | 0.004 | 0.001 | 0.005 | |
mstAlignRuns | 3.959 | 0.055 | 4.020 | |
mstScript1 | 0.626 | 0.979 | 0.628 | |
mstScript2 | 4.296 | 1.075 | 4.480 | |
nrDesc | 0.000 | 0.000 | 0.001 | |
otherChildXICpp | 0.011 | 0.001 | 0.012 | |
paramsDIAlignR | 0 | 0 | 0 | |
perBatch | 0.001 | 0.000 | 0.002 | |
pickNearestFeature | 0.005 | 0.000 | 0.006 | |
plotAlignedAnalytes | 1.144 | 0.033 | 1.180 | |
plotAlignmentPath | 0.848 | 0.041 | 0.890 | |
plotAnalyteXICs | 0.783 | 0.015 | 0.801 | |
plotXICgroup | 0.725 | 0.014 | 0.740 | |
progAlignRuns | 0.001 | 0.001 | 0.002 | |
readMzMLHeader | 0.001 | 0.000 | 0.001 | |
readSqMassHeader | 0.002 | 0.000 | 0.001 | |
recalculateIntensity | 0.506 | 0.010 | 0.516 | |
reduceXICs | 0.128 | 0.004 | 0.132 | |
script1 | 3.371 | 7.067 | 4.164 | |
script2 | 5.317 | 3.096 | 5.755 | |
setAlignmentRank | 0.021 | 0.002 | 0.023 | |
sgolayCpp | 0.005 | 0.001 | 0.005 | |
sgolayFill | 0.001 | 0.001 | 0.002 | |
smoothSingleXIC | 0.004 | 0.002 | 0.005 | |
smoothXICs | 0.014 | 0.002 | 0.017 | |
splineFill | 0.002 | 0.000 | 0.002 | |
splineFillCpp | 0.006 | 0.001 | 0.007 | |
traverseDown | 5.592 | 0.044 | 5.642 | |
traverseMST | 0 | 0 | 0 | |
traverseUp | 5.930 | 0.084 | 6.028 | |
trfrParentFeature | 0.063 | 0.009 | 0.071 | |
trimXICs | 0.004 | 0.001 | 0.005 | |
uncompressVec | 0.006 | 0.001 | 0.008 | |
updateFileInfo | 0.013 | 0.001 | 0.015 | |
writeTables | 0.004 | 0.000 | 0.005 | |