| Back to Multiple platform build/check report for BioC 3.15 |
|
This page was generated on 2022-03-18 11:07:21 -0400 (Fri, 18 Mar 2022).
| Hostname | OS | Arch (*) | R version | Installed pkgs |
|---|---|---|---|---|
| nebbiolo1 | Linux (Ubuntu 20.04.4 LTS) | x86_64 | R Under development (unstable) (2022-02-17 r81757) -- "Unsuffered Consequences" | 4334 |
| riesling1 | Windows Server 2019 Standard | x64 | R Under development (unstable) (2021-11-21 r81221) -- "Unsuffered Consequences" | 4097 |
| palomino3 | Windows Server 2022 Datacenter | x64 | R Under development (unstable) (2022-02-17 r81757 ucrt) -- "Unsuffered Consequences" | 4083 |
| merida1 | macOS 10.14.6 Mojave | x86_64 | R Under development (unstable) (2022-03-02 r81842) -- "Unsuffered Consequences" | 4134 |
| Click on any hostname to see more info about the system (e.g. compilers) (*) as reported by 'uname -p', except on Windows and Mac OS X | ||||
|
To the developers/maintainers of the DEP package: - Please allow up to 24 hours (and sometimes 48 hours) for your latest push to git@git.bioconductor.org:packages/DEP.git to reflect on this report. See How and When does the builder pull? When will my changes propagate? here for more information. - Make sure to use the following settings in order to reproduce any error or warning you see on this page. |
| Package 493/2090 | Hostname | OS / Arch | INSTALL | BUILD | CHECK | BUILD BIN | ||||||||
| DEP 1.17.1 (landing page) Arne Smits
| nebbiolo1 | Linux (Ubuntu 20.04.4 LTS) / x86_64 | OK | OK | WARNINGS | |||||||||
| riesling1 | Windows Server 2019 Standard / x64 | OK | OK | WARNINGS | OK | |||||||||
| palomino3 | Windows Server 2022 Datacenter / x64 | OK | OK | WARNINGS | OK | |||||||||
| merida1 | macOS 10.14.6 Mojave / x86_64 | OK | OK | WARNINGS | OK | |||||||||
| Package: DEP |
| Version: 1.17.1 |
| Command: rm -rf DEP.buildbin-libdir && mkdir DEP.buildbin-libdir && D:\biocbuild\bbs-3.15-bioc\R\bin\R.exe CMD INSTALL --build --library=DEP.buildbin-libdir DEP_1.17.1.tar.gz |
| StartedAt: 2022-03-17 21:04:29 -0400 (Thu, 17 Mar 2022) |
| EndedAt: 2022-03-17 21:05:36 -0400 (Thu, 17 Mar 2022) |
| EllapsedTime: 66.7 seconds |
| RetCode: 0 |
| Status: OK |
| PackageFile: DEP_1.17.1.zip |
| PackageFileSize: 3.2 MiB |
##############################################################################
##############################################################################
###
### Running command:
###
### rm -rf DEP.buildbin-libdir && mkdir DEP.buildbin-libdir && D:\biocbuild\bbs-3.15-bioc\R\bin\R.exe CMD INSTALL --build --library=DEP.buildbin-libdir DEP_1.17.1.tar.gz
###
##############################################################################
##############################################################################
* installing *source* package 'DEP' ...
** using staged installation
** R
** data
*** moving datasets to lazyload DB
** inst
** byte-compile and prepare package for lazy loading
** help
*** installing help indices
converting help for package 'DEP'
finding HTML links ... done
DEP html
DiUbi html
DiUbi_ExpDesign html
LFQ html
TMT html
UbiLength html
UbiLength_ExpDesign html
add_rejections html
analyze_dep html
filter_missval html
filter_proteins html
get_df_long html
get_df_wide html
get_prefix html
get_results html
get_suffix html
import_IsobarQuant html
import_MaxQuant html
impute html
make_se html
make_se_parse html
make_unique html
manual_impute html
meanSdPlot html
normalize_vsn html
plot_all html
plot_cond html
plot_cond_freq html
plot_cond_overlap html
plot_cor html
plot_coverage html
plot_detect html
plot_dist html
plot_frequency html
plot_gsea html
plot_heatmap html
plot_imputation html
plot_missval html
plot_normalization html
plot_numbers html
plot_p_hist html
plot_pca html
plot_single html
plot_volcano html
process html
report html
run_app html
se2msn html
test_diff html
test_gsea html
theme_DEP1 html
theme_DEP2 html
** building package indices
** installing vignettes
** testing if installed package can be loaded from temporary location
** testing if installed package can be loaded from final location
** testing if installed package keeps a record of temporary installation path
* MD5 sums
packaged installation of 'DEP' as DEP_1.17.1.zip
* DONE (DEP)