| Back to Multiple platform build/check report for BioC 3.15 |
|
This page was generated on 2022-10-19 13:20:10 -0400 (Wed, 19 Oct 2022).
| Hostname | OS | Arch (*) | R version | Installed pkgs |
|---|---|---|---|---|
| nebbiolo1 | Linux (Ubuntu 20.04.5 LTS) | x86_64 | 4.2.1 (2022-06-23) -- "Funny-Looking Kid" | 4386 |
| palomino3 | Windows Server 2022 Datacenter | x64 | 4.2.1 (2022-06-23 ucrt) -- "Funny-Looking Kid" | 4138 |
| merida1 | macOS 10.14.6 Mojave | x86_64 | 4.2.1 (2022-06-23) -- "Funny-Looking Kid" | 4205 |
| Click on any hostname to see more info about the system (e.g. compilers) (*) as reported by 'uname -p', except on Windows and Mac OS X | ||||
|
To the developers/maintainers of the DAPAR package: - Please allow up to 24 hours (and sometimes 48 hours) for your latest push to git@git.bioconductor.org:packages/DAPAR.git to reflect on this report. See How and When does the builder pull? When will my changes propagate? for more information. - Make sure to use the following settings in order to reproduce any error or warning you see on this page. |
| Package 469/2140 | Hostname | OS / Arch | INSTALL | BUILD | CHECK | BUILD BIN | ||||||||
| DAPAR 1.28.5 (landing page) Samuel Wieczorek
| nebbiolo1 | Linux (Ubuntu 20.04.5 LTS) / x86_64 | OK | OK | OK | |||||||||
| palomino3 | Windows Server 2022 Datacenter / x64 | OK | OK | OK | OK | |||||||||
| merida1 | macOS 10.14.6 Mojave / x86_64 | OK | OK | OK | OK | |||||||||
| Package: DAPAR |
| Version: 1.28.5 |
| Command: /home/biocbuild/bbs-3.15-bioc/R/bin/R CMD check --install=check:DAPAR.install-out.txt --library=/home/biocbuild/bbs-3.15-bioc/R/library --no-vignettes --timings DAPAR_1.28.5.tar.gz |
| StartedAt: 2022-10-18 19:18:26 -0400 (Tue, 18 Oct 2022) |
| EndedAt: 2022-10-18 19:28:07 -0400 (Tue, 18 Oct 2022) |
| EllapsedTime: 581.1 seconds |
| RetCode: 0 |
| Status: OK |
| CheckDir: DAPAR.Rcheck |
| Warnings: 0 |
##############################################################################
##############################################################################
###
### Running command:
###
### /home/biocbuild/bbs-3.15-bioc/R/bin/R CMD check --install=check:DAPAR.install-out.txt --library=/home/biocbuild/bbs-3.15-bioc/R/library --no-vignettes --timings DAPAR_1.28.5.tar.gz
###
##############################################################################
##############################################################################
* using log directory ‘/home/biocbuild/bbs-3.15-bioc/meat/DAPAR.Rcheck’
* using R version 4.2.1 (2022-06-23)
* using platform: x86_64-pc-linux-gnu (64-bit)
* using session charset: UTF-8
* using option ‘--no-vignettes’
* checking for file ‘DAPAR/DESCRIPTION’ ... OK
* checking extension type ... Package
* this is package ‘DAPAR’ version ‘1.28.5’
* package encoding: UTF-8
* checking package namespace information ... OK
* checking package dependencies ... OK
* checking if this is a source package ... OK
* checking if there is a namespace ... OK
* checking for hidden files and directories ... OK
* checking for portable file names ... OK
* checking for sufficient/correct file permissions ... OK
* checking whether package ‘DAPAR’ can be installed ... OK
* checking installed package size ... OK
* checking package directory ... OK
* checking ‘build’ directory ... OK
* checking DESCRIPTION meta-information ... OK
* checking top-level files ... OK
* checking for left-over files ... OK
* checking index information ... OK
* checking package subdirectories ... OK
* checking R files for non-ASCII characters ... OK
* checking R files for syntax errors ... OK
* checking whether the package can be loaded ... OK
* checking whether the package can be loaded with stated dependencies ... OK
* checking whether the package can be unloaded cleanly ... OK
* checking whether the namespace can be loaded with stated dependencies ... OK
* checking whether the namespace can be unloaded cleanly ... OK
* checking dependencies in R code ... OK
* checking S3 generic/method consistency ... OK
* checking replacement functions ... OK
* checking foreign function calls ... OK
* checking R code for possible problems ... NOTE
GetIndices_MetacellFiltering: no visible global function definition for
‘tsop’
aggregateIterParallel: no visible binding for global variable ‘cond’
averageIntensities: no visible binding for global variable ‘condition’
averageIntensities: no visible binding for global variable ‘feature’
diffAnaVolcanoplot_rCharts: no visible binding for global variable ‘x’
diffAnaVolcanoplot_rCharts: no visible binding for global variable ‘y’
diffAnaVolcanoplot_rCharts: no visible binding for global variable ‘g’
display.CC.visNet: no visible binding for global variable
‘layout_nicely’
getTextForGOAnalysis: no visible binding for global variable
‘textGOParams’
getTextForGOAnalysis: no visible binding for global variable ‘input’
heatmapForMissingValues: no visible binding for global variable ‘par’
limmaCompleteTest: no visible binding for global variable ‘A’
limmaCompleteTest: no visible binding for global variable ‘B’
limmaCompleteTest: no visible binding for global variable ‘P.Value’
pepa.test: no visible global function definition for ‘nodes<-’
visualizeClusters: no visible binding for global variable
‘adjusted_pvalues’
visualizeClusters: no visible binding for global variable ‘Condition’
visualizeClusters: no visible binding for global variable ‘Intensity’
visualizeClusters: no visible binding for global variable
‘FDR_threshold’
visualizeClusters: no visible binding for global variable ‘feature’
wrapperClassic1wayAnova: no visible binding for global variable
‘Pr(>F)1’
wrapperRunClustering: no visible global function definition for ‘str_c’
Undefined global functions or variables:
A B Condition FDR_threshold Intensity P.Value Pr(>F)1
adjusted_pvalues cond condition feature g input layout_nicely nodes<-
par str_c textGOParams tsop x y
Consider adding
importFrom("graphics", "par")
to your NAMESPACE file.
* checking Rd files ... OK
* checking Rd metadata ... OK
* checking Rd cross-references ... OK
* checking for missing documentation entries ... OK
* checking for code/documentation mismatches ... OK
* checking Rd \usage sections ... OK
* checking Rd contents ... OK
* checking for unstated dependencies in examples ... OK
* checking files in ‘vignettes’ ... OK
* checking examples ... OK
Examples with CPU (user + system) or elapsed time > 5s
user system elapsed
wrapper.compareNormalizationD_HC 231.029 78.832 287.435
metacombine 11.111 1.968 12.386
wrapper.dapar.impute.mi 11.654 0.269 11.832
barplotEnrichGO_HC 8.836 1.246 9.880
barplotGroupGO_HC 5.564 0.320 5.832
group_GO 4.796 0.268 5.010
scatterplotEnrichGO_HC 4.708 0.328 4.987
* checking for unstated dependencies in ‘tests’ ... OK
* checking tests ...
Running ‘testthat.R’
OK
* checking for unstated dependencies in vignettes ... OK
* checking package vignettes in ‘inst/doc’ ... OK
* checking running R code from vignettes ... SKIPPED
* checking re-building of vignette outputs ... SKIPPED
* checking PDF version of manual ... OK
* DONE
Status: 1 NOTE
See
‘/home/biocbuild/bbs-3.15-bioc/meat/DAPAR.Rcheck/00check.log’
for details.
DAPAR.Rcheck/00install.out
############################################################################## ############################################################################## ### ### Running command: ### ### /home/biocbuild/bbs-3.15-bioc/R/bin/R CMD INSTALL DAPAR ### ############################################################################## ############################################################################## * installing to library ‘/home/biocbuild/bbs-3.15-bioc/R/library’ * installing *source* package ‘DAPAR’ ... ** using staged installation ** R ** inst ** byte-compile and prepare package for lazy loading ** help *** installing help indices ** building package indices ** installing vignettes ** testing if installed package can be loaded from temporary location ** testing if installed package can be loaded from final location ** testing if installed package keeps a record of temporary installation path * DONE (DAPAR)
DAPAR.Rcheck/tests/testthat.Rout
R version 4.2.1 (2022-06-23) -- "Funny-Looking Kid"
Copyright (C) 2022 The R Foundation for Statistical Computing
Platform: x86_64-pc-linux-gnu (64-bit)
R is free software and comes with ABSOLUTELY NO WARRANTY.
You are welcome to redistribute it under certain conditions.
Type 'license()' or 'licence()' for distribution details.
R is a collaborative project with many contributors.
Type 'contributors()' for more information and
'citation()' on how to cite R or R packages in publications.
Type 'demo()' for some demos, 'help()' for on-line help, or
'help.start()' for an HTML browser interface to help.
Type 'q()' to quit R.
> library(testthat)
> library(DAPAR)
This is the 'DAPAR' version 1.28.5.
To get started, visit
http://www.prostar-proteomics.org/
>
> test_check("DAPAR")
[ FAIL 0 | WARN 0 | SKIP 0 | PASS 0 ]
>
> proc.time()
user system elapsed
7.581 0.387 8.036
DAPAR.Rcheck/DAPAR-Ex.timings
| name | user | system | elapsed | |
| AggregateMetacell | 2.942 | 0.244 | 3.188 | |
| BuildAdjacencyMatrix | 0.469 | 0.008 | 0.477 | |
| BuildColumnToProteinDataset | 0.974 | 0.024 | 0.998 | |
| BuildColumnToProteinDataset_par | 1.073 | 0.130 | 1.223 | |
| BuildMetaCell | 1.213 | 0.385 | 1.331 | |
| CVDistD_HC | 2.110 | 0.048 | 2.166 | |
| CountPep | 0.438 | 0.008 | 0.446 | |
| ExtendPalette | 0.025 | 0.000 | 0.025 | |
| GOAnalysisSave | 0 | 0 | 0 | |
| GetCC | 1.684 | 0.067 | 1.751 | |
| GetColorsForConditions | 0.392 | 0.012 | 0.403 | |
| GetDetailedNbPeptides | 0.433 | 0.017 | 0.450 | |
| GetDetailedNbPeptidesUsed | 0 | 0 | 0 | |
| GetIndices_BasedOnConditions | 0.427 | 0.009 | 0.437 | |
| GetIndices_MetacellFiltering | 0.415 | 0.003 | 0.419 | |
| GetIndices_WholeLine | 0.424 | 0.004 | 0.427 | |
| GetIndices_WholeMatrix | 0.418 | 0.011 | 0.430 | |
| GetKeyId | 0.422 | 0.013 | 0.433 | |
| GetMatAdj | 0.432 | 0.011 | 0.444 | |
| GetMetacell | 0 | 0 | 0 | |
| GetNbPeptidesUsed | 0.421 | 0.008 | 0.429 | |
| GetTypeofData | 0.382 | 0.023 | 0.406 | |
| Get_AllComparisons | 0.252 | 0.024 | 0.278 | |
| GlobalQuantileAlignment | 0.468 | 0.020 | 0.488 | |
| GraphPepProt | 0.422 | 0.019 | 0.442 | |
| LH0 | 0 | 0 | 0 | |
| LH0.lm | 0 | 0 | 0 | |
| LH1 | 0.000 | 0.000 | 0.001 | |
| LH1.lm | 0 | 0 | 0 | |
| LOESS | 1.116 | 0.048 | 1.164 | |
| MeanCentering | 0.410 | 0.004 | 0.414 | |
| MetaCellFiltering | 0.48 | 0.00 | 0.48 | |
| MetacellFilteringScope | 0.000 | 0.000 | 0.001 | |
| Metacell_generic | 0.450 | 0.024 | 0.475 | |
| Metacell_maxquant | 0.417 | 0.016 | 0.434 | |
| Metacell_proline | 0.395 | 0.012 | 0.407 | |
| NumericalFiltering | 0.976 | 0.091 | 1.068 | |
| NumericalgetIndicesOfLinesToRemove | 0.403 | 0.016 | 0.418 | |
| QuantileCentering | 0.409 | 0.004 | 0.413 | |
| SetCC | 1.495 | 0.032 | 1.527 | |
| SetMatAdj | 0.428 | 0.012 | 0.441 | |
| Set_POV_MEC_tags | 0.426 | 0.008 | 0.434 | |
| StringBasedFiltering | 0.443 | 0.016 | 0.459 | |
| StringBasedFiltering2 | 0.438 | 0.012 | 0.450 | |
| SumByColumns | 1.218 | 0.036 | 1.254 | |
| SymFilteringOperators | 0 | 0 | 0 | |
| UpdateMetacell | 0 | 0 | 0 | |
| aggregateIter | 1.073 | 0.024 | 1.098 | |
| aggregateIterParallel | 1.190 | 0.143 | 1.279 | |
| aggregateMean | 0.994 | 0.040 | 1.035 | |
| aggregateSum | 1.504 | 0.012 | 1.517 | |
| aggregateTopn | 0.914 | 0.024 | 0.939 | |
| averageIntensities | 0.532 | 0.040 | 0.567 | |
| barplotEnrichGO_HC | 8.836 | 1.246 | 9.880 | |
| barplotGroupGO_HC | 5.564 | 0.320 | 5.832 | |
| boxPlotD_HC | 0.243 | 0.026 | 0.263 | |
| buildGraph | 1.389 | 0.088 | 1.474 | |
| check.conditions | 0.412 | 0.004 | 0.415 | |
| check.design | 0.416 | 0.004 | 0.420 | |
| checkClusterability | 0.218 | 0.016 | 0.228 | |
| classic1wayAnova | 1.129 | 0.139 | 1.230 | |
| compareNormalizationD_HC | 0.163 | 0.029 | 0.188 | |
| compute_t_tests | 0.905 | 0.118 | 0.982 | |
| corrMatrixD_HC | 0.488 | 0.048 | 0.531 | |
| createMSnset | 1.692 | 0.097 | 1.773 | |
| dapar_hc_ExportMenu | 0.119 | 0.028 | 0.146 | |
| dapar_hc_chart | 0.057 | 0.008 | 0.064 | |
| deleteLinesFromIndices | 0.461 | 0.016 | 0.473 | |
| densityPlotD_HC | 2.458 | 0.702 | 2.951 | |
| diffAnaComputeFDR | 0.431 | 0.033 | 0.453 | |
| diffAnaGetSignificant | 0.288 | 0.045 | 0.323 | |
| diffAnaSave | 0.257 | 0.044 | 0.291 | |
| diffAnaVolcanoplot | 0.170 | 0.017 | 0.183 | |
| diffAnaVolcanoplot_rCharts | 0.411 | 0.058 | 0.454 | |
| display.CC.visNet | 1.617 | 0.068 | 1.677 | |
| enrich_GO | 4.646 | 0.271 | 4.864 | |
| finalizeAggregation | 0 | 0 | 0 | |
| findMECBlock | 0.465 | 0.004 | 0.467 | |
| formatLimmaResult | 0.987 | 0.007 | 0.991 | |
| formatPHResults | 2.899 | 0.350 | 3.129 | |
| fudge2LRT | 0.001 | 0.000 | 0.000 | |
| get.pep.prot.cc | 1.263 | 0.059 | 1.321 | |
| getIndicesConditions | 0.378 | 0.015 | 0.393 | |
| getIndicesOfLinesToRemove | 0.401 | 0.012 | 0.412 | |
| getListNbValuesInLines | 0.383 | 0.016 | 0.399 | |
| getNumberOf | 0.407 | 0.016 | 0.421 | |
| getNumberOfEmptyLines | 0.417 | 0.008 | 0.425 | |
| getPourcentageOfMV | 0.412 | 0.008 | 0.419 | |
| getProcessingInfo | 0.380 | 0.020 | 0.399 | |
| getProteinsStats | 0.443 | 0.008 | 0.457 | |
| getQuantile4Imp | 0.149 | 0.000 | 0.150 | |
| getTextForAggregation | 0 | 0 | 0 | |
| getTextForAnaDiff | 0.001 | 0.000 | 0.000 | |
| getTextForFiltering | 0.001 | 0.000 | 0.000 | |
| getTextForGOAnalysis | 0.001 | 0.000 | 0.000 | |
| getTextForHypothesisTest | 0.001 | 0.000 | 0.000 | |
| getTextForNewDataset | 0.002 | 0.000 | 0.002 | |
| getTextForNormalization | 0 | 0 | 0 | |
| getTextForpeptideImputation | 0 | 0 | 0 | |
| getTextForproteinImputation | 0 | 0 | 0 | |
| group_GO | 4.796 | 0.268 | 5.010 | |
| hc_logFC_DensityPlot | 0.524 | 0.108 | 0.589 | |
| hc_mvTypePlot2 | 1.504 | 0.148 | 1.612 | |
| heatmapD | 0.679 | 0.032 | 0.708 | |
| heatmapForMissingValues | 0.200 | 0.012 | 0.209 | |
| histPValue_HC | 0.229 | 0.029 | 0.253 | |
| impute.pa2 | 0.451 | 0.016 | 0.462 | |
| inner.aggregate.iter | 0.435 | 0.028 | 0.460 | |
| inner.aggregate.topn | 0.433 | 0.004 | 0.436 | |
| inner.mean | 0.484 | 0.000 | 0.483 | |
| inner.sum | 0.414 | 0.008 | 0.422 | |
| limmaCompleteTest | 1.279 | 0.047 | 1.315 | |
| listSheets | 0 | 0 | 0 | |
| make.contrast | 0.382 | 0.024 | 0.406 | |
| make.design.1 | 0.402 | 0.007 | 0.409 | |
| make.design.2 | 0.421 | 0.016 | 0.437 | |
| make.design.3 | 0.424 | 0.020 | 0.444 | |
| make.design | 0.418 | 0.007 | 0.425 | |
| match.metacell | 0.448 | 0.024 | 0.470 | |
| metacell.def | 0.002 | 0.004 | 0.006 | |
| metacellHisto_HC | 0.455 | 0.032 | 0.486 | |
| metacellPerLinesHistoPerCondition_HC | 0.563 | 0.032 | 0.591 | |
| metacellPerLinesHisto_HC | 0.479 | 0.013 | 0.488 | |
| metacombine | 11.111 | 1.968 | 12.386 | |
| mvImage | 1.961 | 0.097 | 2.033 | |
| my_hc_ExportMenu | 0.109 | 0.037 | 0.142 | |
| my_hc_chart | 0.123 | 0.024 | 0.144 | |
| nonzero | 0.021 | 0.000 | 0.022 | |
| normalizeMethods.dapar | 0 | 0 | 0 | |
| pepa.test | 0.413 | 0.016 | 0.428 | |
| plotJitter | 1.379 | 0.039 | 1.416 | |
| plotJitter_rCharts | 1.366 | 0.088 | 1.450 | |
| plotPCA_Eigen | 0.471 | 0.036 | 0.505 | |
| plotPCA_Eigen_hc | 0.393 | 0.011 | 0.404 | |
| plotPCA_Ind | 0.404 | 0.008 | 0.411 | |
| plotPCA_Var | 0.394 | 0.003 | 0.397 | |
| postHocTest | 2.808 | 0.362 | 3.068 | |
| proportionConRev_HC | 0.047 | 0.008 | 0.054 | |
| rbindMSnset | 0.502 | 0.016 | 0.513 | |
| reIntroduceMEC | 0.489 | 0.040 | 0.524 | |
| readExcel | 0 | 0 | 0 | |
| removeLines | 0.410 | 0.032 | 0.440 | |
| samLRT | 0.000 | 0.000 | 0.001 | |
| saveParameters | 0.392 | 0.012 | 0.404 | |
| scatterplotEnrichGO_HC | 4.708 | 0.328 | 4.987 | |
| search.metacell.tags | 0.007 | 0.000 | 0.007 | |
| splitAdjacencyMat | 0.435 | 0.020 | 0.454 | |
| test.design | 0.554 | 0.015 | 0.570 | |
| translatedRandomBeta | 0.003 | 0.008 | 0.010 | |
| univ_AnnotDbPkg | 0.158 | 0.074 | 0.230 | |
| violinPlotD | 0.299 | 0.012 | 0.310 | |
| visualizeClusters | 1.086 | 0.132 | 1.177 | |
| vsn | 1.417 | 0.026 | 1.442 | |
| wrapper.CVDistD_HC | 1.997 | 0.714 | 2.466 | |
| wrapper.compareNormalizationD_HC | 231.029 | 78.832 | 287.435 | |
| wrapper.corrMatrixD_HC | 0.468 | 0.023 | 0.488 | |
| wrapper.dapar.impute.mi | 11.654 | 0.269 | 11.832 | |
| wrapper.heatmapD | 0.636 | 0.030 | 0.665 | |
| wrapper.impute.KNN | 0.422 | 0.029 | 0.448 | |
| wrapper.impute.detQuant | 0.534 | 0.071 | 0.595 | |
| wrapper.impute.fixedValue | 0.480 | 0.025 | 0.499 | |
| wrapper.impute.mle | 0.479 | 0.019 | 0.496 | |
| wrapper.impute.pa | 0.166 | 0.006 | 0.170 | |
| wrapper.impute.pa2 | 0.433 | 0.026 | 0.454 | |
| wrapper.impute.slsa | 0.543 | 0.031 | 0.567 | |
| wrapper.mvImage | 0.169 | 0.019 | 0.184 | |
| wrapper.normalizeD | 0.402 | 0.000 | 0.402 | |
| wrapper.pca | 0.169 | 0.011 | 0.176 | |
| wrapperCalibrationPlot | 0.199 | 0.024 | 0.218 | |
| wrapperClassic1wayAnova | 1.557 | 0.174 | 1.672 | |
| wrapperRunClustering | 1.847 | 0.284 | 2.056 | |
| write.excel | 0.706 | 0.085 | 0.770 | |
| writeMSnsetToCSV | 0.430 | 0.019 | 0.447 | |
| writeMSnsetToExcel | 0.866 | 0.098 | 0.934 | |