| Back to Multiple platform build/check report for BioC 3.15 |
|
This page was generated on 2022-10-19 13:20:08 -0400 (Wed, 19 Oct 2022).
| Hostname | OS | Arch (*) | R version | Installed pkgs |
|---|---|---|---|---|
| nebbiolo1 | Linux (Ubuntu 20.04.5 LTS) | x86_64 | 4.2.1 (2022-06-23) -- "Funny-Looking Kid" | 4386 |
| palomino3 | Windows Server 2022 Datacenter | x64 | 4.2.1 (2022-06-23 ucrt) -- "Funny-Looking Kid" | 4138 |
| merida1 | macOS 10.14.6 Mojave | x86_64 | 4.2.1 (2022-06-23) -- "Funny-Looking Kid" | 4205 |
| Click on any hostname to see more info about the system (e.g. compilers) (*) as reported by 'uname -p', except on Windows and Mac OS X | ||||
|
To the developers/maintainers of the CopyNumberPlots package: - Please allow up to 24 hours (and sometimes 48 hours) for your latest push to git@git.bioconductor.org:packages/CopyNumberPlots.git to reflect on this report. See How and When does the builder pull? When will my changes propagate? for more information. - Make sure to use the following settings in order to reproduce any error or warning you see on this page. |
| Package 409/2140 | Hostname | OS / Arch | INSTALL | BUILD | CHECK | BUILD BIN | ||||||||
| CopyNumberPlots 1.12.0 (landing page) Bernat Gel
| nebbiolo1 | Linux (Ubuntu 20.04.5 LTS) / x86_64 | OK | OK | OK | |||||||||
| palomino3 | Windows Server 2022 Datacenter / x64 | OK | OK | OK | OK | |||||||||
| merida1 | macOS 10.14.6 Mojave / x86_64 | OK | OK | OK | OK | |||||||||
| Package: CopyNumberPlots |
| Version: 1.12.0 |
| Command: /home/biocbuild/bbs-3.15-bioc/R/bin/R CMD check --install=check:CopyNumberPlots.install-out.txt --library=/home/biocbuild/bbs-3.15-bioc/R/library --no-vignettes --timings CopyNumberPlots_1.12.0.tar.gz |
| StartedAt: 2022-10-18 19:11:51 -0400 (Tue, 18 Oct 2022) |
| EndedAt: 2022-10-18 19:16:57 -0400 (Tue, 18 Oct 2022) |
| EllapsedTime: 306.4 seconds |
| RetCode: 0 |
| Status: OK |
| CheckDir: CopyNumberPlots.Rcheck |
| Warnings: 0 |
############################################################################## ############################################################################## ### ### Running command: ### ### /home/biocbuild/bbs-3.15-bioc/R/bin/R CMD check --install=check:CopyNumberPlots.install-out.txt --library=/home/biocbuild/bbs-3.15-bioc/R/library --no-vignettes --timings CopyNumberPlots_1.12.0.tar.gz ### ############################################################################## ############################################################################## * using log directory ‘/home/biocbuild/bbs-3.15-bioc/meat/CopyNumberPlots.Rcheck’ * using R version 4.2.1 (2022-06-23) * using platform: x86_64-pc-linux-gnu (64-bit) * using session charset: UTF-8 * using option ‘--no-vignettes’ * checking for file ‘CopyNumberPlots/DESCRIPTION’ ... OK * checking extension type ... Package * this is package ‘CopyNumberPlots’ version ‘1.12.0’ * package encoding: UTF-8 * checking package namespace information ... OK * checking package dependencies ... OK * checking if this is a source package ... OK * checking if there is a namespace ... OK * checking for hidden files and directories ... OK * checking for portable file names ... OK * checking for sufficient/correct file permissions ... OK * checking whether package ‘CopyNumberPlots’ can be installed ... OK * checking installed package size ... OK * checking package directory ... OK * checking ‘build’ directory ... OK * checking DESCRIPTION meta-information ... OK * checking top-level files ... OK * checking for left-over files ... OK * checking index information ... OK * checking package subdirectories ... OK * checking R files for non-ASCII characters ... OK * checking R files for syntax errors ... OK * checking whether the package can be loaded ... OK * checking whether the package can be loaded with stated dependencies ... OK * checking whether the package can be unloaded cleanly ... OK * checking whether the namespace can be loaded with stated dependencies ... OK * checking whether the namespace can be unloaded cleanly ... OK * checking dependencies in R code ... OK * checking S3 generic/method consistency ... OK * checking replacement functions ... OK * checking foreign function calls ... OK * checking R code for possible problems ... OK * checking Rd files ... OK * checking Rd metadata ... OK * checking Rd cross-references ... OK * checking for missing documentation entries ... OK * checking for code/documentation mismatches ... OK * checking Rd \usage sections ... OK * checking Rd contents ... OK * checking for unstated dependencies in examples ... OK * checking files in ‘vignettes’ ... OK * checking examples ... OK * checking for unstated dependencies in ‘tests’ ... OK * checking tests ... Running ‘testthat.R’ OK * checking for unstated dependencies in vignettes ... OK * checking package vignettes in ‘inst/doc’ ... OK * checking running R code from vignettes ... SKIPPED * checking re-building of vignette outputs ... SKIPPED * checking PDF version of manual ... OK * DONE Status: OK
CopyNumberPlots.Rcheck/00install.out
############################################################################## ############################################################################## ### ### Running command: ### ### /home/biocbuild/bbs-3.15-bioc/R/bin/R CMD INSTALL CopyNumberPlots ### ############################################################################## ############################################################################## * installing to library ‘/home/biocbuild/bbs-3.15-bioc/R/library’ * installing *source* package ‘CopyNumberPlots’ ... ** using staged installation ** R ** inst ** byte-compile and prepare package for lazy loading ** help *** installing help indices ** building package indices ** installing vignettes ** testing if installed package can be loaded from temporary location ** testing if installed package can be loaded from final location ** testing if installed package keeps a record of temporary installation path * DONE (CopyNumberPlots)
CopyNumberPlots.Rcheck/tests/testthat.Rout
R version 4.2.1 (2022-06-23) -- "Funny-Looking Kid"
Copyright (C) 2022 The R Foundation for Statistical Computing
Platform: x86_64-pc-linux-gnu (64-bit)
R is free software and comes with ABSOLUTELY NO WARRANTY.
You are welcome to redistribute it under certain conditions.
Type 'license()' or 'licence()' for distribution details.
R is a collaborative project with many contributors.
Type 'contributors()' for more information and
'citation()' on how to cite R or R packages in publications.
Type 'demo()' for some demos, 'help()' for on-line help, or
'help.start()' for an HTML browser interface to help.
Type 'q()' to quit R.
> library(testthat)
> library(CopyNumberPlots)
Loading required package: karyoploteR
Loading required package: regioneR
Loading required package: GenomicRanges
Loading required package: stats4
Loading required package: BiocGenerics
Attaching package: 'BiocGenerics'
The following objects are masked from 'package:stats':
IQR, mad, sd, var, xtabs
The following objects are masked from 'package:base':
Filter, Find, Map, Position, Reduce, anyDuplicated, append,
as.data.frame, basename, cbind, colnames, dirname, do.call,
duplicated, eval, evalq, get, grep, grepl, intersect, is.unsorted,
lapply, mapply, match, mget, order, paste, pmax, pmax.int, pmin,
pmin.int, rank, rbind, rownames, sapply, setdiff, sort, table,
tapply, union, unique, unsplit, which.max, which.min
Loading required package: S4Vectors
Attaching package: 'S4Vectors'
The following objects are masked from 'package:base':
I, expand.grid, unname
Loading required package: IRanges
Loading required package: GenomeInfoDb
>
> test_check("CopyNumberPlots")
[ FAIL 0 | WARN 0 | SKIP 0 | PASS 26 ]
>
> proc.time()
user system elapsed
15.155 0.644 15.784
CopyNumberPlots.Rcheck/CopyNumberPlots-Ex.timings
| name | user | system | elapsed | |
| EnsemblStyle | 0.456 | 0.028 | 0.484 | |
| UCSCStyle | 0.337 | 0.012 | 0.349 | |
| Ztree2Hclust | 0.006 | 0.000 | 0.006 | |
| colByCopyNumber | 0.511 | 0.020 | 0.531 | |
| computeHclustPlotOrder | 0.023 | 0.000 | 0.023 | |
| getBAFColumn | 0.002 | 0.000 | 0.002 | |
| getChrColumn | 0.001 | 0.000 | 0.002 | |
| getColumn | 0.003 | 0.000 | 0.003 | |
| getCopyNumberColors | 0.001 | 0.000 | 0.001 | |
| getCopyNumberColumn | 0.002 | 0.000 | 0.002 | |
| getEndColumn | 0.002 | 0.000 | 0.002 | |
| getIDColumn | 0.001 | 0.000 | 0.001 | |
| getLOHColumn | 0.001 | 0.000 | 0.002 | |
| getLRRColumn | 0.000 | 0.001 | 0.002 | |
| getPosColumn | 0.000 | 0.001 | 0.001 | |
| getSegmentValueColumn | 0.001 | 0.000 | 0.001 | |
| getStartColumn | 0.002 | 0.000 | 0.002 | |
| loadCopyNumberCalls | 0.022 | 0.000 | 0.021 | |
| loadCopyNumberCallsCNVkit | 0.055 | 0.004 | 0.060 | |
| loadCopyNumberCallsCnmops | 0.210 | 0.027 | 0.239 | |
| loadCopyNumberCallsDECoN | 0.074 | 0.007 | 0.081 | |
| loadCopyNumberCallsDNAcopy | 0.570 | 0.021 | 0.590 | |
| loadCopyNumberCallsPanelcnmops | 0.314 | 0.012 | 0.328 | |
| loadCopyNumberCallsSeg | 0.017 | 0.000 | 0.017 | |
| loadCopyNumberCallspennCNV | 0.027 | 0.003 | 0.031 | |
| loadSNPData | 0.035 | 0.009 | 0.043 | |
| loadSNPDataDNAcopy | 0.499 | 0.016 | 0.514 | |
| loadSNPDataFromVCF | 0.000 | 0.001 | 0.001 | |
| plotBAF | 1.010 | 0.022 | 1.031 | |
| plotCopyNumberCalls | 0.166 | 0.004 | 0.171 | |
| plotCopyNumberCallsAsLines | 0.144 | 0.004 | 0.148 | |
| plotCopyNumberSummary | 0.166 | 0.011 | 0.179 | |
| plotLRR | 0.367 | 0.056 | 0.423 | |
| plotSingleCellCopyNumberCalls | 0.054 | 0.008 | 0.062 | |
| plotSingleCellCopyNumberSummary | 0.04 | 0.00 | 0.04 | |
| prepareLabels | 0.083 | 0.001 | 0.083 | |
| readHDF5Ztree | 0.001 | 0.000 | 0.001 | |
| removeNAs | 0.233 | 0.024 | 0.257 | |
| transformChr | 0.003 | 0.001 | 0.004 | |