| Back to Multiple platform build/check report for BioC 3.15 |
|
This page was generated on 2022-03-18 11:07:15 -0400 (Fri, 18 Mar 2022).
| Hostname | OS | Arch (*) | R version | Installed pkgs |
|---|---|---|---|---|
| nebbiolo1 | Linux (Ubuntu 20.04.4 LTS) | x86_64 | R Under development (unstable) (2022-02-17 r81757) -- "Unsuffered Consequences" | 4334 |
| riesling1 | Windows Server 2019 Standard | x64 | R Under development (unstable) (2021-11-21 r81221) -- "Unsuffered Consequences" | 4097 |
| palomino3 | Windows Server 2022 Datacenter | x64 | R Under development (unstable) (2022-02-17 r81757 ucrt) -- "Unsuffered Consequences" | 4083 |
| merida1 | macOS 10.14.6 Mojave | x86_64 | R Under development (unstable) (2022-03-02 r81842) -- "Unsuffered Consequences" | 4134 |
| Click on any hostname to see more info about the system (e.g. compilers) (*) as reported by 'uname -p', except on Windows and Mac OS X | ||||
|
To the developers/maintainers of the CompoundDb package: - Please allow up to 24 hours (and sometimes 48 hours) for your latest push to git@git.bioconductor.org:packages/CompoundDb.git to reflect on this report. See How and When does the builder pull? When will my changes propagate? here for more information. - Make sure to use the following settings in order to reproduce any error or warning you see on this page. |
| Package 382/2090 | Hostname | OS / Arch | INSTALL | BUILD | CHECK | BUILD BIN | ||||||||
| CompoundDb 0.99.9 (landing page) Johannes Rainer
| nebbiolo1 | Linux (Ubuntu 20.04.4 LTS) / x86_64 | OK | OK | OK | |||||||||
| riesling1 | Windows Server 2019 Standard / x64 | OK | OK | OK | OK | |||||||||
| palomino3 | Windows Server 2022 Datacenter / x64 | OK | OK | OK | OK | |||||||||
| merida1 | macOS 10.14.6 Mojave / x86_64 | OK | OK | OK | OK | |||||||||
| Package: CompoundDb |
| Version: 0.99.9 |
| Command: D:\biocbuild\bbs-3.15-bioc\R\bin\R.exe CMD check --no-multiarch --install=check:CompoundDb.install-out.txt --library=D:\biocbuild\bbs-3.15-bioc\R\library --no-vignettes --timings CompoundDb_0.99.9.tar.gz |
| StartedAt: 2022-03-17 18:47:38 -0400 (Thu, 17 Mar 2022) |
| EndedAt: 2022-03-17 18:49:44 -0400 (Thu, 17 Mar 2022) |
| EllapsedTime: 126.7 seconds |
| RetCode: 0 |
| Status: OK |
| CheckDir: CompoundDb.Rcheck |
| Warnings: 0 |
############################################################################## ############################################################################## ### ### Running command: ### ### D:\biocbuild\bbs-3.15-bioc\R\bin\R.exe CMD check --no-multiarch --install=check:CompoundDb.install-out.txt --library=D:\biocbuild\bbs-3.15-bioc\R\library --no-vignettes --timings CompoundDb_0.99.9.tar.gz ### ############################################################################## ############################################################################## * using log directory 'D:/biocbuild/bbs-3.15-bioc/meat/CompoundDb.Rcheck' * using R Under development (unstable) (2021-11-21 r81221) * using platform: x86_64-w64-mingw32 (64-bit) * using session charset: ISO8859-1 * using option '--no-vignettes' * checking for file 'CompoundDb/DESCRIPTION' ... OK * checking extension type ... Package * this is package 'CompoundDb' version '0.99.9' * checking package namespace information ... OK * checking package dependencies ... OK * checking if this is a source package ... OK * checking if there is a namespace ... OK * checking for hidden files and directories ... OK * checking for portable file names ... OK * checking whether package 'CompoundDb' can be installed ... OK * checking installed package size ... OK * checking package directory ... OK * checking 'build' directory ... OK * checking DESCRIPTION meta-information ... OK * checking top-level files ... OK * checking for left-over files ... OK * checking index information ... OK * checking package subdirectories ... OK * checking R files for non-ASCII characters ... OK * checking R files for syntax errors ... OK * checking whether the package can be loaded ... OK * checking whether the package can be loaded with stated dependencies ... OK * checking whether the package can be unloaded cleanly ... OK * checking whether the namespace can be loaded with stated dependencies ... OK * checking whether the namespace can be unloaded cleanly ... OK * checking dependencies in R code ... OK * checking S3 generic/method consistency ... OK * checking replacement functions ... OK * checking foreign function calls ... OK * checking R code for possible problems ... OK * checking Rd files ... OK * checking Rd metadata ... OK * checking Rd cross-references ... OK * checking for missing documentation entries ... OK * checking for code/documentation mismatches ... OK * checking Rd \usage sections ... OK * checking Rd contents ... OK * checking for unstated dependencies in examples ... OK * checking files in 'vignettes' ... OK * checking examples ... OK * checking for unstated dependencies in 'tests' ... OK * checking tests ... Running 'testthat.R' OK * checking for unstated dependencies in vignettes ... OK * checking package vignettes in 'inst/doc' ... OK * checking running R code from vignettes ... SKIPPED * checking re-building of vignette outputs ... SKIPPED * checking PDF version of manual ... OK * DONE Status: OK
CompoundDb.Rcheck/00install.out
##############################################################################
##############################################################################
###
### Running command:
###
### D:\biocbuild\bbs-3.15-bioc\R\bin\R.exe CMD INSTALL CompoundDb
###
##############################################################################
##############################################################################
* installing to library 'D:/biocbuild/bbs-3.15-bioc/R/library'
* installing *source* package 'CompoundDb' ...
** using staged installation
** R
** inst
** byte-compile and prepare package for lazy loading
** help
*** installing help indices
converting help for package 'CompoundDb'
finding HTML links ... done
CompDb html
finding level-2 HTML links ... done
Filter-classes html
IonDb html
MsBackendCompDb html
compound_tbl_lipidblast html
compound_tbl_sdf html
createCompDb html
expandMzIntensity html
import_mona_sdf html
msms_spectra_hmdb html
msms_spectra_mona html
*** copying figures
** building package indices
** installing vignettes
** testing if installed package can be loaded from temporary location
** testing if installed package can be loaded from final location
** testing if installed package keeps a record of temporary installation path
* DONE (CompoundDb)
Making 'packages.html' ...Warning in packageDescription(i, lib.loc = lib, fields = "Title", encoding = "UTF-8") :
DESCRIPTION file of package 'FEAST' is missing or broken
done
CompoundDb.Rcheck/tests/testthat.Rout
R Under development (unstable) (2021-11-21 r81221) -- "Unsuffered Consequences"
Copyright (C) 2021 The R Foundation for Statistical Computing
Platform: x86_64-w64-mingw32/x64 (64-bit)
R is free software and comes with ABSOLUTELY NO WARRANTY.
You are welcome to redistribute it under certain conditions.
Type 'license()' or 'licence()' for distribution details.
R is a collaborative project with many contributors.
Type 'contributors()' for more information and
'citation()' on how to cite R or R packages in publications.
Type 'demo()' for some demos, 'help()' for on-line help, or
'help.start()' for an HTML browser interface to help.
Type 'q()' to quit R.
> library("testthat")
> library("CompoundDb")
Loading required package: AnnotationFilter
Attaching package: 'AnnotationFilter'
The following object is masked from 'package:testthat':
not
Loading required package: S4Vectors
Loading required package: stats4
Loading required package: BiocGenerics
Attaching package: 'BiocGenerics'
The following objects are masked from 'package:stats':
IQR, mad, sd, var, xtabs
The following objects are masked from 'package:base':
Filter, Find, Map, Position, Reduce, anyDuplicated, append,
as.data.frame, basename, cbind, colnames, dirname, do.call,
duplicated, eval, evalq, get, grep, grepl, intersect, is.unsorted,
lapply, mapply, match, mget, order, paste, pmax, pmax.int, pmin,
pmin.int, rank, rbind, rownames, sapply, setdiff, sort, table,
tapply, union, unique, unsplit, which.max, which.min
Attaching package: 'S4Vectors'
The following objects are masked from 'package:base':
I, expand.grid, unname
> library(RSQLite)
>
> hmdb <- system.file("sdf/HMDB_sub.sdf.gz", package = "CompoundDb")
> cmps <- compound_tbl_sdf(hmdb)
> metad <- data.frame(name = c("source", "url", "source_version",
+ "source_date", "organism"),
+ value = c("HMDB_test", "http://www.hmdb.ca",
+ "v4", "2017-08-27", "Hsapiens"))
> db_file <- createCompDb(cmps, metadata = metad, path = tempdir())
> cmp_db <- CompDb(db_file)
>
> dr <- system.file("xml/", package = "CompoundDb")
> msms_spctra <- msms_spectra_hmdb(dr)
Going to process 4 xml files.
Postprocessing data ... OK
> ## spl_ <- as(msms_spctra, "Spectra")
>
> metad2 <- data.frame(name = c("source", "url", "source_version",
+ "source_date", "organism"),
+ value = c("HMDB_spctra", "http://www.hmdb.ca",
+ "v4", "2017-08-27", "Hsapiens"))
> db_spctra_file <- createCompDb(cmps, metadata = metad2, path = tempdir(),
+ msms_spectra = msms_spctra)
> cmp_spctra_db <- CompDb(db_spctra_file)
>
> cdb <- CompDb(system.file("sql/CompDb.MassBank.sql", package = "CompoundDb"))
>
> ions <- data.frame(compound_id = paste0("HMDB000000",
+ c("1", "1", "2", "2", "5")),
+ ion_adduct = c("A", "B", "B", "C", "D"),
+ ion_mz = c(100, 110, 150, 170, 200),
+ ion_rt = c(50, 60, 100, 110, 90))
> ion_db <- IonDb(paste0(tempdir(), "/ion_db.db"), cmp_db, ions)
>
> ion_spctra_db <- IonDb(paste0(tempdir(), "/ion_spctra_db.db"),
+ cmp_spctra_db, ions)
>
> test_check("CompoundDb")
MsBackendCompDb with 0 spectra
MsBackendCompDb with 4 spectra
msLevel precursorMz polarity
<integer> <numeric> <integer>
1 NA NA 1
2 NA NA 1
3 NA NA 1
4 NA NA 0
... 32 more variables/columns.
Use 'spectraVariables' to list all of them.
data source: HMDB_spctra
version: v4
organism: Hsapiens
Creating package in D:\biocbuild\bbs-3.15-bioc\tmpdir\RtmpAZjSA5/CompDb.Hsapiens.ChEBI.unknown
[ FAIL 0 | WARN 5 | SKIP 1 | PASS 597 ]
== Skipped tests ===============================================================
* empty test (1)
[ FAIL 0 | WARN 5 | SKIP 1 | PASS 597 ]
Warning message:
call dbDisconnect() when finished working with a connection
>
> proc.time()
user system elapsed
12.50 0.84 13.57
CompoundDb.Rcheck/CompoundDb-Ex.timings
| name | user | system | elapsed | |
| CompDb | 0.64 | 0.03 | 0.68 | |
| Filter-classes | 0.02 | 0.00 | 0.01 | |
| IonDb | 0.23 | 0.09 | 0.33 | |
| MsBackendCompDb | 0.14 | 0.02 | 0.15 | |
| compound_tbl_lipidblast | 0.04 | 0.02 | 0.05 | |
| compound_tbl_sdf | 0.12 | 0.06 | 0.19 | |
| createCompDb | 0.44 | 0.01 | 0.47 | |
| expandMzIntensity | 0.02 | 0.00 | 0.02 | |
| import_mona_sdf | 0.03 | 0.00 | 0.03 | |
| msms_spectra_hmdb | 0.03 | 0.02 | 0.04 | |
| msms_spectra_mona | 0.08 | 0.00 | 0.08 | |