| Back to Multiple platform build/check report for BioC 3.15 |
|
This page was generated on 2022-03-18 11:07:11 -0400 (Fri, 18 Mar 2022).
| Hostname | OS | Arch (*) | R version | Installed pkgs |
|---|---|---|---|---|
| nebbiolo1 | Linux (Ubuntu 20.04.4 LTS) | x86_64 | R Under development (unstable) (2022-02-17 r81757) -- "Unsuffered Consequences" | 4334 |
| riesling1 | Windows Server 2019 Standard | x64 | R Under development (unstable) (2021-11-21 r81221) -- "Unsuffered Consequences" | 4097 |
| palomino3 | Windows Server 2022 Datacenter | x64 | R Under development (unstable) (2022-02-17 r81757 ucrt) -- "Unsuffered Consequences" | 4083 |
| merida1 | macOS 10.14.6 Mojave | x86_64 | R Under development (unstable) (2022-03-02 r81842) -- "Unsuffered Consequences" | 4134 |
| Click on any hostname to see more info about the system (e.g. compilers) (*) as reported by 'uname -p', except on Windows and Mac OS X | ||||
|
To the developers/maintainers of the ChromSCape package: - Please allow up to 24 hours (and sometimes 48 hours) for your latest push to git@git.bioconductor.org:packages/ChromSCape.git to reflect on this report. See How and When does the builder pull? When will my changes propagate? here for more information. - Make sure to use the following settings in order to reproduce any error or warning you see on this page. |
| Package 311/2090 | Hostname | OS / Arch | INSTALL | BUILD | CHECK | BUILD BIN | ||||||||
| ChromSCape 1.5.32 (landing page) Pacome Prompsy
| nebbiolo1 | Linux (Ubuntu 20.04.4 LTS) / x86_64 | OK | ERROR | skipped | |||||||||
| riesling1 | Windows Server 2019 Standard / x64 | OK | ERROR | skipped | skipped | |||||||||
| palomino3 | Windows Server 2022 Datacenter / x64 | OK | ERROR | skipped | skipped | |||||||||
| merida1 | macOS 10.14.6 Mojave / x86_64 | OK | ERROR | skipped | skipped | |||||||||
| Package: ChromSCape |
| Version: 1.5.32 |
| Command: D:\biocbuild\bbs-3.15-bioc\R\bin\R.exe CMD INSTALL ChromSCape |
| StartedAt: 2022-03-17 16:04:25 -0400 (Thu, 17 Mar 2022) |
| EndedAt: 2022-03-17 16:05:49 -0400 (Thu, 17 Mar 2022) |
| EllapsedTime: 84.6 seconds |
| RetCode: 0 |
| Status: OK |
##############################################################################
##############################################################################
###
### Running command:
###
### D:\biocbuild\bbs-3.15-bioc\R\bin\R.exe CMD INSTALL ChromSCape
###
##############################################################################
##############################################################################
* installing to library 'D:/biocbuild/bbs-3.15-bioc/R/library'
* installing *source* package 'ChromSCape' ...
** using staged installation
** libs
"C:/rtools40/mingw64/bin/"g++ -std=gnu++11 -I"D:/biocbuild/bbs-3.15-bioc/R/include" -DNDEBUG -I'D:/biocbuild/bbs-3.15-bioc/R/library/Rcpp/include' -I"C:/extsoft/include" -O2 -Wall -mfpmath=sse -msse2 -mstackrealign -fno-reorder-blocks-and-partition -c RcppExports.cpp -o RcppExports.o
"C:/rtools40/mingw64/bin/"g++ -std=gnu++11 -I"D:/biocbuild/bbs-3.15-bioc/R/include" -DNDEBUG -I'D:/biocbuild/bbs-3.15-bioc/R/library/Rcpp/include' -I"C:/extsoft/include" -O2 -Wall -mfpmath=sse -msse2 -mstackrealign -fno-reorder-blocks-and-partition -c as_dist.cpp -o as_dist.o
C:/rtools40/mingw64/bin/g++ -std=gnu++11 -shared -s -static-libgcc -o ChromSCape.dll tmp.def RcppExports.o as_dist.o -LC:/extsoft/lib/x64 -LC:/extsoft/lib -LD:/biocbuild/bbs-3.15-bioc/R/bin/x64 -lR
installing to D:/biocbuild/bbs-3.15-bioc/R/library/00LOCK-ChromSCape/00new/ChromSCape/libs/x64
** R
** data
** inst
** byte-compile and prepare package for lazy loading
** help
*** installing help indices
converting help for package 'ChromSCape'
finding HTML links ... done
CheA3_TF_nTargets html
CompareWilcox html
CompareedgeRGLM html
DA_custom html
DA_one_vs_rest html
DA_pairwise html
H1proportion html
annotToCol2 html
annotation_from_merged_peaks html
anocol_binary html
anocol_categorical html
bams_to_matrix_indexes html
beds_to_matrix_indexes html
calculate_CNA html
calculate_cyto_mat html
calculate_gain_or_loss html
calculate_logRatio_CNA html
call_macs2_merge_peaks html
changeRange html
check_correct_datamatrix html
choose_cluster_scExp html
choose_perplexity html
col2hex html
colors_scExp html
combine_datamatrix html
combine_enrichmentTests html
concatenate_scBed_into_clusters html
consensus_clustering_scExp html
correlation_and_hierarchical_clust_scExp
html
count_coverage html
create_project_folder html
create_sample_name_mat html
create_scDataset_raw html
create_scExp html
define_feature html
detect_samples html
differential_activation html
differential_analysis_scExp html
distPearson html
enrich_TF_ChEA3_genes html
enrich_TF_ChEA3_scExp html
enrichmentTest html
exclude_features_scExp html
feature_annotation_scExp html
filter_correlated_cell_scExp html
filter_genes_with_refined_peak_annotation
html
filter_scExp html
find_clusters_louvain_scExp html
find_top_features html
gene_set_enrichment_analysis_scExp html
generate_analysis html
generate_count_matrix html
generate_coverage_tracks html
generate_feature_names html
generate_report html
getExperimentNames html
getMainExperiment html
get_color_dataframe_from_input html
get_cyto_features html
get_genomic_coordinates html
get_most_variable_cyto html
gg_fill_hue html
groupMat html
has_genomic_coordinates html
hclustAnnotHeatmapPlot html
hg38.GeneTSS html
hg38.chromosomes html
hg38.cytoBand html
imageCol html
import_count_input_files html
import_scExp html
index_peaks_barcodes_to_matrix_indexes
html
inter_correlation_scExp html
intra_correlation_scExp html
launchApp html
load_MSIGdb html
merge_MACS2_peaks html
mm10.GeneTSS html
mm10.chromosomes html
mm10.cytoBand html
normalize_scExp html
num_cell_after_QC_filt_scExp html
num_cell_after_cor_filt_scExp html
num_cell_before_cor_filt_scExp html
num_cell_in_cluster_scExp html
num_cell_scExp html
pca_irlba_for_sparseMatrix html
peaks_to_bins html
plot_cluster_consensus_scExp html
plot_coverage_BigWig html
plot_differential_summary_scExp html
plot_differential_volcano_scExp html
plot_distribution_scExp html
plot_gain_or_loss_barplots html
plot_heatmap_scExp html
plot_inter_correlation_scExp html
plot_intra_correlation_scExp html
plot_most_contributing_features html
plot_pie_most_contributing_chr html
plot_reduced_dim_scExp html
plot_reduced_dim_scExp_CNA html
plot_top_TF_scExp html
preprocess_CPM html
preprocess_RPKM html
preprocess_TFIDF html
preprocess_TPM html
preprocess_feature_size_only html
preprocessing_filtering_and_reduction html
raw_counts_to_sparse_matrix html
rawfile_ToBigWig html
read_count_mat_with_separated_chr_start_end
html
read_sparse_matrix html
reduce_dim_batch_correction html
reduce_dims_scExp html
remove_chr_M_fun html
remove_non_canonical_fun html
results_enrichmentTest html
retrieve_top_bot_features_pca html
run_pairwise_tests html
run_tsne_scExp html
scExp html
separate_BAM_into_clusters html
separator_count_mat html
smoothBin html
subsample_scExp html
subset_bam_call_peaks html
summary_DA html
swapAltExp_sameColData html
table_enriched_genes_scExp html
warning_DA html
warning_filter_correlated_cell_scExp html
warning_plot_reduced_dim_scExp html
warning_raw_counts_to_sparse_matrix html
wrapper_Signac_FeatureMatrix html
** building package indices
** installing vignettes
** testing if installed package can be loaded from temporary location
** testing if installed package can be loaded from final location
** testing if installed package keeps a record of temporary installation path
* DONE (ChromSCape)
Making 'packages.html' ... done