| Back to Multiple platform build/check report for BioC 3.15 |
|
This page was generated on 2022-01-04 11:05:47 -0500 (Tue, 04 Jan 2022).
| Hostname | OS | Arch (*) | R version | Installed pkgs |
|---|---|---|---|---|
| nebbiolo1 | Linux (Ubuntu 20.04.4 LTS) | x86_64 | R Under development (unstable) (2021-11-10 r81171) -- "Unsuffered Consequences" | 4307 |
| riesling1 | Windows Server 2019 Standard | x64 | R Under development (unstable) (2021-11-21 r81221) -- "Unsuffered Consequences" | 4044 |
| merida1 | macOS 10.14.6 Mojave | x86_64 | R Under development (unstable) (2021-11-01 r81125) -- "Unsuffered Consequences" | 4122 |
| Click on any hostname to see more info about the system (e.g. compilers) (*) as reported by 'uname -p', except on Windows and Mac OS X | ||||
|
To the developers/maintainers of the Cepo package: - Please allow up to 24 hours (and sometimes 48 hours) for your latest push to git@git.bioconductor.org:packages/Cepo.git to reflect on this report. See How and When does the builder pull? When will my changes propagate? here for more information. - Make sure to use the following settings in order to reproduce any error or warning you see on this page. |
| Package 276/2072 | Hostname | OS / Arch | INSTALL | BUILD | CHECK | BUILD BIN | ||||||||
| Cepo 1.1.1 (landing page) Hani Jieun Kim
| nebbiolo1 | Linux (Ubuntu 20.04.4 LTS) / x86_64 | OK | OK | OK | |||||||||
| riesling1 | Windows Server 2019 Standard / x64 | OK | OK | OK | OK | |||||||||
| merida1 | macOS 10.14.6 Mojave / x86_64 | OK | OK | OK | OK | |||||||||
| Package: Cepo |
| Version: 1.1.1 |
| Command: rm -rf Cepo.buildbin-libdir && mkdir Cepo.buildbin-libdir && D:\biocbuild\bbs-3.15-bioc\R\bin\R.exe CMD INSTALL --build --library=Cepo.buildbin-libdir Cepo_1.1.1.tar.gz |
| StartedAt: 2022-01-03 20:46:50 -0500 (Mon, 03 Jan 2022) |
| EndedAt: 2022-01-03 20:48:01 -0500 (Mon, 03 Jan 2022) |
| EllapsedTime: 71.1 seconds |
| RetCode: 0 |
| Status: OK |
| PackageFile: Cepo_1.1.1.zip |
| PackageFileSize: 2.491 MiB |
##############################################################################
##############################################################################
###
### Running command:
###
### rm -rf Cepo.buildbin-libdir && mkdir Cepo.buildbin-libdir && D:\biocbuild\bbs-3.15-bioc\R\bin\R.exe CMD INSTALL --build --library=Cepo.buildbin-libdir Cepo_1.1.1.tar.gz
###
##############################################################################
##############################################################################
* installing *source* package 'Cepo' ...
** using staged installation
** R
** data
** inst
** byte-compile and prepare package for lazy loading
** help
*** installing help indices
converting help for package 'Cepo'
finding HTML links ... done
Cepo html
cellbench html
plotDensities html
finding level-2 HTML links ... done
sce_pancreas html
setCepoBPPARAM html
topGenes html
*** copying figures
** building package indices
** installing vignettes
** testing if installed package can be loaded from temporary location
** testing if installed package can be loaded from final location
** testing if installed package keeps a record of temporary installation path
* MD5 sums
packaged installation of 'Cepo' as Cepo_1.1.1.zip
* DONE (Cepo)