Back to Multiple platform build/check report for BioC 3.15 |
|
This page was generated on 2022-03-18 11:07:08 -0400 (Fri, 18 Mar 2022).
Hostname | OS | Arch (*) | R version | Installed pkgs |
---|---|---|---|---|
nebbiolo1 | Linux (Ubuntu 20.04.4 LTS) | x86_64 | R Under development (unstable) (2022-02-17 r81757) -- "Unsuffered Consequences" | 4334 |
riesling1 | Windows Server 2019 Standard | x64 | R Under development (unstable) (2021-11-21 r81221) -- "Unsuffered Consequences" | 4097 |
palomino3 | Windows Server 2022 Datacenter | x64 | R Under development (unstable) (2022-02-17 r81757 ucrt) -- "Unsuffered Consequences" | 4083 |
merida1 | macOS 10.14.6 Mojave | x86_64 | R Under development (unstable) (2022-03-02 r81842) -- "Unsuffered Consequences" | 4134 |
Click on any hostname to see more info about the system (e.g. compilers) (*) as reported by 'uname -p', except on Windows and Mac OS X |
To the developers/maintainers of the CellaRepertorium package: - Please allow up to 24 hours (and sometimes 48 hours) for your latest push to git@git.bioconductor.org:packages/CellaRepertorium.git to reflect on this report. See How and When does the builder pull? When will my changes propagate? here for more information. - Make sure to use the following settings in order to reproduce any error or warning you see on this page. |
Package 260/2090 | Hostname | OS / Arch | INSTALL | BUILD | CHECK | BUILD BIN | ||||||||
CellaRepertorium 1.5.0 (landing page) Andrew McDavid
| nebbiolo1 | Linux (Ubuntu 20.04.4 LTS) / x86_64 | OK | OK | OK | |||||||||
riesling1 | Windows Server 2019 Standard / x64 | OK | OK | OK | OK | |||||||||
palomino3 | Windows Server 2022 Datacenter / x64 | OK | OK | OK | OK | |||||||||
merida1 | macOS 10.14.6 Mojave / x86_64 | OK | OK | OK | OK | |||||||||
Package: CellaRepertorium |
Version: 1.5.0 |
Command: D:\biocbuild\bbs-3.15-bioc\R\bin\R.exe CMD check --no-multiarch --install=check:CellaRepertorium.install-out.txt --library=D:\biocbuild\bbs-3.15-bioc\R\library --no-vignettes --timings CellaRepertorium_1.5.0.tar.gz |
StartedAt: 2022-03-17 18:39:32 -0400 (Thu, 17 Mar 2022) |
EndedAt: 2022-03-17 18:42:02 -0400 (Thu, 17 Mar 2022) |
EllapsedTime: 149.8 seconds |
RetCode: 0 |
Status: OK |
CheckDir: CellaRepertorium.Rcheck |
Warnings: 0 |
############################################################################## ############################################################################## ### ### Running command: ### ### D:\biocbuild\bbs-3.15-bioc\R\bin\R.exe CMD check --no-multiarch --install=check:CellaRepertorium.install-out.txt --library=D:\biocbuild\bbs-3.15-bioc\R\library --no-vignettes --timings CellaRepertorium_1.5.0.tar.gz ### ############################################################################## ############################################################################## * using log directory 'D:/biocbuild/bbs-3.15-bioc/meat/CellaRepertorium.Rcheck' * using R Under development (unstable) (2021-11-21 r81221) * using platform: x86_64-w64-mingw32 (64-bit) * using session charset: ISO8859-1 * using option '--no-vignettes' * checking for file 'CellaRepertorium/DESCRIPTION' ... OK * checking extension type ... Package * this is package 'CellaRepertorium' version '1.5.0' * package encoding: UTF-8 * checking package namespace information ... OK * checking package dependencies ... OK * checking if this is a source package ... OK * checking if there is a namespace ... OK * checking for hidden files and directories ... OK * checking for portable file names ... OK * checking whether package 'CellaRepertorium' can be installed ... OK * checking installed package size ... OK * checking package directory ... OK * checking 'build' directory ... OK * checking DESCRIPTION meta-information ... OK * checking top-level files ... OK * checking for left-over files ... OK * checking index information ... OK * checking package subdirectories ... OK * checking R files for non-ASCII characters ... OK * checking R files for syntax errors ... OK * checking whether the package can be loaded ... OK * checking whether the package can be loaded with stated dependencies ... OK * checking whether the package can be unloaded cleanly ... OK * checking whether the namespace can be loaded with stated dependencies ... OK * checking whether the namespace can be unloaded cleanly ... OK * checking dependencies in R code ... OK * checking S3 generic/method consistency ... OK * checking replacement functions ... OK * checking foreign function calls ... OK * checking R code for possible problems ... NOTE cross_tab_tbl: no visible binding for global variable '.' cross_tab_tbl: no visible binding for global variable 'x_key__' fancy_name_contigs: no visible binding for global variable '.' pairing_tables: no visible binding for global variable '.' plot_cluster_factors: no visible binding for global variable 'chain' Undefined global functions or variables: . chain x_key__ * checking Rd files ... OK * checking Rd metadata ... OK * checking Rd cross-references ... OK * checking for missing documentation entries ... OK * checking for code/documentation mismatches ... OK * checking Rd \usage sections ... OK * checking Rd contents ... OK * checking for unstated dependencies in examples ... OK * checking contents of 'data' directory ... OK * checking data for non-ASCII characters ... OK * checking data for ASCII and uncompressed saves ... OK * checking line endings in C/C++/Fortran sources/headers ... OK * checking compiled code ... NOTE Note: information on .o files for x64 is not available File 'D:/biocbuild/bbs-3.15-bioc/R/library/CellaRepertorium/libs/x64/CellaRepertorium.dll': Found 'abort', possibly from 'abort' (C), 'runtime' (Fortran) Found 'exit', possibly from 'exit' (C), 'stop' (Fortran) Found 'printf', possibly from 'printf' (C) Compiled code should not call entry points which might terminate R nor write to stdout/stderr instead of to the console, nor use Fortran I/O nor system RNGs. The detected symbols are linked into the code but might come from libraries and not actually be called. See 'Writing portable packages' in the 'Writing R Extensions' manual. * checking files in 'vignettes' ... OK * checking examples ... OK * checking for unstated dependencies in 'tests' ... OK * checking tests ... Running 'testthat.R' OK * checking for unstated dependencies in vignettes ... OK * checking package vignettes in 'inst/doc' ... OK * checking running R code from vignettes ... SKIPPED * checking re-building of vignette outputs ... SKIPPED * checking PDF version of manual ... OK * DONE Status: 2 NOTEs See 'D:/biocbuild/bbs-3.15-bioc/meat/CellaRepertorium.Rcheck/00check.log' for details.
CellaRepertorium.Rcheck/00install.out
############################################################################## ############################################################################## ### ### Running command: ### ### D:\biocbuild\bbs-3.15-bioc\R\bin\R.exe CMD INSTALL CellaRepertorium ### ############################################################################## ############################################################################## * installing to library 'D:/biocbuild/bbs-3.15-bioc/R/library' * installing *source* package 'CellaRepertorium' ... ** using staged installation ** libs "C:/rtools40/mingw64/bin/"g++ -std=gnu++11 -I"D:/biocbuild/bbs-3.15-bioc/R/include" -DNDEBUG -I'D:/biocbuild/bbs-3.15-bioc/R/library/Rcpp/include' -I"C:/extsoft/include" -O2 -Wall -mfpmath=sse -msse2 -mstackrealign -fno-reorder-blocks-and-partition -c RcppExports.cpp -o RcppExports.o "C:/rtools40/mingw64/bin/"g++ -std=gnu++11 -I"D:/biocbuild/bbs-3.15-bioc/R/include" -DNDEBUG -I'D:/biocbuild/bbs-3.15-bioc/R/library/Rcpp/include' -I"C:/extsoft/include" -O2 -Wall -mfpmath=sse -msse2 -mstackrealign -fno-reorder-blocks-and-partition -c cdhit-bombs.cpp -o cdhit-bombs.o In file included from cdhit-bombs.cpp:2: cdhit-common.h: In member function 'void WorkingBuffer::Set(size_t, size_t, const Options&)': cdhit-common.h:494:12: warning: comparison of integer expressions of different signedness: 'size_t' {aka 'long long unsigned int'} and 'const int' [-Wsign-compare] if( band > options.band_width ) band = options.band_width; ~~~~~^~~~~~~~~~~~~~~~~~~~ "C:/rtools40/mingw64/bin/"g++ -std=gnu++11 -I"D:/biocbuild/bbs-3.15-bioc/R/include" -DNDEBUG -I'D:/biocbuild/bbs-3.15-bioc/R/library/Rcpp/include' -I"C:/extsoft/include" -O2 -Wall -mfpmath=sse -msse2 -mstackrealign -fno-reorder-blocks-and-partition -c cdhit-common.cpp -o cdhit-common.o cdhit-common.cpp:160: warning: ignoring #pragma omp critical [-Wunknown-pragmas] #pragma omp critical cdhit-common.cpp:174: warning: ignoring #pragma omp critical [-Wunknown-pragmas] #pragma omp critical cdhit-common.cpp:2418: warning: ignoring #pragma omp parallel [-Wunknown-pragmas] #pragma omp parallel for schedule( dynamic, 1 ) cdhit-common.cpp:2435: warning: ignoring #pragma omp parallel [-Wunknown-pragmas] #pragma omp parallel for schedule( dynamic, 1 ) cdhit-common.cpp:2437: warning: ignoring #pragma omp flush [-Wunknown-pragmas] #pragma omp flush (stop) cdhit-common.cpp:2458: warning: ignoring #pragma omp critical [-Wunknown-pragmas] #pragma omp critical cdhit-common.cpp:2467: warning: ignoring #pragma omp flush [-Wunknown-pragmas] #pragma omp flush (stop) cdhit-common.cpp:2492: warning: ignoring #pragma omp parallel [-Wunknown-pragmas] #pragma omp parallel for schedule( dynamic, 1 ) cdhit-common.cpp:3151: warning: ignoring #pragma omp parallel [-Wunknown-pragmas] #pragma omp parallel for schedule( dynamic, 1 ) In file included from cdhit-common.cpp:37: cdhit-common.h: In member function 'void WorkingBuffer::Set(size_t, size_t, const Options&)': cdhit-common.h:494:12: warning: comparison of integer expressions of different signedness: 'size_t' {aka 'long long unsigned int'} and 'const int' [-Wsign-compare] if( band > options.band_width ) band = options.band_width; ~~~~~^~~~~~~~~~~~~~~~~~~~ cdhit-common.cpp: In function 'int diag_test_aapn(int, char*, int, int, WorkingBuffer&, int&, int, int&, int&, int&, int)': cdhit-common.cpp:545:6: warning: variable 'max_diag' set but not used [-Wunused-but-set-variable] int max_diag = 0; ^~~~~~~~ cdhit-common.cpp: In function 'int diag_test_aapn_est(int, char*, int, int, WorkingBuffer&, int&, int, int&, int&, int&, int)': cdhit-common.cpp:669:6: warning: variable 'max_diag' set but not used [-Wunused-but-set-variable] int max_diag = 0; ^~~~~~~~ cdhit-common.cpp: In member function 'void SequenceDB::SortDivide(Options&, bool)': cdhit-common.cpp:1774:11: warning: comparison of integer expressions of different signedness: 'int' and 'size_t' {aka 'long long unsigned int'} [-Wsign-compare] if (len > max_len) max_len = len; ~~~~^~~~~~~~~ cdhit-common.cpp:1775:11: warning: comparison of integer expressions of different signedness: 'int' and 'size_t' {aka 'long long unsigned int'} [-Wsign-compare] if (len < min_len) min_len = len; ~~~~^~~~~~~~~ cdhit-common.cpp: In member function 'void SequenceDB::DoClustering(int, const Options&)': cdhit-common.cpp:2379:9: warning: variable 'mem' set but not used [-Wunused-but-set-variable] size_t mem, mega = 1000000; ^~~ "C:/rtools40/mingw64/bin/"g++ -std=gnu++11 -I"D:/biocbuild/bbs-3.15-bioc/R/include" -DNDEBUG -I'D:/biocbuild/bbs-3.15-bioc/R/library/Rcpp/include' -I"C:/extsoft/include" -O2 -Wall -mfpmath=sse -msse2 -mstackrealign -fno-reorder-blocks-and-partition -c cdhit-est.cpp -o cdhit-est.o In file included from cdhit-est.cpp:32: cdhit-common.h: In member function 'void WorkingBuffer::Set(size_t, size_t, const Options&)': cdhit-common.h:494:12: warning: comparison of integer expressions of different signedness: 'size_t' {aka 'long long unsigned int'} and 'const int' [-Wsign-compare] if( band > options.band_width ) band = options.band_width; ~~~~~^~~~~~~~~~~~~~~~~~~~ "C:/rtools40/mingw64/bin/"g++ -std=gnu++11 -I"D:/biocbuild/bbs-3.15-bioc/R/include" -DNDEBUG -I'D:/biocbuild/bbs-3.15-bioc/R/library/Rcpp/include' -I"C:/extsoft/include" -O2 -Wall -mfpmath=sse -msse2 -mstackrealign -fno-reorder-blocks-and-partition -c cdhit.cpp -o cdhit.o In file included from cdhit.cpp:31: cdhit-common.h: In member function 'void WorkingBuffer::Set(size_t, size_t, const Options&)': cdhit-common.h:494:12: warning: comparison of integer expressions of different signedness: 'size_t' {aka 'long long unsigned int'} and 'const int' [-Wsign-compare] if( band > options.band_width ) band = options.band_width; ~~~~~^~~~~~~~~~~~~~~~~~~~ "C:/rtools40/mingw64/bin/"g++ -std=gnu++11 -I"D:/biocbuild/bbs-3.15-bioc/R/include" -DNDEBUG -I'D:/biocbuild/bbs-3.15-bioc/R/library/Rcpp/include' -I"C:/extsoft/include" -O2 -Wall -mfpmath=sse -msse2 -mstackrealign -fno-reorder-blocks-and-partition -c progress.cpp -o progress.o C:/rtools40/mingw64/bin/g++ -std=gnu++11 -shared -s -static-libgcc -o CellaRepertorium.dll tmp.def RcppExports.o cdhit-bombs.o cdhit-common.o cdhit-est.o cdhit.o progress.o -LC:/extsoft/lib/x64 -LC:/extsoft/lib -LD:/biocbuild/bbs-3.15-bioc/R/bin/x64 -lR installing to D:/biocbuild/bbs-3.15-bioc/R/library/00LOCK-CellaRepertorium/00new/CellaRepertorium/libs/x64 ** R ** data ** inst ** byte-compile and prepare package for lazy loading ** help *** installing help indices converting help for package 'CellaRepertorium' finding HTML links ... done ContigCellDB-fun html canonicalize_cell html canonicalize_cluster html cash-ContigCellDB-method html ccdb_ex html ccdb_join html cdhit html cdhit_ccdb html cland html cluster_filterset html cluster_germline html cluster_logistic_test html cluster_permute_test html cluster_plot html contigs_qc html cross_tab_tbl html crosstab_by_celltype html dot-cluster_permute_test html entropy html enumerate_pairing html equalize_ccdb html fancy_name_contigs html fine_cluster_seqs html fine_clustering html generate_pseudobulk html guess_celltype html hushWarning html left_join_warn html map_axis_labels html mutate_cdb html pairing_tables html plot_cluster_factors html purity html rank_prevalence_ccdb html rbind-ContigCellDB-method html split_cdb html sub-sub-ContigCellDB-character-missing-method html *** copying figures ** building package indices ** installing vignettes ** testing if installed package can be loaded from temporary location ** testing if installed package can be loaded from final location ** testing if installed package keeps a record of temporary installation path * DONE (CellaRepertorium) Making 'packages.html' ... done
CellaRepertorium.Rcheck/tests/testthat.Rout
R Under development (unstable) (2021-11-21 r81221) -- "Unsuffered Consequences" Copyright (C) 2021 The R Foundation for Statistical Computing Platform: x86_64-w64-mingw32/x64 (64-bit) R is free software and comes with ABSOLUTELY NO WARRANTY. You are welcome to redistribute it under certain conditions. Type 'license()' or 'licence()' for distribution details. R is a collaborative project with many contributors. Type 'contributors()' for more information and 'citation()' on how to cite R or R packages in publications. Type 'demo()' for some demos, 'help()' for on-line help, or 'help.start()' for an HTML browser interface to help. Type 'q()' to quit R. > library(testthat) > library(CellaRepertorium) > > test_check("CellaRepertorium") [ FAIL 0 | WARN 0 | SKIP 0 | PASS 81 ] > > proc.time() user system elapsed 16.50 1.62 18.14
CellaRepertorium.Rcheck/CellaRepertorium-Ex.timings
name | user | system | elapsed | |
ContigCellDB-fun | 0.22 | 0.06 | 0.28 | |
canonicalize_cell | 0.31 | 0.07 | 0.37 | |
canonicalize_cluster | 2.26 | 0.15 | 2.42 | |
cash-ContigCellDB-method | 0.13 | 0.22 | 0.34 | |
ccdb_join | 0.03 | 0.08 | 0.11 | |
cdhit | 0.12 | 0.20 | 0.36 | |
cdhit_ccdb | 0.11 | 0.10 | 0.21 | |
cland | 2.52 | 0.20 | 2.73 | |
cluster_filterset | 0 | 0 | 0 | |
cluster_germline | 0.05 | 0.08 | 0.12 | |
cluster_logistic_test | 4.09 | 0.22 | 4.33 | |
cluster_permute_test | 0.83 | 0.01 | 0.85 | |
cluster_plot | 1.86 | 0.14 | 2.01 | |
cross_tab_tbl | 0.09 | 0.00 | 0.10 | |
crosstab_by_celltype | 0.11 | 0.03 | 0.14 | |
entropy | 0 | 0 | 0 | |
enumerate_pairing | 0.30 | 0.08 | 0.37 | |
equalize_ccdb | 0.04 | 0.00 | 0.05 | |
fancy_name_contigs | 0.30 | 0.06 | 0.28 | |
fine_cluster_seqs | 0.02 | 0.00 | 0.02 | |
fine_clustering | 1.25 | 0.13 | 1.39 | |
generate_pseudobulk | 0.14 | 0.08 | 0.21 | |
guess_celltype | 0.01 | 0.08 | 0.10 | |
hushWarning | 0 | 0 | 0 | |
left_join_warn | 0.02 | 0.00 | 0.01 | |
map_axis_labels | 0.11 | 0.00 | 0.11 | |
mutate_cdb | 0.11 | 0.12 | 0.24 | |
pairing_tables | 0.45 | 0.00 | 0.45 | |
plot_cluster_factors | 2.73 | 0.13 | 2.86 | |
purity | 0 | 0 | 0 | |
rank_prevalence_ccdb | 0.27 | 0.07 | 0.34 | |
rbind-ContigCellDB-method | 0.08 | 0.07 | 0.14 | |
split_cdb | 0.03 | 0.07 | 0.11 | |
sub-sub-ContigCellDB-character-missing-method | 0.05 | 0.07 | 0.11 | |