Back to Multiple platform build/check report for BioC 3.15 |
|
This page was generated on 2022-10-19 13:20:04 -0400 (Wed, 19 Oct 2022).
Hostname | OS | Arch (*) | R version | Installed pkgs |
---|---|---|---|---|
nebbiolo1 | Linux (Ubuntu 20.04.5 LTS) | x86_64 | 4.2.1 (2022-06-23) -- "Funny-Looking Kid" | 4386 |
palomino3 | Windows Server 2022 Datacenter | x64 | 4.2.1 (2022-06-23 ucrt) -- "Funny-Looking Kid" | 4138 |
merida1 | macOS 10.14.6 Mojave | x86_64 | 4.2.1 (2022-06-23) -- "Funny-Looking Kid" | 4205 |
Click on any hostname to see more info about the system (e.g. compilers) (*) as reported by 'uname -p', except on Windows and Mac OS X |
To the developers/maintainers of the CellScore package: - Please allow up to 24 hours (and sometimes 48 hours) for your latest push to git@git.bioconductor.org:packages/CellScore.git to reflect on this report. See How and When does the builder pull? When will my changes propagate? for more information. - Make sure to use the following settings in order to reproduce any error or warning you see on this page. |
Package 281/2140 | Hostname | OS / Arch | INSTALL | BUILD | CHECK | BUILD BIN | ||||||||
CellScore 1.16.0 (landing page) Nancy Mah
| nebbiolo1 | Linux (Ubuntu 20.04.5 LTS) / x86_64 | OK | OK | OK | ![]() | ||||||||
palomino3 | Windows Server 2022 Datacenter / x64 | OK | OK | OK | OK | ![]() | ||||||||
merida1 | macOS 10.14.6 Mojave / x86_64 | OK | OK | OK | OK | ![]() | ||||||||
Package: CellScore |
Version: 1.16.0 |
Command: /home/biocbuild/bbs-3.15-bioc/R/bin/R CMD check --install=check:CellScore.install-out.txt --library=/home/biocbuild/bbs-3.15-bioc/R/library --no-vignettes --timings CellScore_1.16.0.tar.gz |
StartedAt: 2022-10-18 18:58:08 -0400 (Tue, 18 Oct 2022) |
EndedAt: 2022-10-18 19:01:30 -0400 (Tue, 18 Oct 2022) |
EllapsedTime: 202.4 seconds |
RetCode: 0 |
Status: OK |
CheckDir: CellScore.Rcheck |
Warnings: 0 |
############################################################################## ############################################################################## ### ### Running command: ### ### /home/biocbuild/bbs-3.15-bioc/R/bin/R CMD check --install=check:CellScore.install-out.txt --library=/home/biocbuild/bbs-3.15-bioc/R/library --no-vignettes --timings CellScore_1.16.0.tar.gz ### ############################################################################## ############################################################################## * using log directory ‘/home/biocbuild/bbs-3.15-bioc/meat/CellScore.Rcheck’ * using R version 4.2.1 (2022-06-23) * using platform: x86_64-pc-linux-gnu (64-bit) * using session charset: UTF-8 * using option ‘--no-vignettes’ * checking for file ‘CellScore/DESCRIPTION’ ... OK * this is package ‘CellScore’ version ‘1.16.0’ * package encoding: UTF-8 * checking package namespace information ... OK * checking package dependencies ... OK * checking if this is a source package ... OK * checking if there is a namespace ... OK * checking for hidden files and directories ... OK * checking for portable file names ... OK * checking for sufficient/correct file permissions ... OK * checking whether package ‘CellScore’ can be installed ... OK * checking installed package size ... OK * checking package directory ... OK * checking ‘build’ directory ... OK * checking DESCRIPTION meta-information ... OK * checking top-level files ... OK * checking for left-over files ... OK * checking index information ... OK * checking package subdirectories ... OK * checking R files for non-ASCII characters ... OK * checking R files for syntax errors ... OK * checking whether the package can be loaded ... OK * checking whether the package can be loaded with stated dependencies ... OK * checking whether the package can be unloaded cleanly ... OK * checking whether the namespace can be loaded with stated dependencies ... OK * checking whether the namespace can be unloaded cleanly ... OK * checking dependencies in R code ... OK * checking S3 generic/method consistency ... OK * checking replacement functions ... OK * checking foreign function calls ... OK * checking R code for possible problems ... OK * checking Rd files ... OK * checking Rd metadata ... OK * checking Rd cross-references ... OK * checking for missing documentation entries ... OK * checking for code/documentation mismatches ... OK * checking Rd \usage sections ... OK * checking Rd contents ... OK * checking for unstated dependencies in examples ... OK * checking installed files from ‘inst/doc’ ... OK * checking files in ‘vignettes’ ... OK * checking examples ... OK Examples with CPU (user + system) or elapsed time > 5s user system elapsed CellScoreReport 23.922 1.256 25.180 heatmapOnOffMarkers 19.211 0.308 19.519 extractTransitions 18.502 0.226 18.728 RugplotCellScore 18.455 0.260 18.716 ScatterplotCellScoreComponents 18.520 0.192 18.712 PlotCosineSimHeatmap 14.712 0.188 14.900 BoxplotCellScore 12.356 0.476 12.833 CellScore 11.778 0.464 12.242 CosineSimScore 10.449 0.652 11.101 PcaStandards 10.951 0.127 11.077 BarplotOnOff 7.216 0.963 8.187 OnOff 5.527 0.356 5.883 * checking for unstated dependencies in vignettes ... OK * checking package vignettes in ‘inst/doc’ ... OK * checking running R code from vignettes ... SKIPPED * checking re-building of vignette outputs ... SKIPPED * checking PDF version of manual ... OK * DONE Status: OK
CellScore.Rcheck/00install.out
############################################################################## ############################################################################## ### ### Running command: ### ### /home/biocbuild/bbs-3.15-bioc/R/bin/R CMD INSTALL CellScore ### ############################################################################## ############################################################################## * installing to library ‘/home/biocbuild/bbs-3.15-bioc/R/library’ * installing *source* package ‘CellScore’ ... ** using staged installation ** R ** inst ** byte-compile and prepare package for lazy loading ** help *** installing help indices ** building package indices ** installing vignettes ** testing if installed package can be loaded from temporary location ** testing if installed package can be loaded from final location ** testing if installed package keeps a record of temporary installation path * DONE (CellScore)
CellScore.Rcheck/CellScore-Ex.timings
name | user | system | elapsed | |
BarplotOnOff | 7.216 | 0.963 | 8.187 | |
BoxplotCellScore | 12.356 | 0.476 | 12.833 | |
CellScore | 11.778 | 0.464 | 12.242 | |
CellScoreReport | 23.922 | 1.256 | 25.180 | |
CosineSimScore | 10.449 | 0.652 | 11.101 | |
OnOff | 5.527 | 0.356 | 5.883 | |
PcaStandards | 10.951 | 0.127 | 11.077 | |
PlotCosineSimHeatmap | 14.712 | 0.188 | 14.900 | |
RugplotCellScore | 18.455 | 0.260 | 18.716 | |
ScatterplotCellScoreComponents | 18.520 | 0.192 | 18.712 | |
extractTransitions | 18.502 | 0.226 | 18.728 | |
heatmapOnOffMarkers | 19.211 | 0.308 | 19.519 | |
rugplotDonorTargetTest | 0.000 | 0.001 | 0.001 | |
scatterplotDonorTargetTest | 0.000 | 0.001 | 0.001 | |