| Back to Multiple platform build/check report for BioC 3.15 | 
 | 
This page was generated on 2022-03-18 11:07:08 -0400 (Fri, 18 Mar 2022).
| Hostname | OS | Arch (*) | R version | Installed pkgs | 
|---|---|---|---|---|
| nebbiolo1 | Linux (Ubuntu 20.04.4 LTS) | x86_64 | R Under development (unstable) (2022-02-17 r81757) -- "Unsuffered Consequences" | 4334 | 
| riesling1 | Windows Server 2019 Standard | x64 | R Under development (unstable) (2021-11-21 r81221) -- "Unsuffered Consequences" | 4097 | 
| palomino3 | Windows Server 2022 Datacenter | x64 | R Under development (unstable) (2022-02-17 r81757 ucrt) -- "Unsuffered Consequences" | 4083 | 
| merida1 | macOS 10.14.6 Mojave | x86_64 | R Under development (unstable) (2022-03-02 r81842) -- "Unsuffered Consequences" | 4134 | 
| Click on any hostname to see more info about the system (e.g. compilers) (*) as reported by 'uname -p', except on Windows and Mac OS X | ||||
| To the developers/maintainers of the CellMixS package: - Please allow up to 24 hours (and sometimes 48 hours) for your latest push to git@git.bioconductor.org:packages/CellMixS.git to reflect on this report. See How and When does the builder pull? When will my changes propagate? here for more information. - Make sure to use the following settings in order to reproduce any error or warning you see on this page. | 
| Package 269/2090 | Hostname | OS / Arch | INSTALL | BUILD | CHECK | BUILD BIN | ||||||||
| CellMixS 1.11.1  (landing page) Almut Lütge 
 | nebbiolo1 | Linux (Ubuntu 20.04.4 LTS) / x86_64 | OK | OK | OK |  | ||||||||
| riesling1 | Windows Server 2019 Standard / x64 | OK | OK | OK | OK | |||||||||
| palomino3 | Windows Server 2022 Datacenter / x64 | OK | OK | OK | OK |  | ||||||||
| merida1 | macOS 10.14.6 Mojave / x86_64 | OK | OK | OK | OK |  | ||||||||
| Package: CellMixS | 
| Version: 1.11.1 | 
| Command: D:\biocbuild\bbs-3.15-bioc\R\bin\R.exe CMD check --no-multiarch --install=check:CellMixS.install-out.txt --library=D:\biocbuild\bbs-3.15-bioc\R\library --no-vignettes --timings CellMixS_1.11.1.tar.gz | 
| StartedAt: 2022-03-17 18:40:19 -0400 (Thu, 17 Mar 2022) | 
| EndedAt: 2022-03-17 18:43:57 -0400 (Thu, 17 Mar 2022) | 
| EllapsedTime: 217.3 seconds | 
| RetCode: 0 | 
| Status: OK | 
| CheckDir: CellMixS.Rcheck | 
| Warnings: 0 | 
############################################################################## ############################################################################## ### ### Running command: ### ### D:\biocbuild\bbs-3.15-bioc\R\bin\R.exe CMD check --no-multiarch --install=check:CellMixS.install-out.txt --library=D:\biocbuild\bbs-3.15-bioc\R\library --no-vignettes --timings CellMixS_1.11.1.tar.gz ### ############################################################################## ############################################################################## * using log directory 'D:/biocbuild/bbs-3.15-bioc/meat/CellMixS.Rcheck' * using R Under development (unstable) (2021-11-21 r81221) * using platform: x86_64-w64-mingw32 (64-bit) * using session charset: ISO8859-1 * using option '--no-vignettes' * checking for file 'CellMixS/DESCRIPTION' ... OK * checking extension type ... Package * this is package 'CellMixS' version '1.11.1' * package encoding: UTF-8 * checking package namespace information ... OK * checking package dependencies ... OK * checking if this is a source package ... OK * checking if there is a namespace ... OK * checking for hidden files and directories ... OK * checking for portable file names ... OK * checking whether package 'CellMixS' can be installed ... OK * checking installed package size ... OK * checking package directory ... OK * checking 'build' directory ... OK * checking DESCRIPTION meta-information ... OK * checking top-level files ... OK * checking for left-over files ... OK * checking index information ... OK * checking package subdirectories ... OK * checking R files for non-ASCII characters ... OK * checking R files for syntax errors ... OK * checking whether the package can be loaded ... OK * checking whether the package can be loaded with stated dependencies ... OK * checking whether the package can be unloaded cleanly ... OK * checking whether the namespace can be loaded with stated dependencies ... OK * checking whether the namespace can be unloaded cleanly ... OK * checking dependencies in R code ... OK * checking S3 generic/method consistency ... OK * checking replacement functions ... OK * checking foreign function calls ... OK * checking R code for possible problems ... OK * checking Rd files ... OK * checking Rd metadata ... OK * checking Rd cross-references ... OK * checking for missing documentation entries ... OK * checking for code/documentation mismatches ... OK * checking Rd \usage sections ... OK * checking Rd contents ... OK * checking for unstated dependencies in examples ... OK * checking R/sysdata.rda ... OK * checking files in 'vignettes' ... OK * checking examples ... OK * checking for unstated dependencies in 'tests' ... OK * checking tests ... Running 'testthat.R' OK * checking for unstated dependencies in vignettes ... OK * checking package vignettes in 'inst/doc' ... OK * checking running R code from vignettes ... SKIPPED * checking re-building of vignette outputs ... SKIPPED * checking PDF version of manual ... OK * DONE Status: OK
CellMixS.Rcheck/00install.out
##############################################################################
##############################################################################
###
### Running command:
###
###   D:\biocbuild\bbs-3.15-bioc\R\bin\R.exe CMD INSTALL CellMixS
###
##############################################################################
##############################################################################
* installing to library 'D:/biocbuild/bbs-3.15-bioc/R/library'
* installing *source* package 'CellMixS' ...
** using staged installation
** R
** inst
** byte-compile and prepare package for lazy loading
** help
*** installing help indices
  converting help for package 'CellMixS'
    finding HTML links ... done
    CellMixS-package                        html  
    cms                                     html  
    finding level-2 HTML links ... done
    dot-cmsCell                             html  
    dot-defineSubspace                      html  
    dot-filterKnn                           html  
    dot-filterLocMin                        html  
    dot-ldfKnn                              html  
    dot-smoothCms                           html  
    entropy                                 html  
    evalIntegration                         html  
    isi                                     html  
    ldfDiff                                 html  
    ldfSce                                  html  
    locStructure                            html  
    mixMetric                               html  
    visCluster                              html  
    visGroup                                html  
    visHist                                 html  
    visIntegration                          html  
    visMetric                               html  
    visOverview                             html  
** building package indices
** installing vignettes
** testing if installed package can be loaded from temporary location
** testing if installed package can be loaded from final location
** testing if installed package keeps a record of temporary installation path
* DONE (CellMixS)
Making 'packages.html' ...Warning in packageDescription(i, lib.loc = lib, fields = "Title", encoding = "UTF-8") :
  DESCRIPTION file of package 'peco' is missing or broken
 done
CellMixS.Rcheck/tests/testthat.Rout
R Under development (unstable) (2021-11-21 r81221) -- "Unsuffered Consequences"
Copyright (C) 2021 The R Foundation for Statistical Computing
Platform: x86_64-w64-mingw32/x64 (64-bit)
R is free software and comes with ABSOLUTELY NO WARRANTY.
You are welcome to redistribute it under certain conditions.
Type 'license()' or 'licence()' for distribution details.
R is a collaborative project with many contributors.
Type 'contributors()' for more information and
'citation()' on how to cite R or R packages in publications.
Type 'demo()' for some demos, 'help()' for on-line help, or
'help.start()' for an HTML browser interface to help.
Type 'q()' to quit R.
> library(testthat)
> library(CellMixS)
Loading required package: kSamples
Loading required package: SuppDists
> 
> test_check("CellMixS")
[ FAIL 0 | WARN 0 | SKIP 0 | PASS 81 ]
> 
> proc.time()
   user  system elapsed 
  45.60    1.15   46.75 
CellMixS.Rcheck/CellMixS-Ex.timings
| name | user | system | elapsed | |
| cms | 2.24 | 0.16 | 2.40 | |
| entropy | 0.26 | 0.03 | 0.29 | |
| evalIntegration | 2.39 | 0.06 | 2.46 | |
| isi | 0.22 | 0.04 | 0.25 | |
| ldfDiff | 0.57 | 0.03 | 0.61 | |
| ldfSce | 0.35 | 0.01 | 0.36 | |
| locStructure | 0.61 | 0.03 | 0.64 | |
| mixMetric | 0.25 | 0.03 | 0.28 | |
| visCluster | 1.73 | 0.07 | 1.80 | |
| visGroup | 0.27 | 0.04 | 0.31 | |
| visHist | 1.85 | 0.10 | 1.93 | |
| visIntegration | 1.71 | 0.01 | 1.72 | |
| visMetric | 1.68 | 0.07 | 1.75 | |
| visOverview | 2.39 | 0.04 | 2.44 | |