| Back to Multiple platform build/check report for BioC 3.15 |
|
This page was generated on 2022-10-19 13:22:47 -0400 (Wed, 19 Oct 2022).
| Hostname | OS | Arch (*) | R version | Installed pkgs |
|---|---|---|---|---|
| nebbiolo1 | Linux (Ubuntu 20.04.5 LTS) | x86_64 | 4.2.1 (2022-06-23) -- "Funny-Looking Kid" | 4386 |
| palomino3 | Windows Server 2022 Datacenter | x64 | 4.2.1 (2022-06-23 ucrt) -- "Funny-Looking Kid" | 4138 |
| merida1 | macOS 10.14.6 Mojave | x86_64 | 4.2.1 (2022-06-23) -- "Funny-Looking Kid" | 4205 |
| Click on any hostname to see more info about the system (e.g. compilers) (*) as reported by 'uname -p', except on Windows and Mac OS X | ||||
|
To the developers/maintainers of the CSAR package: - Please allow up to 24 hours (and sometimes 48 hours) for your latest push to git@git.bioconductor.org:packages/CSAR.git to reflect on this report. See How and When does the builder pull? When will my changes propagate? for more information. - Make sure to use the following settings in order to reproduce any error or warning you see on this page. |
| Package 439/2140 | Hostname | OS / Arch | INSTALL | BUILD | CHECK | BUILD BIN | ||||||||
| CSAR 1.48.0 (landing page) Jose M Muino
| nebbiolo1 | Linux (Ubuntu 20.04.5 LTS) / x86_64 | OK | OK | OK | |||||||||
| palomino3 | Windows Server 2022 Datacenter / x64 | OK | OK | OK | OK | |||||||||
| merida1 | macOS 10.14.6 Mojave / x86_64 | OK | OK | OK | OK | |||||||||
| Package: CSAR |
| Version: 1.48.0 |
| Command: /Library/Frameworks/R.framework/Resources/bin/R CMD check --install=check:CSAR.install-out.txt --library=/Library/Frameworks/R.framework/Resources/library --no-vignettes --timings CSAR_1.48.0.tar.gz |
| StartedAt: 2022-10-19 01:09:12 -0400 (Wed, 19 Oct 2022) |
| EndedAt: 2022-10-19 01:12:49 -0400 (Wed, 19 Oct 2022) |
| EllapsedTime: 216.8 seconds |
| RetCode: 0 |
| Status: OK |
| CheckDir: CSAR.Rcheck |
| Warnings: 0 |
##############################################################################
##############################################################################
###
### Running command:
###
### /Library/Frameworks/R.framework/Resources/bin/R CMD check --install=check:CSAR.install-out.txt --library=/Library/Frameworks/R.framework/Resources/library --no-vignettes --timings CSAR_1.48.0.tar.gz
###
##############################################################################
##############################################################################
* using log directory ‘/Users/biocbuild/bbs-3.15-bioc/meat/CSAR.Rcheck’
* using R version 4.2.1 (2022-06-23)
* using platform: x86_64-apple-darwin17.0 (64-bit)
* using session charset: UTF-8
* using option ‘--no-vignettes’
* checking for file ‘CSAR/DESCRIPTION’ ... OK
* checking extension type ... Package
* this is package ‘CSAR’ version ‘1.48.0’
* checking package namespace information ... OK
* checking package dependencies ... OK
* checking if this is a source package ... OK
* checking if there is a namespace ... OK
* checking for hidden files and directories ... OK
* checking for portable file names ... OK
* checking for sufficient/correct file permissions ... OK
* checking whether package ‘CSAR’ can be installed ... OK
* checking installed package size ... OK
* checking package directory ... OK
* checking ‘build’ directory ... OK
* checking DESCRIPTION meta-information ... OK
* checking top-level files ... OK
* checking for left-over files ... OK
* checking index information ... OK
* checking package subdirectories ... OK
* checking R files for non-ASCII characters ... OK
* checking R files for syntax errors ... OK
* checking whether the package can be loaded ... OK
* checking whether the package can be loaded with stated dependencies ... OK
* checking whether the package can be unloaded cleanly ... OK
* checking whether the namespace can be loaded with stated dependencies ... OK
* checking whether the namespace can be unloaded cleanly ... OK
* checking dependencies in R code ... OK
* checking S3 generic/method consistency ... OK
* checking replacement functions ... OK
* checking foreign function calls ... OK
* checking R code for possible problems ... NOTE
mappedReads2Nhits: no visible global function definition for
‘chromosome’
mappedReads2Nhits: no visible global function definition for ‘position’
Undefined global functions or variables:
chromosome position
* checking Rd files ... OK
* checking Rd metadata ... OK
* checking Rd cross-references ... OK
* checking for missing documentation entries ... OK
* checking for code/documentation mismatches ... OK
* checking Rd \usage sections ... OK
* checking Rd contents ... OK
* checking for unstated dependencies in examples ... OK
* checking contents of ‘data’ directory ... OK
* checking data for non-ASCII characters ... OK
* checking LazyData ... OK
* checking data for ASCII and uncompressed saves ... OK
* checking line endings in C/C++/Fortran sources/headers ... OK
* checking compiled code ... NOTE
Note: information on .o files is not available
* checking sizes of PDF files under ‘inst/doc’ ... OK
* checking files in ‘vignettes’ ... OK
* checking examples ... OK
Examples with CPU (user + system) or elapsed time > 5s
user system elapsed
getThreshold 16.328 0.057 16.427
CSAR-package 16.244 0.064 16.351
getPermutatedWinScores 14.825 0.058 14.919
permutatedWinScores 14.296 0.053 14.407
distance2Genes 5.483 0.013 5.509
genesWithPeaks 5.405 0.014 5.431
* checking for unstated dependencies in vignettes ... OK
* checking package vignettes in ‘inst/doc’ ... OK
* checking running R code from vignettes ... SKIPPED
* checking re-building of vignette outputs ... SKIPPED
* checking PDF version of manual ... OK
* DONE
Status: 2 NOTEs
See
‘/Users/biocbuild/bbs-3.15-bioc/meat/CSAR.Rcheck/00check.log’
for details.
CSAR.Rcheck/00install.out
############################################################################## ############################################################################## ### ### Running command: ### ### /Library/Frameworks/R.framework/Resources/bin/R CMD INSTALL CSAR ### ############################################################################## ############################################################################## * installing to library ‘/Library/Frameworks/R.framework/Versions/4.2/Resources/library’ * installing *source* package ‘CSAR’ ... ** using staged installation ** libs clang -mmacosx-version-min=10.13 -I"/Library/Frameworks/R.framework/Resources/include" -DNDEBUG -I/usr/local/include -fPIC -Wall -g -O2 -c CSAR.c -o CSAR.o clang -mmacosx-version-min=10.13 -dynamiclib -Wl,-headerpad_max_install_names -undefined dynamic_lookup -single_module -multiply_defined suppress -L/Library/Frameworks/R.framework/Resources/lib -L/usr/local/lib -o CSAR.so CSAR.o -F/Library/Frameworks/R.framework/.. -framework R -Wl,-framework -Wl,CoreFoundation installing to /Library/Frameworks/R.framework/Versions/4.2/Resources/library/00LOCK-CSAR/00new/CSAR/libs ** R ** data *** moving datasets to lazyload DB ** inst ** byte-compile and prepare package for lazy loading ** help *** installing help indices ** building package indices ** installing vignettes ** testing if installed package can be loaded from temporary location ** checking absolute paths in shared objects and dynamic libraries ** testing if installed package can be loaded from final location ** testing if installed package keeps a record of temporary installation path * DONE (CSAR)
CSAR.Rcheck/CSAR-Ex.timings
| name | user | system | elapsed | |
| CSAR-package | 16.244 | 0.064 | 16.351 | |
| ChIPseqScore | 4.051 | 0.014 | 4.074 | |
| distance2Genes | 5.483 | 0.013 | 5.509 | |
| genesWithPeaks | 5.405 | 0.014 | 5.431 | |
| getPermutatedWinScores | 14.825 | 0.058 | 14.919 | |
| getThreshold | 16.328 | 0.057 | 16.427 | |
| loadMappedReads | 0 | 0 | 0 | |
| mappedReads2Nhits | 1.781 | 0.006 | 1.789 | |
| permutatedWinScores | 14.296 | 0.053 | 14.407 | |
| sampleSEP3_test | 0.002 | 0.003 | 0.004 | |
| score2wig | 4.202 | 0.013 | 4.220 | |
| sigWin | 4.979 | 0.013 | 4.998 | |