| Back to Multiple platform build/check report for BioC 3.15 |
|
This page was generated on 2022-03-18 11:07:16 -0400 (Fri, 18 Mar 2022).
| Hostname | OS | Arch (*) | R version | Installed pkgs |
|---|---|---|---|---|
| nebbiolo1 | Linux (Ubuntu 20.04.4 LTS) | x86_64 | R Under development (unstable) (2022-02-17 r81757) -- "Unsuffered Consequences" | 4334 |
| riesling1 | Windows Server 2019 Standard | x64 | R Under development (unstable) (2021-11-21 r81221) -- "Unsuffered Consequences" | 4097 |
| palomino3 | Windows Server 2022 Datacenter | x64 | R Under development (unstable) (2022-02-17 r81757 ucrt) -- "Unsuffered Consequences" | 4083 |
| merida1 | macOS 10.14.6 Mojave | x86_64 | R Under development (unstable) (2022-03-02 r81842) -- "Unsuffered Consequences" | 4134 |
| Click on any hostname to see more info about the system (e.g. compilers) (*) as reported by 'uname -p', except on Windows and Mac OS X | ||||
|
To the developers/maintainers of the COTAN package: - Please allow up to 24 hours (and sometimes 48 hours) for your latest push to git@git.bioconductor.org:packages/COTAN.git to reflect on this report. See How and When does the builder pull? When will my changes propagate? here for more information. - Make sure to use the following settings in order to reproduce any error or warning you see on this page. |
| Package 410/2090 | Hostname | OS / Arch | INSTALL | BUILD | CHECK | BUILD BIN | ||||||||
| COTAN 0.99.10 (landing page) Galfrè Silvia Giulia
| nebbiolo1 | Linux (Ubuntu 20.04.4 LTS) / x86_64 | OK | OK | OK | |||||||||
| riesling1 | Windows Server 2019 Standard / x64 | OK | OK | OK | OK | |||||||||
| palomino3 | Windows Server 2022 Datacenter / x64 | OK | OK | OK | OK | |||||||||
| merida1 | macOS 10.14.6 Mojave / x86_64 | OK | OK | OK | OK | |||||||||
| Package: COTAN |
| Version: 0.99.10 |
| Command: rm -rf COTAN.buildbin-libdir && mkdir COTAN.buildbin-libdir && D:\biocbuild\bbs-3.15-bioc\R\bin\R.exe CMD INSTALL --build --library=COTAN.buildbin-libdir COTAN_0.99.10.tar.gz |
| StartedAt: 2022-03-17 21:02:33 -0400 (Thu, 17 Mar 2022) |
| EndedAt: 2022-03-17 21:03:37 -0400 (Thu, 17 Mar 2022) |
| EllapsedTime: 64.1 seconds |
| RetCode: 0 |
| Status: OK |
| PackageFile: COTAN_0.99.10.zip |
| PackageFileSize: 2.705 MiB |
##############################################################################
##############################################################################
###
### Running command:
###
### rm -rf COTAN.buildbin-libdir && mkdir COTAN.buildbin-libdir && D:\biocbuild\bbs-3.15-bioc\R\bin\R.exe CMD INSTALL --build --library=COTAN.buildbin-libdir COTAN_0.99.10.tar.gz
###
##############################################################################
##############################################################################
* installing *source* package 'COTAN' ...
** using staged installation
** R
** data
** inst
** byte-compile and prepare package for lazy loading
** help
*** installing help indices
converting help for package 'COTAN'
finding HTML links ... done
ERCC.cotan html
ERCCraw html
add.row.to.meta html
automatic.COTAN.object.creation html
clean html
cotan_analysis html
drop.genes.cells html
fun_linear html
get.GDI html
get.a html
get.cell.number html
get.cell.size html
get.coex html
get.constitutive.genes html
get.expected.ct html
get.gene.coexpression.space html
get.genes html
get.lambda html
get.metadata html
get.normdata html
get.nu html
get.observed.ct html
get.pval html
get.rawdata html
initRaw html
plot_GDI html
plot_general.heatmap html
plot_heatmap html
raw.dataset html
scCOTAN-class html
** building package indices
** installing vignettes
** testing if installed package can be loaded from temporary location
** testing if installed package can be loaded from final location
** testing if installed package keeps a record of temporary installation path
* MD5 sums
packaged installation of 'COTAN' as COTAN_0.99.10.zip
* DONE (COTAN)