| Back to Multiple platform build/check report for BioC 3.15 |
|
This page was generated on 2022-03-18 11:07:16 -0400 (Fri, 18 Mar 2022).
| Hostname | OS | Arch (*) | R version | Installed pkgs |
|---|---|---|---|---|
| nebbiolo1 | Linux (Ubuntu 20.04.4 LTS) | x86_64 | R Under development (unstable) (2022-02-17 r81757) -- "Unsuffered Consequences" | 4334 |
| riesling1 | Windows Server 2019 Standard | x64 | R Under development (unstable) (2021-11-21 r81221) -- "Unsuffered Consequences" | 4097 |
| palomino3 | Windows Server 2022 Datacenter | x64 | R Under development (unstable) (2022-02-17 r81757 ucrt) -- "Unsuffered Consequences" | 4083 |
| merida1 | macOS 10.14.6 Mojave | x86_64 | R Under development (unstable) (2022-03-02 r81842) -- "Unsuffered Consequences" | 4134 |
| Click on any hostname to see more info about the system (e.g. compilers) (*) as reported by 'uname -p', except on Windows and Mac OS X | ||||
|
To the developers/maintainers of the COSNet package: - Please allow up to 24 hours (and sometimes 48 hours) for your latest push to git@git.bioconductor.org:packages/COSNet.git to reflect on this report. See How and When does the builder pull? When will my changes propagate? here for more information. - Make sure to use the following settings in order to reproduce any error or warning you see on this page. |
| Package 409/2090 | Hostname | OS / Arch | INSTALL | BUILD | CHECK | BUILD BIN | ||||||||
| COSNet 1.29.0 (landing page) Marco Frasca
| nebbiolo1 | Linux (Ubuntu 20.04.4 LTS) / x86_64 | OK | OK | OK | |||||||||
| riesling1 | Windows Server 2019 Standard / x64 | OK | OK | OK | OK | |||||||||
| palomino3 | Windows Server 2022 Datacenter / x64 | OK | OK | OK | OK | |||||||||
| merida1 | macOS 10.14.6 Mojave / x86_64 | OK | OK | OK | OK | |||||||||
| Package: COSNet |
| Version: 1.29.0 |
| Command: D:\biocbuild\bbs-3.15-bioc\R\bin\R.exe CMD check --no-multiarch --install=check:COSNet.install-out.txt --library=D:\biocbuild\bbs-3.15-bioc\R\library --no-vignettes --timings COSNet_1.29.0.tar.gz |
| StartedAt: 2022-03-17 18:49:22 -0400 (Thu, 17 Mar 2022) |
| EndedAt: 2022-03-17 18:50:10 -0400 (Thu, 17 Mar 2022) |
| EllapsedTime: 47.6 seconds |
| RetCode: 0 |
| Status: OK |
| CheckDir: COSNet.Rcheck |
| Warnings: 0 |
##############################################################################
##############################################################################
###
### Running command:
###
### D:\biocbuild\bbs-3.15-bioc\R\bin\R.exe CMD check --no-multiarch --install=check:COSNet.install-out.txt --library=D:\biocbuild\bbs-3.15-bioc\R\library --no-vignettes --timings COSNet_1.29.0.tar.gz
###
##############################################################################
##############################################################################
* using log directory 'D:/biocbuild/bbs-3.15-bioc/meat/COSNet.Rcheck'
* using R Under development (unstable) (2021-11-21 r81221)
* using platform: x86_64-w64-mingw32 (64-bit)
* using session charset: ISO8859-1
* using option '--no-vignettes'
* checking for file 'COSNet/DESCRIPTION' ... OK
* checking extension type ... Package
* this is package 'COSNet' version '1.29.0'
* checking package namespace information ... OK
* checking package dependencies ... OK
* checking if this is a source package ... OK
* checking if there is a namespace ... OK
* checking for hidden files and directories ... OK
* checking for portable file names ... OK
* checking whether package 'COSNet' can be installed ... OK
* checking installed package size ... OK
* checking package directory ... OK
* checking 'build' directory ... OK
* checking DESCRIPTION meta-information ... OK
* checking top-level files ... OK
* checking for left-over files ... OK
* checking index information ... OK
* checking package subdirectories ... OK
* checking R files for non-ASCII characters ... OK
* checking R files for syntax errors ... OK
* checking whether the package can be loaded ... OK
* checking whether the package can be loaded with stated dependencies ... OK
* checking whether the package can be unloaded cleanly ... OK
* checking whether the namespace can be loaded with stated dependencies ... OK
* checking whether the namespace can be unloaded cleanly ... OK
* checking dependencies in R code ... OK
* checking S3 generic/method consistency ... OK
* checking replacement functions ... OK
* checking foreign function calls ... OK
* checking R code for possible problems ... NOTE
File 'COSNet/R/COSNet.R':
.onAttach calls:
cat("COSNet: Cost-Sensitive algorithm for binary classification in graphs.\n")
Package startup functions should use 'packageStartupMessage' to
generate messages.
See section 'Good practice' in '?.onAttach'.
generate_labels: no visible global function definition for 'runif'
Undefined global functions or variables:
runif
Consider adding
importFrom("stats", "runif")
to your NAMESPACE file.
* checking Rd files ... OK
* checking Rd metadata ... OK
* checking Rd cross-references ... OK
* checking for missing documentation entries ... OK
* checking for code/documentation mismatches ... OK
* checking Rd \usage sections ... OK
* checking Rd contents ... OK
* checking for unstated dependencies in examples ... OK
* checking line endings in C/C++/Fortran sources/headers ... OK
* checking compiled code ... NOTE
Note: information on .o files for x64 is not available
File 'D:/biocbuild/bbs-3.15-bioc/R/library/COSNet/libs/x64/COSNet.dll':
Found 'abort', possibly from 'abort' (C), 'runtime' (Fortran)
Found 'rand', possibly from 'rand' (C)
Found 'srand', possibly from 'srand' (C)
Compiled code should not call entry points which might terminate R nor
write to stdout/stderr instead of to the console, nor use Fortran I/O
nor system RNGs. The detected symbols are linked into the code but
might come from libraries and not actually be called.
See 'Writing portable packages' in the 'Writing R Extensions' manual.
* checking files in 'vignettes' ... OK
* checking examples ... OK
Examples with CPU (user + system) or elapsed time > 5s
user system elapsed
cosnet.cross.validation 12.04 5.5 17.57
* checking for unstated dependencies in 'tests' ... OK
* checking tests ...
Running 'runTests.R'
OK
* checking for unstated dependencies in vignettes ... OK
* checking package vignettes in 'inst/doc' ... OK
* checking running R code from vignettes ... SKIPPED
* checking re-building of vignette outputs ... SKIPPED
* checking PDF version of manual ... OK
* DONE
Status: 2 NOTEs
See
'D:/biocbuild/bbs-3.15-bioc/meat/COSNet.Rcheck/00check.log'
for details.
COSNet.Rcheck/00install.out
##############################################################################
##############################################################################
###
### Running command:
###
### D:\biocbuild\bbs-3.15-bioc\R\bin\R.exe CMD INSTALL COSNet
###
##############################################################################
##############################################################################
* installing to library 'D:/biocbuild/bbs-3.15-bioc/R/library'
* installing *source* package 'COSNet' ...
** using staged installation
** libs
"C:/rtools40/mingw64/bin/"gcc -I"D:/biocbuild/bbs-3.15-bioc/R/include" -DNDEBUG -I"C:/extsoft/include" -O2 -Wall -std=gnu99 -mfpmath=sse -msse2 -mstackrealign -fno-reorder-blocks-and-partition -c COSNet.c -o COSNet.o
COSNet.c: In function 'error_minimization':
COSNet.c:462:26: warning: 'theta_best_over' may be used uninitialized in this function [-Wmaybe-uninitialized]
theta_best = theta_best + DBL_MIN;
^
C:/rtools40/mingw64/bin/gcc -shared -s -static-libgcc -o COSNet.dll tmp.def COSNet.o -LC:/extsoft/lib/x64 -LC:/extsoft/lib -LD:/biocbuild/bbs-3.15-bioc/R/bin/x64 -lR
installing to D:/biocbuild/bbs-3.15-bioc/R/library/00LOCK-COSNet/00new/COSNet/libs/x64
** R
** inst
** byte-compile and prepare package for lazy loading
** help
*** installing help indices
converting help for package 'COSNet'
finding HTML links ... done
COSNet-package html
COSNet html
cosnet.cross.validation html
find.division.not.strat html
find.division.strat html
generate_labels html
generate_points html
optimize_pos_above html
optimizep html
reg_data html
runSubnet html
** building package indices
** installing vignettes
** testing if installed package can be loaded from temporary location
COSNet: Cost-Sensitive algorithm for binary classification in graphs.
** testing if installed package can be loaded from final location
COSNet: Cost-Sensitive algorithm for binary classification in graphs.
** testing if installed package keeps a record of temporary installation path
* DONE (COSNet)
Making 'packages.html' ...Warning in packageDescription(i, lib.loc = lib, fields = "Title", encoding = "UTF-8") :
DESCRIPTION file of package 'BiocVersion' is missing or broken
Warning in packageDescription(i, lib.loc = lib, fields = "Title", encoding = "UTF-8") :
DESCRIPTION file of package 'MultiMed' is missing or broken
Warning in packageDescription(i, lib.loc = lib, fields = "Title", encoding = "UTF-8") :
DESCRIPTION file of package 'Rbowtie' is missing or broken
Warning in packageDescription(i, lib.loc = lib, fields = "Title", encoding = "UTF-8") :
DESCRIPTION file of package 'zlibbioc' is missing or broken
done
COSNet.Rcheck/tests/runTests.Rout
R Under development (unstable) (2021-11-21 r81221) -- "Unsuffered Consequences"
Copyright (C) 2021 The R Foundation for Statistical Computing
Platform: x86_64-w64-mingw32/x64 (64-bit)
R is free software and comes with ABSOLUTELY NO WARRANTY.
You are welcome to redistribute it under certain conditions.
Type 'license()' or 'licence()' for distribution details.
R is a collaborative project with many contributors.
Type 'contributors()' for more information and
'citation()' on how to cite R or R packages in publications.
Type 'demo()' for some demos, 'help()' for on-line help, or
'help.start()' for an HTML browser interface to help.
Type 'q()' to quit R.
> BiocGenerics:::testPackage("COSNet")
COSNet: Cost-Sensitive algorithm for binary classification in graphs.
0.528
RUNIT TEST PROTOCOL -- Thu Mar 17 18:50:01 2022
***********************************************
Number of test functions: 9
Number of errors: 0
Number of failures: 0
1 Test Suite :
COSNet RUnit Tests - 9 test functions, 0 errors, 0 failures
Number of test functions: 9
Number of errors: 0
Number of failures: 0
>
> proc.time()
user system elapsed
0.46 0.09 0.53
COSNet.Rcheck/COSNet-Ex.timings
| name | user | system | elapsed | |
| COSNet | 0.36 | 0.08 | 0.43 | |
| cosnet.cross.validation | 12.04 | 5.50 | 17.57 | |
| find.division.not.strat | 0 | 0 | 0 | |
| find.division.strat | 0 | 0 | 0 | |
| generate_labels | 0 | 0 | 0 | |
| generate_points | 0.01 | 0.00 | 0.02 | |
| optimize_pos_above | 0.29 | 0.06 | 0.34 | |
| optimizep | 0.28 | 0.06 | 0.34 | |
| reg_data | 0.44 | 0.22 | 0.66 | |
| runSubnet | 0.34 | 0.11 | 0.45 | |