| Back to Multiple platform build/check report for BioC 3.15 |
|
This page was generated on 2022-03-18 11:07:13 -0400 (Fri, 18 Mar 2022).
| Hostname | OS | Arch (*) | R version | Installed pkgs |
|---|---|---|---|---|
| nebbiolo1 | Linux (Ubuntu 20.04.4 LTS) | x86_64 | R Under development (unstable) (2022-02-17 r81757) -- "Unsuffered Consequences" | 4334 |
| riesling1 | Windows Server 2019 Standard | x64 | R Under development (unstable) (2021-11-21 r81221) -- "Unsuffered Consequences" | 4097 |
| palomino3 | Windows Server 2022 Datacenter | x64 | R Under development (unstable) (2022-02-17 r81757 ucrt) -- "Unsuffered Consequences" | 4083 |
| merida1 | macOS 10.14.6 Mojave | x86_64 | R Under development (unstable) (2022-03-02 r81842) -- "Unsuffered Consequences" | 4134 |
| Click on any hostname to see more info about the system (e.g. compilers) (*) as reported by 'uname -p', except on Windows and Mac OS X | ||||
|
To the developers/maintainers of the CNAnorm package: - Please allow up to 24 hours (and sometimes 48 hours) for your latest push to git@git.bioconductor.org:packages/CNAnorm.git to reflect on this report. See How and When does the builder pull? When will my changes propagate? here for more information. - Make sure to use the following settings in order to reproduce any error or warning you see on this page. |
| Package 347/2090 | Hostname | OS / Arch | INSTALL | BUILD | CHECK | BUILD BIN | ||||||||
| CNAnorm 1.41.0 (landing page) Stefano Berri
| nebbiolo1 | Linux (Ubuntu 20.04.4 LTS) / x86_64 | OK | OK | OK | |||||||||
| riesling1 | Windows Server 2019 Standard / x64 | OK | OK | OK | OK | |||||||||
| palomino3 | Windows Server 2022 Datacenter / x64 | OK | OK | OK | OK | |||||||||
| merida1 | macOS 10.14.6 Mojave / x86_64 | OK | OK | OK | OK | |||||||||
| Package: CNAnorm |
| Version: 1.41.0 |
| Command: rm -rf CNAnorm.buildbin-libdir && mkdir CNAnorm.buildbin-libdir && D:\biocbuild\bbs-3.15-bioc\R\bin\R.exe CMD INSTALL --build --library=CNAnorm.buildbin-libdir CNAnorm_1.41.0.tar.gz |
| StartedAt: 2022-03-17 21:00:52 -0400 (Thu, 17 Mar 2022) |
| EndedAt: 2022-03-17 21:02:23 -0400 (Thu, 17 Mar 2022) |
| EllapsedTime: 90.6 seconds |
| RetCode: 0 |
| Status: OK |
| PackageFile: CNAnorm_1.41.0.zip |
| PackageFileSize: 1.805 MiB |
##############################################################################
##############################################################################
###
### Running command:
###
### rm -rf CNAnorm.buildbin-libdir && mkdir CNAnorm.buildbin-libdir && D:\biocbuild\bbs-3.15-bioc\R\bin\R.exe CMD INSTALL --build --library=CNAnorm.buildbin-libdir CNAnorm_1.41.0.tar.gz
###
##############################################################################
##############################################################################
* installing *source* package 'CNAnorm' ...
** using staged installation
** libs
"C:/rtools40/mingw64/bin/"gfortran -fno-optimize-sibling-calls -O2 -mfpmath=sse -msse2 -mstackrealign -fno-reorder-blocks-and-partition -c daxpy.f -o daxpy.o
"C:/rtools40/mingw64/bin/"gfortran -fno-optimize-sibling-calls -O2 -mfpmath=sse -msse2 -mstackrealign -fno-reorder-blocks-and-partition -c ddot.f -o ddot.o
"C:/rtools40/mingw64/bin/"gfortran -fno-optimize-sibling-calls -O2 -mfpmath=sse -msse2 -mstackrealign -fno-reorder-blocks-and-partition -c dgbfa.f -o dgbfa.o
"C:/rtools40/mingw64/bin/"gfortran -fno-optimize-sibling-calls -O2 -mfpmath=sse -msse2 -mstackrealign -fno-reorder-blocks-and-partition -c dgbsl.f -o dgbsl.o
"C:/rtools40/mingw64/bin/"gfortran -fno-optimize-sibling-calls -O2 -mfpmath=sse -msse2 -mstackrealign -fno-reorder-blocks-and-partition -c dscal.f -o dscal.o
"C:/rtools40/mingw64/bin/"gfortran -fno-optimize-sibling-calls -O2 -mfpmath=sse -msse2 -mstackrealign -fno-reorder-blocks-and-partition -c dsmooth.f -o dsmooth.o
"C:/rtools40/mingw64/bin/"gfortran -fno-optimize-sibling-calls -O2 -mfpmath=sse -msse2 -mstackrealign -fno-reorder-blocks-and-partition -c idamax.f -o idamax.o
C:/rtools40/mingw64/bin/gcc -shared -s -static-libgcc -o CNAnorm.dll tmp.def daxpy.o ddot.o dgbfa.o dgbsl.o dscal.o dsmooth.o idamax.o -LC:/extsoft/lib/x64 -LC:/extsoft/lib -lgfortran -lm -lquadmath -LD:/biocbuild/bbs-3.15-bioc/R/bin/x64 -lR
installing to D:/biocbuild/bbs-3.15-bioc/meat/CNAnorm.buildbin-libdir/00LOCK-CNAnorm/00new/CNAnorm/libs/x64
** R
** data
** inst
** byte-compile and prepare package for lazy loading
** help
*** installing help indices
converting help for package 'CNAnorm'
finding HTML links ... done
CN html
CNAnorm-class html
DerivData-class html
InData-class html
LS041 html
Params-class html
addDNACopy-methods html
addSmooth-methods html
chrsAndpos-methods html
data-hg19_hs_ideogr html
dataFrame2object html
discreteNorm-methods html
exportTable-method html
gPar html
gcNorm-methods html
peakPloidy html
plotGenome-methods html
plotPeaks-methods html
ratio-methods html
suggValid-methods html
validation-methods html
workflowWrapper html
** building package indices
** installing vignettes
** testing if installed package can be loaded from temporary location
** testing if installed package can be loaded from final location
** testing if installed package keeps a record of temporary installation path
* MD5 sums
packaged installation of 'CNAnorm' as CNAnorm_1.41.0.zip
* DONE (CNAnorm)