| Back to Multiple platform build/check report for BioC 3.15 |
|
This page was generated on 2022-03-18 11:07:11 -0400 (Fri, 18 Mar 2022).
| Hostname | OS | Arch (*) | R version | Installed pkgs |
|---|---|---|---|---|
| nebbiolo1 | Linux (Ubuntu 20.04.4 LTS) | x86_64 | R Under development (unstable) (2022-02-17 r81757) -- "Unsuffered Consequences" | 4334 |
| riesling1 | Windows Server 2019 Standard | x64 | R Under development (unstable) (2021-11-21 r81221) -- "Unsuffered Consequences" | 4097 |
| palomino3 | Windows Server 2022 Datacenter | x64 | R Under development (unstable) (2022-02-17 r81757 ucrt) -- "Unsuffered Consequences" | 4083 |
| merida1 | macOS 10.14.6 Mojave | x86_64 | R Under development (unstable) (2022-03-02 r81842) -- "Unsuffered Consequences" | 4134 |
| Click on any hostname to see more info about the system (e.g. compilers) (*) as reported by 'uname -p', except on Windows and Mac OS X | ||||
|
To the developers/maintainers of the CIMICE package: - Please allow up to 24 hours (and sometimes 48 hours) for your latest push to git@git.bioconductor.org:packages/CIMICE.git to reflect on this report. See How and When does the builder pull? When will my changes propagate? here for more information. - Make sure to use the following settings in order to reproduce any error or warning you see on this page. |
| Package 317/2090 | Hostname | OS / Arch | INSTALL | BUILD | CHECK | BUILD BIN | ||||||||
| CIMICE 1.3.1 (landing page) Nicolò Rossi
| nebbiolo1 | Linux (Ubuntu 20.04.4 LTS) / x86_64 | OK | OK | OK | |||||||||
| riesling1 | Windows Server 2019 Standard / x64 | OK | OK | OK | OK | |||||||||
| palomino3 | Windows Server 2022 Datacenter / x64 | OK | OK | OK | OK | |||||||||
| merida1 | macOS 10.14.6 Mojave / x86_64 | OK | OK | OK | OK | |||||||||
| Package: CIMICE |
| Version: 1.3.1 |
| Command: rm -rf CIMICE.buildbin-libdir && mkdir CIMICE.buildbin-libdir && D:\biocbuild\bbs-3.15-bioc\R\bin\R.exe CMD INSTALL --build --library=CIMICE.buildbin-libdir CIMICE_1.3.1.tar.gz |
| StartedAt: 2022-03-17 21:00:06 -0400 (Thu, 17 Mar 2022) |
| EndedAt: 2022-03-17 21:01:33 -0400 (Thu, 17 Mar 2022) |
| EllapsedTime: 86.7 seconds |
| RetCode: 0 |
| Status: OK |
| PackageFile: CIMICE_1.3.1.zip |
| PackageFileSize: 1.062 MiB |
##############################################################################
##############################################################################
###
### Running command:
###
### rm -rf CIMICE.buildbin-libdir && mkdir CIMICE.buildbin-libdir && D:\biocbuild\bbs-3.15-bioc\R\bin\R.exe CMD INSTALL --build --library=CIMICE.buildbin-libdir CIMICE_1.3.1.tar.gz
###
##############################################################################
##############################################################################
* installing *source* package 'CIMICE' ...
** using staged installation
** R
** inst
** byte-compile and prepare package for lazy loading
** help
*** installing help indices
converting help for package 'CIMICE'
finding HTML links ... done
CIMICE html
annotate_mutational_matrix html
binary_radix_sort html
build_subset_graph html
build_topology_subset html
chunk_reader html
compact_dataset html
computeDWNW html
computeDWNW_aux html
computeUPW html
computeUPW_aux html
compute_weights_default html
corrplot_from_mutational_matrix html
corrplot_genes html
corrplot_samples html
dataset_preprocessing html
dataset_preprocessing_population html
draw_ggraph html
draw_networkD3 html
draw_visNetwork html
example_dataset html
example_dataset_withFreqs html
finalize_generator html
fix_clonal_genotype html
format_labels html
gene_mutations_hist html
get_no_of_children html
graph_non_transitive_subset_topology html
make_dataset html
make_generator_stub html
make_labels html
normalizeDWNW html
normalizeUPW html
perturb_dataset html
plot_generator html
prepare_generator_edge_set_command html
prepare_labels html
quick_run html
read html
read_CAPRI html
read_CAPRI_string html
read_CAPRIpop html
read_CAPRIpop_string html
read_MAF html
read_matrix html
remove_transitive_edges html
sample_mutations_hist html
select_genes_on_mutations html
select_samples_on_mutations html
set_generator_edges html
simulate_generator html
to_dot html
update_df html
** building package indices
** installing vignettes
** testing if installed package can be loaded from temporary location
** testing if installed package can be loaded from final location
** testing if installed package keeps a record of temporary installation path
* MD5 sums
packaged installation of 'CIMICE' as CIMICE_1.3.1.zip
* DONE (CIMICE)