| Back to Multiple platform build/check report for BioC 3.15 |
|
This page was generated on 2022-03-18 11:07:09 -0400 (Fri, 18 Mar 2022).
| Hostname | OS | Arch (*) | R version | Installed pkgs |
|---|---|---|---|---|
| nebbiolo1 | Linux (Ubuntu 20.04.4 LTS) | x86_64 | R Under development (unstable) (2022-02-17 r81757) -- "Unsuffered Consequences" | 4334 |
| riesling1 | Windows Server 2019 Standard | x64 | R Under development (unstable) (2021-11-21 r81221) -- "Unsuffered Consequences" | 4097 |
| palomino3 | Windows Server 2022 Datacenter | x64 | R Under development (unstable) (2022-02-17 r81757 ucrt) -- "Unsuffered Consequences" | 4083 |
| merida1 | macOS 10.14.6 Mojave | x86_64 | R Under development (unstable) (2022-03-02 r81842) -- "Unsuffered Consequences" | 4134 |
| Click on any hostname to see more info about the system (e.g. compilers) (*) as reported by 'uname -p', except on Windows and Mac OS X | ||||
|
To the developers/maintainers of the CGHnormaliter package: - Please allow up to 24 hours (and sometimes 48 hours) for your latest push to git@git.bioconductor.org:packages/CGHnormaliter.git to reflect on this report. See How and When does the builder pull? When will my changes propagate? here for more information. - Make sure to use the following settings in order to reproduce any error or warning you see on this page. |
| Package 287/2090 | Hostname | OS / Arch | INSTALL | BUILD | CHECK | BUILD BIN | ||||||||
| CGHnormaliter 1.49.0 (landing page) Bart P.P. van Houte
| nebbiolo1 | Linux (Ubuntu 20.04.4 LTS) / x86_64 | OK | OK | OK | |||||||||
| riesling1 | Windows Server 2019 Standard / x64 | OK | OK | OK | OK | |||||||||
| palomino3 | Windows Server 2022 Datacenter / x64 | OK | OK | OK | OK | |||||||||
| merida1 | macOS 10.14.6 Mojave / x86_64 | OK | OK | OK | OK | |||||||||
| Package: CGHnormaliter |
| Version: 1.49.0 |
| Command: D:\biocbuild\bbs-3.15-bioc\R\bin\R.exe CMD check --no-multiarch --install=check:CGHnormaliter.install-out.txt --library=D:\biocbuild\bbs-3.15-bioc\R\library --no-vignettes --timings CGHnormaliter_1.49.0.tar.gz |
| StartedAt: 2022-03-17 18:42:03 -0400 (Thu, 17 Mar 2022) |
| EndedAt: 2022-03-17 18:43:22 -0400 (Thu, 17 Mar 2022) |
| EllapsedTime: 78.8 seconds |
| RetCode: 0 |
| Status: OK |
| CheckDir: CGHnormaliter.Rcheck |
| Warnings: 0 |
##############################################################################
##############################################################################
###
### Running command:
###
### D:\biocbuild\bbs-3.15-bioc\R\bin\R.exe CMD check --no-multiarch --install=check:CGHnormaliter.install-out.txt --library=D:\biocbuild\bbs-3.15-bioc\R\library --no-vignettes --timings CGHnormaliter_1.49.0.tar.gz
###
##############################################################################
##############################################################################
* using log directory 'D:/biocbuild/bbs-3.15-bioc/meat/CGHnormaliter.Rcheck'
* using R Under development (unstable) (2021-11-21 r81221)
* using platform: x86_64-w64-mingw32 (64-bit)
* using session charset: ISO8859-1
* using option '--no-vignettes'
* checking for file 'CGHnormaliter/DESCRIPTION' ... OK
* checking extension type ... Package
* this is package 'CGHnormaliter' version '1.49.0'
* checking package namespace information ... OK
* checking package dependencies ... OK
* checking if this is a source package ... OK
* checking if there is a namespace ... OK
* checking for hidden files and directories ... OK
* checking for portable file names ... OK
* checking whether package 'CGHnormaliter' can be installed ... OK
* checking installed package size ... OK
* checking package directory ... OK
* checking 'build' directory ... OK
* checking DESCRIPTION meta-information ... NOTE
Malformed Title field: should not end in a period.
Packages listed in more than one of Depends, Imports, Suggests, Enhances:
'CGHbase' 'CGHcall'
A package should be listed in only one of these fields.
* checking top-level files ... OK
* checking for left-over files ... OK
* checking index information ... OK
* checking package subdirectories ... OK
* checking R files for non-ASCII characters ... OK
* checking R files for syntax errors ... OK
* checking whether the package can be loaded ... OK
* checking whether the package can be loaded with stated dependencies ... OK
* checking whether the package can be unloaded cleanly ... OK
* checking whether the namespace can be loaded with stated dependencies ... OK
* checking whether the namespace can be unloaded cleanly ... OK
* checking dependencies in R code ... OK
* checking S3 generic/method consistency ... OK
* checking replacement functions ... OK
* checking foreign function calls ... OK
* checking R code for possible problems ... NOTE
.plotMA: no visible global function definition for 'pdf'
.plotMA: no visible global function definition for 'palette'
.plotMA: no visible global function definition for 'par'
.plotMA: no visible global function definition for 'title'
.plotMA: no visible global function definition for 'abline'
.plotMA: no visible global function definition for 'dev.off'
.readCghRaw: no visible global function definition for 'read.table'
.readCghRaw: no visible global function definition for 'make_cghRaw'
.runCGHcall: no visible global function definition for 'capture.output'
.runCGHcall: no visible global function definition for 'ExpandCGHcall'
CGHnormaliter: no visible binding for global variable 'segment'
CGHnormaliter: no visible global function definition for
'capture.output'
CGHnormaliter: no visible global function definition for 'normalize'
CGHnormaliter: no visible global function definition for
'postsegnormalize'
CGHnormaliter.write.table: no visible global function definition for
'segmented'
CGHnormaliter.write.table: no visible global function definition for
'calls'
Undefined global functions or variables:
ExpandCGHcall abline calls capture.output dev.off make_cghRaw
normalize palette par pdf postsegnormalize read.table segment
segmented title
Consider adding
importFrom("grDevices", "dev.off", "palette", "pdf")
importFrom("graphics", "abline", "par", "title")
importFrom("utils", "capture.output", "read.table")
to your NAMESPACE file.
* checking Rd files ... OK
* checking Rd metadata ... OK
* checking Rd cross-references ... OK
* checking for missing documentation entries ... OK
* checking for code/documentation mismatches ... OK
* checking Rd \usage sections ... OK
* checking Rd contents ... OK
* checking for unstated dependencies in examples ... OK
* checking contents of 'data' directory ... OK
* checking data for non-ASCII characters ... OK
* checking data for ASCII and uncompressed saves ... OK
* checking files in 'vignettes' ... OK
* checking examples ... OK
Examples with CPU (user + system) or elapsed time > 5s
user system elapsed
CGHnormaliter 37.36 0.25 37.61
* checking for unstated dependencies in vignettes ... OK
* checking package vignettes in 'inst/doc' ... OK
* checking running R code from vignettes ... SKIPPED
* checking re-building of vignette outputs ... SKIPPED
* checking PDF version of manual ... OK
* DONE
Status: 2 NOTEs
See
'D:/biocbuild/bbs-3.15-bioc/meat/CGHnormaliter.Rcheck/00check.log'
for details.
CGHnormaliter.Rcheck/00install.out
##############################################################################
##############################################################################
###
### Running command:
###
### D:\biocbuild\bbs-3.15-bioc\R\bin\R.exe CMD INSTALL CGHnormaliter
###
##############################################################################
##############################################################################
* installing to library 'D:/biocbuild/bbs-3.15-bioc/R/library'
* installing *source* package 'CGHnormaliter' ...
** using staged installation
** R
** data
** byte-compile and prepare package for lazy loading
** help
*** installing help indices
converting help for package 'CGHnormaliter'
finding HTML links ... done
CGHnormaliter-internal html
CGHnormaliter-package html
CGHnormaliter html
CGHnormaliter.write.table html
Leukemia html
** building package indices
** installing vignettes
** testing if installed package can be loaded from temporary location
** testing if installed package can be loaded from final location
** testing if installed package keeps a record of temporary installation path
* DONE (CGHnormaliter)
Making 'packages.html' ...Warning in packageDescription(i, lib.loc = lib, fields = "Title", encoding = "UTF-8") :
DESCRIPTION file of package 'GSCA' is missing or broken
done
CGHnormaliter.Rcheck/CGHnormaliter-Ex.timings
| name | user | system | elapsed | |
| CGHnormaliter | 37.36 | 0.25 | 37.61 | |
| CGHnormaliter.write.table | 0.12 | 0.00 | 0.13 | |