Back to Multiple platform build/check report for BioC 3.15 |
|
This page was generated on 2022-03-18 11:07:09 -0400 (Fri, 18 Mar 2022).
Hostname | OS | Arch (*) | R version | Installed pkgs |
---|---|---|---|---|
nebbiolo1 | Linux (Ubuntu 20.04.4 LTS) | x86_64 | R Under development (unstable) (2022-02-17 r81757) -- "Unsuffered Consequences" | 4334 |
riesling1 | Windows Server 2019 Standard | x64 | R Under development (unstable) (2021-11-21 r81221) -- "Unsuffered Consequences" | 4097 |
palomino3 | Windows Server 2022 Datacenter | x64 | R Under development (unstable) (2022-02-17 r81757 ucrt) -- "Unsuffered Consequences" | 4083 |
merida1 | macOS 10.14.6 Mojave | x86_64 | R Under development (unstable) (2022-03-02 r81842) -- "Unsuffered Consequences" | 4134 |
Click on any hostname to see more info about the system (e.g. compilers) (*) as reported by 'uname -p', except on Windows and Mac OS X |
To the developers/maintainers of the CGEN package: - Please allow up to 24 hours (and sometimes 48 hours) for your latest push to git@git.bioconductor.org:packages/CGEN.git to reflect on this report. See How and When does the builder pull? When will my changes propagate? here for more information. - Make sure to use the following settings in order to reproduce any error or warning you see on this page. |
Package 283/2090 | Hostname | OS / Arch | INSTALL | BUILD | CHECK | BUILD BIN | ||||||||
CGEN 3.31.0 (landing page) Justin Lee
| nebbiolo1 | Linux (Ubuntu 20.04.4 LTS) / x86_64 | OK | OK | OK | |||||||||
riesling1 | Windows Server 2019 Standard / x64 | OK | OK | OK | OK | |||||||||
palomino3 | Windows Server 2022 Datacenter / x64 | ERROR | ERROR | skipped | skipped | |||||||||
merida1 | macOS 10.14.6 Mojave / x86_64 | OK | OK | OK | OK | |||||||||
Package: CGEN |
Version: 3.31.0 |
Command: rm -rf CGEN.buildbin-libdir && mkdir CGEN.buildbin-libdir && D:\biocbuild\bbs-3.15-bioc\R\bin\R.exe CMD INSTALL --build --library=CGEN.buildbin-libdir CGEN_3.31.0.tar.gz |
StartedAt: 2022-03-17 20:59:16 -0400 (Thu, 17 Mar 2022) |
EndedAt: 2022-03-17 21:00:35 -0400 (Thu, 17 Mar 2022) |
EllapsedTime: 79.1 seconds |
RetCode: 0 |
Status: OK |
PackageFile: CGEN_3.31.0.zip |
PackageFileSize: 1.891 MiB |
############################################################################## ############################################################################## ### ### Running command: ### ### rm -rf CGEN.buildbin-libdir && mkdir CGEN.buildbin-libdir && D:\biocbuild\bbs-3.15-bioc\R\bin\R.exe CMD INSTALL --build --library=CGEN.buildbin-libdir CGEN_3.31.0.tar.gz ### ############################################################################## ############################################################################## * installing *source* package 'CGEN' ... ** using staged installation ** libs "C:/rtools40/mingw64/bin/"gcc -I"D:/biocbuild/bbs-3.15-bioc/R/include" -DNDEBUG -I"C:/extsoft/include" -O2 -Wall -std=gnu99 -mfpmath=sse -msse2 -mstackrealign -fno-reorder-blocks-and-partition -c Additive.c -o Additive.o Additive.c: In function 'compute_g': Additive.c:233:19: warning: 'et22' may be used uninitialized in this function [-Wmaybe-uninitialized] x = et12 + et22 - 1; ~~~~~^~~~~~ Additive.c:235:25: warning: 't22' may be used uninitialized in this function [-Wmaybe-uninitialized] *g22 = logx - t12 - t22; ~~~~~~~~~~~^~~~~ "C:/rtools40/mingw64/bin/"gcc -I"D:/biocbuild/bbs-3.15-bioc/R/include" -DNDEBUG -I"C:/extsoft/include" -O2 -Wall -std=gnu99 -mfpmath=sse -msse2 -mstackrealign -fno-reorder-blocks-and-partition -c CML.c -o CML.o "C:/rtools40/mingw64/bin/"gcc -I"D:/biocbuild/bbs-3.15-bioc/R/include" -DNDEBUG -I"C:/extsoft/include" -O2 -Wall -std=gnu99 -mfpmath=sse -msse2 -mstackrealign -fno-reorder-blocks-and-partition -c ccl.c -o ccl.o "C:/rtools40/mingw64/bin/"gfortran -fno-optimize-sibling-calls -O2 -mfpmath=sse -msse2 -mstackrealign -fno-reorder-blocks-and-partition -c csclust.f -o csclust.o "C:/rtools40/mingw64/bin/"gcc -I"D:/biocbuild/bbs-3.15-bioc/R/include" -DNDEBUG -I"C:/extsoft/include" -O2 -Wall -std=gnu99 -mfpmath=sse -msse2 -mstackrealign -fno-reorder-blocks-and-partition -c fsclust.c -o fsclust.o "C:/rtools40/mingw64/bin/"gcc -I"D:/biocbuild/bbs-3.15-bioc/R/include" -DNDEBUG -I"C:/extsoft/include" -O2 -Wall -std=gnu99 -mfpmath=sse -msse2 -mstackrealign -fno-reorder-blocks-and-partition -c hcl.c -o hcl.o "C:/rtools40/mingw64/bin/"gcc -I"D:/biocbuild/bbs-3.15-bioc/R/include" -DNDEBUG -I"C:/extsoft/include" -O2 -Wall -std=gnu99 -mfpmath=sse -msse2 -mstackrealign -fno-reorder-blocks-and-partition -c pmatch.c -o pmatch.o "C:/rtools40/mingw64/bin/"gcc -I"D:/biocbuild/bbs-3.15-bioc/R/include" -DNDEBUG -I"C:/extsoft/include" -O2 -Wall -std=gnu99 -mfpmath=sse -msse2 -mstackrealign -fno-reorder-blocks-and-partition -c score.c -o score.o C:/rtools40/mingw64/bin/gcc -shared -s -static-libgcc -o CGEN.dll tmp.def Additive.o CML.o ccl.o csclust.o fsclust.o hcl.o pmatch.o score.o -LC:/extsoft/lib/x64 -LC:/extsoft/lib -lgfortran -lm -lquadmath -LD:/biocbuild/bbs-3.15-bioc/R/bin/x64 -lR installing to D:/biocbuild/bbs-3.15-bioc/meat/CGEN.buildbin-libdir/00LOCK-CGEN/00new/CGEN/libs/x64 ** R ** data ** inst ** byte-compile and prepare package for lazy loading ** help *** installing help indices converting help for package 'CGEN' finding HTML links ... done CGEN html GxE.scan html GxE.scan.combine html GxE.scan.partition html LocusMapData html QQ.plot html Xdata html Xdata2 html additive.test html chromosome.plot html getMatchedSets html getSummary html getWaldTest html locusMap.list html pheno.list html printEffects html snp.effects html snp.effects.plot html snp.list html snp.logistic html snp.matched html snp.score html subject.list html ** building package indices ** installing vignettes ** testing if installed package can be loaded from temporary location ** testing if installed package can be loaded from final location ** testing if installed package keeps a record of temporary installation path * MD5 sums packaged installation of 'CGEN' as CGEN_3.31.0.zip * DONE (CGEN)