| Back to Multiple platform build/check report for BioC 3.15 |
|
This page was generated on 2022-03-18 11:07:06 -0400 (Fri, 18 Mar 2022).
| Hostname | OS | Arch (*) | R version | Installed pkgs |
|---|---|---|---|---|
| nebbiolo1 | Linux (Ubuntu 20.04.4 LTS) | x86_64 | R Under development (unstable) (2022-02-17 r81757) -- "Unsuffered Consequences" | 4334 |
| riesling1 | Windows Server 2019 Standard | x64 | R Under development (unstable) (2021-11-21 r81221) -- "Unsuffered Consequences" | 4097 |
| palomino3 | Windows Server 2022 Datacenter | x64 | R Under development (unstable) (2022-02-17 r81757 ucrt) -- "Unsuffered Consequences" | 4083 |
| merida1 | macOS 10.14.6 Mojave | x86_64 | R Under development (unstable) (2022-03-02 r81842) -- "Unsuffered Consequences" | 4134 |
| Click on any hostname to see more info about the system (e.g. compilers) (*) as reported by 'uname -p', except on Windows and Mac OS X | ||||
|
To the developers/maintainers of the CAMERA package: - Please allow up to 24 hours (and sometimes 48 hours) for your latest push to git@git.bioconductor.org:packages/CAMERA.git to reflect on this report. See How and When does the builder pull? When will my changes propagate? here for more information. - Make sure to use the following settings in order to reproduce any error or warning you see on this page. |
| Package 237/2090 | Hostname | OS / Arch | INSTALL | BUILD | CHECK | BUILD BIN | ||||||||
| CAMERA 1.51.1 (landing page) Steffen Neumann
| nebbiolo1 | Linux (Ubuntu 20.04.4 LTS) / x86_64 | OK | OK | OK | |||||||||
| riesling1 | Windows Server 2019 Standard / x64 | OK | OK | OK | OK | |||||||||
| palomino3 | Windows Server 2022 Datacenter / x64 | OK | OK | OK | OK | |||||||||
| merida1 | macOS 10.14.6 Mojave / x86_64 | OK | OK | OK | OK | |||||||||
| Package: CAMERA |
| Version: 1.51.1 |
| Command: rm -rf CAMERA.buildbin-libdir && mkdir CAMERA.buildbin-libdir && D:\biocbuild\bbs-3.15-bioc\R\bin\R.exe CMD INSTALL --build --library=CAMERA.buildbin-libdir CAMERA_1.51.1.tar.gz |
| StartedAt: 2022-03-17 20:57:29 -0400 (Thu, 17 Mar 2022) |
| EndedAt: 2022-03-17 20:59:21 -0400 (Thu, 17 Mar 2022) |
| EllapsedTime: 111.2 seconds |
| RetCode: 0 |
| Status: OK |
| PackageFile: CAMERA_1.51.1.zip |
| PackageFileSize: 2.975 MiB |
##############################################################################
##############################################################################
###
### Running command:
###
### rm -rf CAMERA.buildbin-libdir && mkdir CAMERA.buildbin-libdir && D:\biocbuild\bbs-3.15-bioc\R\bin\R.exe CMD INSTALL --build --library=CAMERA.buildbin-libdir CAMERA_1.51.1.tar.gz
###
##############################################################################
##############################################################################
* installing *source* package 'CAMERA' ...
** using staged installation
** libs
"C:/rtools40/mingw64/bin/"gcc -I"D:/biocbuild/bbs-3.15-bioc/R/include" -DNDEBUG -I"C:/extsoft/include" -O2 -Wall -std=gnu99 -mfpmath=sse -msse2 -mstackrealign -fno-reorder-blocks-and-partition -c fastMatch.c -o fastMatch.o
C:/rtools40/mingw64/bin/gcc -shared -s -static-libgcc -o CAMERA.dll tmp.def fastMatch.o -LC:/extsoft/lib/x64 -LC:/extsoft/lib -LD:/biocbuild/bbs-3.15-bioc/R/bin/x64 -lR
installing to D:/biocbuild/bbs-3.15-bioc/meat/CAMERA.buildbin-libdir/00LOCK-CAMERA/00new/CAMERA/libs/x64
** R
** data
** inst
** byte-compile and prepare package for lazy loading
** help
*** installing help indices
converting help for package 'CAMERA'
finding HTML links ... done
annotate-methods html
annotateDiffreport html
finding level-2 HTML links ... done
calcCaS-methods html
calcCiS-methods html
calcIsotopes-methods html
calcPC-methods html
calcPC.hcs-methods html
calcPC.lpc-methods html
cleanParallel html
combinexsAnnos html
compoundLibraries html
compoundQuantiles-class html
compoundQuantiles html
findAdducts-methods html
findIsotopes-methods html
findIsotopesWithValidation-methods html
findKendrickMasses html
findNeutralLoss html
findNeutralLossSpecs html
getAllPeakEICs-methods html
getAtomCount-compoundQuantiles-method html
getIsotopeCluster html
getIsotopeProportion-compoundQuantiles-method
html
getPeaklist-methods html
getReducedPeaklist-methods html
getpspectra html
groupCorr-methods html
groupDen-methods html
groupFWHM-methods html
massWindowSizes html
mm14 html
plotEIC.xsAnnotate html
plotPsSpectrum.xsAnnotate html
psDist-methods html
pspec2metfrag html
ruleSet-class html
xsAnnotate-class html
xsAnnotate html
** building package indices
** installing vignettes
** testing if installed package can be loaded from temporary location
** testing if installed package can be loaded from final location
** testing if installed package keeps a record of temporary installation path
* MD5 sums
packaged installation of 'CAMERA' as CAMERA_1.51.1.zip
* DONE (CAMERA)