| Back to Multiple platform build/check report for BioC 3.15 |
|
This page was generated on 2022-03-18 11:07:05 -0400 (Fri, 18 Mar 2022).
| Hostname | OS | Arch (*) | R version | Installed pkgs |
|---|---|---|---|---|
| nebbiolo1 | Linux (Ubuntu 20.04.4 LTS) | x86_64 | R Under development (unstable) (2022-02-17 r81757) -- "Unsuffered Consequences" | 4334 |
| riesling1 | Windows Server 2019 Standard | x64 | R Under development (unstable) (2021-11-21 r81221) -- "Unsuffered Consequences" | 4097 |
| palomino3 | Windows Server 2022 Datacenter | x64 | R Under development (unstable) (2022-02-17 r81757 ucrt) -- "Unsuffered Consequences" | 4083 |
| merida1 | macOS 10.14.6 Mojave | x86_64 | R Under development (unstable) (2022-03-02 r81842) -- "Unsuffered Consequences" | 4134 |
| Click on any hostname to see more info about the system (e.g. compilers) (*) as reported by 'uname -p', except on Windows and Mac OS X | ||||
|
To the developers/maintainers of the BubbleTree package: - Please allow up to 24 hours (and sometimes 48 hours) for your latest push to git@git.bioconductor.org:packages/BubbleTree.git to reflect on this report. See How and When does the builder pull? When will my changes propagate? here for more information. - Make sure to use the following settings in order to reproduce any error or warning you see on this page. |
| Package 220/2090 | Hostname | OS / Arch | INSTALL | BUILD | CHECK | BUILD BIN | ||||||||
| BubbleTree 2.25.0 (landing page) Todd Creasy
| nebbiolo1 | Linux (Ubuntu 20.04.4 LTS) / x86_64 | OK | OK | OK | |||||||||
| riesling1 | Windows Server 2019 Standard / x64 | OK | OK | OK | OK | |||||||||
| palomino3 | Windows Server 2022 Datacenter / x64 | OK | OK | OK | OK | |||||||||
| merida1 | macOS 10.14.6 Mojave / x86_64 | OK | OK | OK | OK | |||||||||
| Package: BubbleTree |
| Version: 2.25.0 |
| Command: D:\biocbuild\bbs-3.15-bioc\R\bin\R.exe CMD check --no-multiarch --install=check:BubbleTree.install-out.txt --library=D:\biocbuild\bbs-3.15-bioc\R\library --no-vignettes --timings BubbleTree_2.25.0.tar.gz |
| StartedAt: 2022-03-17 18:36:54 -0400 (Thu, 17 Mar 2022) |
| EndedAt: 2022-03-17 18:42:03 -0400 (Thu, 17 Mar 2022) |
| EllapsedTime: 309.7 seconds |
| RetCode: 0 |
| Status: OK |
| CheckDir: BubbleTree.Rcheck |
| Warnings: 0 |
##############################################################################
##############################################################################
###
### Running command:
###
### D:\biocbuild\bbs-3.15-bioc\R\bin\R.exe CMD check --no-multiarch --install=check:BubbleTree.install-out.txt --library=D:\biocbuild\bbs-3.15-bioc\R\library --no-vignettes --timings BubbleTree_2.25.0.tar.gz
###
##############################################################################
##############################################################################
* using log directory 'D:/biocbuild/bbs-3.15-bioc/meat/BubbleTree.Rcheck'
* using R Under development (unstable) (2021-11-21 r81221)
* using platform: x86_64-w64-mingw32 (64-bit)
* using session charset: ISO8859-1
* using option '--no-vignettes'
* checking for file 'BubbleTree/DESCRIPTION' ... OK
* checking extension type ... Package
* this is package 'BubbleTree' version '2.25.0'
* checking package namespace information ... OK
* checking package dependencies ... OK
* checking if this is a source package ... OK
* checking if there is a namespace ... OK
* checking for hidden files and directories ... OK
* checking for portable file names ... OK
* checking whether package 'BubbleTree' can be installed ... OK
* checking installed package size ... NOTE
installed size is 24.0Mb
sub-directories of 1Mb or more:
data 23.4Mb
* checking package directory ... OK
* checking 'build' directory ... OK
* checking DESCRIPTION meta-information ...It is recommended to use 'given' instead of 'middle'.
OK
* checking top-level files ... OK
* checking for left-over files ... OK
* checking index information ... OK
* checking package subdirectories ... OK
* checking R files for non-ASCII characters ... OK
* checking R files for syntax errors ... OK
* checking whether the package can be loaded ... OK
* checking whether the package can be loaded with stated dependencies ... OK
* checking whether the package can be unloaded cleanly ... OK
* checking whether the namespace can be loaded with stated dependencies ... OK
* checking whether the namespace can be unloaded cleanly ... OK
* checking dependencies in R code ... OK
* checking S3 generic/method consistency ... OK
* checking replacement functions ... OK
* checking foreign function calls ... OK
* checking R code for possible problems ... NOTE
annoByOverlap,Annotate: no visible binding for global variable
'queryHits'
Undefined global functions or variables:
queryHits
* checking Rd files ... OK
* checking Rd metadata ... OK
* checking Rd cross-references ... OK
* checking for missing documentation entries ... OK
* checking for code/documentation mismatches ... OK
* checking Rd \usage sections ... OK
* checking Rd contents ... OK
* checking for unstated dependencies in examples ... OK
* checking contents of 'data' directory ... OK
* checking data for non-ASCII characters ... OK
* checking data for ASCII and uncompressed saves ... OK
* checking files in 'vignettes' ... OK
* checking examples ... OK
Examples with CPU (user + system) or elapsed time > 5s
user system elapsed
makeRBD 20.43 0.16 20.98
heteroLociTrack 5.02 0.27 5.28
* checking for unstated dependencies in vignettes ... OK
* checking package vignettes in 'inst/doc' ... OK
* checking running R code from vignettes ... SKIPPED
* checking re-building of vignette outputs ... SKIPPED
* checking PDF version of manual ... OK
* DONE
Status: 2 NOTEs
See
'D:/biocbuild/bbs-3.15-bioc/meat/BubbleTree.Rcheck/00check.log'
for details.
BubbleTree.Rcheck/00install.out
##############################################################################
##############################################################################
###
### Running command:
###
### D:\biocbuild\bbs-3.15-bioc\R\bin\R.exe CMD INSTALL BubbleTree
###
##############################################################################
##############################################################################
* installing to library 'D:/biocbuild/bbs-3.15-bioc/R/library'
* installing *source* package 'BubbleTree' ...
** using staged installation
It is recommended to use 'given' instead of 'middle'.
** R
** data
** inst
** byte-compile and prepare package for lazy loading
** help
*** installing help indices
converting help for package 'BubbleTree'
finding HTML links ... done
Annotate html
BTreePlotter html
BTreePredictor html
RBD html
RscoreTrack html
TrackPlotter html
all.somatic.lst html
allCNV.lst html
allCall.lst html
allHetero.lst html
allRBD.lst html
annoByGenesAndCyto html
bafTrack html
btcompare html
btpredict html
cancer.genes.minus2 html
centromere.dat html
cnv.gr html
cyto.gr html
drawBTree html
drawBubbles html
drawFeatures html
gene.uni.clean.gr html
getTracks html
heteroLociTrack html
hg19.seqinfo html
info html
loadRBD html
makeRBD html
mergeSnpCnv html
saveXLS html
snp.gr html
trackBTree html
vol.genes html
xyTrack html
** building package indices
** installing vignettes
** testing if installed package can be loaded from temporary location
** testing if installed package can be loaded from final location
** testing if installed package keeps a record of temporary installation path
* DONE (BubbleTree)
Making 'packages.html' ...Warning in packageDescription(i, lib.loc = lib, fields = "Title", encoding = "UTF-8") :
DESCRIPTION file of package 'pcaExplorer' is missing or broken
done
BubbleTree.Rcheck/BubbleTree-Ex.timings
| name | user | system | elapsed | |
| Annotate | 0 | 0 | 0 | |
| BTreePlotter | 0.05 | 0.07 | 0.11 | |
| BTreePredictor | 0.02 | 0.00 | 0.01 | |
| RBD | 0 | 0 | 0 | |
| RscoreTrack | 0.42 | 0.00 | 0.42 | |
| TrackPlotter | 0 | 0 | 0 | |
| annoByGenesAndCyto | 0.39 | 0.01 | 0.41 | |
| bafTrack | 0.22 | 0.02 | 0.23 | |
| btcompare | 0 | 0 | 0 | |
| btpredict | 3.47 | 0.29 | 3.77 | |
| drawBTree | 0.20 | 0.02 | 0.22 | |
| drawBubbles | 0.22 | 0.00 | 0.22 | |
| drawFeatures | 1.00 | 0.03 | 1.03 | |
| getTracks | 0.53 | 0.03 | 0.56 | |
| heteroLociTrack | 5.02 | 0.27 | 5.28 | |
| info | 3.76 | 0.03 | 3.80 | |
| loadRBD | 0.03 | 0.00 | 0.03 | |
| makeRBD | 20.43 | 0.16 | 20.98 | |
| saveXLS | 0.17 | 0.00 | 1.19 | |
| trackBTree | 0.29 | 0.01 | 0.31 | |
| xyTrack | 0.29 | 0.00 | 0.29 | |