| Back to Multiple platform build/check report for BioC 3.15 |
|
This page was generated on 2022-10-19 13:21:09 -0400 (Wed, 19 Oct 2022).
| Hostname | OS | Arch (*) | R version | Installed pkgs |
|---|---|---|---|---|
| nebbiolo1 | Linux (Ubuntu 20.04.5 LTS) | x86_64 | 4.2.1 (2022-06-23) -- "Funny-Looking Kid" | 4386 |
| palomino3 | Windows Server 2022 Datacenter | x64 | 4.2.1 (2022-06-23 ucrt) -- "Funny-Looking Kid" | 4138 |
| merida1 | macOS 10.14.6 Mojave | x86_64 | 4.2.1 (2022-06-23) -- "Funny-Looking Kid" | 4205 |
| Click on any hostname to see more info about the system (e.g. compilers) (*) as reported by 'uname -p', except on Windows and Mac OS X | ||||
|
To the developers/maintainers of the BiocParallel package: - Please allow up to 24 hours (and sometimes 48 hours) for your latest push to git@git.bioconductor.org:packages/BiocParallel.git to reflect on this report. See How and When does the builder pull? When will my changes propagate? for more information. - Make sure to use the following settings in order to reproduce any error or warning you see on this page. |
| Package 166/2140 | Hostname | OS / Arch | INSTALL | BUILD | CHECK | BUILD BIN | ||||||||
| BiocParallel 1.30.4 (landing page) Martin Morgan
| nebbiolo1 | Linux (Ubuntu 20.04.5 LTS) / x86_64 | OK | OK | OK | |||||||||
| palomino3 | Windows Server 2022 Datacenter / x64 | OK | OK | OK | OK | |||||||||
| merida1 | macOS 10.14.6 Mojave / x86_64 | OK | OK | OK | OK | |||||||||
| Package: BiocParallel |
| Version: 1.30.4 |
| Command: rm -rf BiocParallel.buildbin-libdir && mkdir BiocParallel.buildbin-libdir && F:\biocbuild\bbs-3.15-bioc\R\bin\R.exe CMD INSTALL --build --library=BiocParallel.buildbin-libdir BiocParallel_1.30.4.tar.gz |
| StartedAt: 2022-10-19 05:35:11 -0400 (Wed, 19 Oct 2022) |
| EndedAt: 2022-10-19 05:36:03 -0400 (Wed, 19 Oct 2022) |
| EllapsedTime: 52.0 seconds |
| RetCode: 0 |
| Status: OK |
| PackageFile: BiocParallel_1.30.4.zip |
| PackageFileSize: 1.74 MiB |
##############################################################################
##############################################################################
###
### Running command:
###
### rm -rf BiocParallel.buildbin-libdir && mkdir BiocParallel.buildbin-libdir && F:\biocbuild\bbs-3.15-bioc\R\bin\R.exe CMD INSTALL --build --library=BiocParallel.buildbin-libdir BiocParallel_1.30.4.tar.gz
###
##############################################################################
##############################################################################
* installing *source* package 'BiocParallel' ...
** using staged installation
**********************************************
WARNING: this package has a configure script
It probably needs manual configuration
**********************************************
** libs
g++ -std=gnu++11 -I"F:/biocbuild/bbs-3.15-bioc/R/include" -DNDEBUG -I'F:/biocbuild/bbs-3.15-bioc/R/library/BH/include' -I"C:/rtools42/x86_64-w64-mingw32.static.posix/include" -O2 -Wall -mfpmath=sse -msse2 -mstackrealign -c ipcmutex.cpp -o ipcmutex.o
In file included from F:/biocbuild/bbs-3.15-bioc/R/library/BH/include/boost/mpl/aux_/na_assert.hpp:23,
from F:/biocbuild/bbs-3.15-bioc/R/library/BH/include/boost/mpl/arg.hpp:25,
from F:/biocbuild/bbs-3.15-bioc/R/library/BH/include/boost/mpl/placeholders.hpp:24,
from F:/biocbuild/bbs-3.15-bioc/R/library/BH/include/boost/mpl/apply.hpp:24,
from F:/biocbuild/bbs-3.15-bioc/R/library/BH/include/boost/mpl/aux_/fold_impl.hpp:19,
from F:/biocbuild/bbs-3.15-bioc/R/library/BH/include/boost/mpl/fold.hpp:20,
from F:/biocbuild/bbs-3.15-bioc/R/library/BH/include/boost/mpl/remove_if.hpp:18,
from F:/biocbuild/bbs-3.15-bioc/R/library/BH/include/boost/mpl/remove.hpp:18,
from F:/biocbuild/bbs-3.15-bioc/R/library/BH/include/boost/function_types/components.hpp:44,
from F:/biocbuild/bbs-3.15-bioc/R/library/BH/include/boost/function_types/is_member_function_pointer.hpp:14,
from F:/biocbuild/bbs-3.15-bioc/R/library/BH/include/boost/tti/detail/dmem_fun.hpp:10,
from F:/biocbuild/bbs-3.15-bioc/R/library/BH/include/boost/tti/has_member_function.hpp:15,
from F:/biocbuild/bbs-3.15-bioc/R/library/BH/include/boost/uuid/random_generator.hpp:20,
from F:/biocbuild/bbs-3.15-bioc/R/library/BH/include/boost/uuid/uuid_generators.hpp:17,
from ipcmutex.cpp:3:
F:/biocbuild/bbs-3.15-bioc/R/library/BH/include/boost/mpl/assert.hpp:194:21: warning: unnecessary parentheses in declaration of 'assert_arg' [-Wparentheses]
194 | failed ************ (Pred::************
| ^
F:/biocbuild/bbs-3.15-bioc/R/library/BH/include/boost/mpl/assert.hpp:199:21: warning: unnecessary parentheses in declaration of 'assert_not_arg' [-Wparentheses]
199 | failed ************ (boost::mpl::not_<Pred>::************
| ^
g++ -shared -s -static-libgcc -o BiocParallel.dll tmp.def ipcmutex.o -lbcrypt -LC:/rtools42/x86_64-w64-mingw32.static.posix/lib/x64 -LC:/rtools42/x86_64-w64-mingw32.static.posix/lib -LF:/biocbuild/bbs-3.15-bioc/R/bin/x64 -lR
installing to F:/biocbuild/bbs-3.15-bioc/meat/BiocParallel.buildbin-libdir/00LOCK-BiocParallel/00new/BiocParallel/libs/x64
** R
** inst
** byte-compile and prepare package for lazy loading
** help
*** installing help indices
** building package indices
** installing vignettes
** testing if installed package can be loaded from temporary location
** testing if installed package can be loaded from final location
** testing if installed package keeps a record of temporary installation path
* MD5 sums
packaged installation of 'BiocParallel' as BiocParallel_1.30.4.zip
* DONE (BiocParallel)