| Back to Multiple platform build/check report for BioC 3.15 |
|
This page was generated on 2022-03-18 11:07:03 -0400 (Fri, 18 Mar 2022).
| Hostname | OS | Arch (*) | R version | Installed pkgs |
|---|---|---|---|---|
| nebbiolo1 | Linux (Ubuntu 20.04.4 LTS) | x86_64 | R Under development (unstable) (2022-02-17 r81757) -- "Unsuffered Consequences" | 4334 |
| riesling1 | Windows Server 2019 Standard | x64 | R Under development (unstable) (2021-11-21 r81221) -- "Unsuffered Consequences" | 4097 |
| palomino3 | Windows Server 2022 Datacenter | x64 | R Under development (unstable) (2022-02-17 r81757 ucrt) -- "Unsuffered Consequences" | 4083 |
| merida1 | macOS 10.14.6 Mojave | x86_64 | R Under development (unstable) (2022-03-02 r81842) -- "Unsuffered Consequences" | 4134 |
| Click on any hostname to see more info about the system (e.g. compilers) (*) as reported by 'uname -p', except on Windows and Mac OS X | ||||
|
To the developers/maintainers of the BioNetStat package: - Please allow up to 24 hours (and sometimes 48 hours) for your latest push to git@git.bioconductor.org:packages/BioNetStat.git to reflect on this report. See How and When does the builder pull? When will my changes propagate? here for more information. - Make sure to use the following settings in order to reproduce any error or warning you see on this page. |
| Package 187/2090 | Hostname | OS / Arch | INSTALL | BUILD | CHECK | BUILD BIN | ||||||||
| BioNetStat 1.15.0 (landing page) Vinicius Jardim
| nebbiolo1 | Linux (Ubuntu 20.04.4 LTS) / x86_64 | OK | OK | OK | |||||||||
| riesling1 | Windows Server 2019 Standard / x64 | OK | OK | OK | OK | |||||||||
| palomino3 | Windows Server 2022 Datacenter / x64 | OK | OK | OK | OK | |||||||||
| merida1 | macOS 10.14.6 Mojave / x86_64 | OK | OK | OK | OK | |||||||||
| Package: BioNetStat |
| Version: 1.15.0 |
| Command: rm -rf BioNetStat.buildbin-libdir && mkdir BioNetStat.buildbin-libdir && D:\biocbuild\bbs-3.15-bioc\R\bin\R.exe CMD INSTALL --build --library=BioNetStat.buildbin-libdir BioNetStat_1.15.0.tar.gz |
| StartedAt: 2022-03-17 20:56:07 -0400 (Thu, 17 Mar 2022) |
| EndedAt: 2022-03-17 20:57:27 -0400 (Thu, 17 Mar 2022) |
| EllapsedTime: 79.7 seconds |
| RetCode: 0 |
| Status: OK |
| PackageFile: BioNetStat_1.15.0.zip |
| PackageFileSize: 3.095 MiB |
##############################################################################
##############################################################################
###
### Running command:
###
### rm -rf BioNetStat.buildbin-libdir && mkdir BioNetStat.buildbin-libdir && D:\biocbuild\bbs-3.15-bioc\R\bin\R.exe CMD INSTALL --build --library=BioNetStat.buildbin-libdir BioNetStat_1.15.0.tar.gz
###
##############################################################################
##############################################################################
* installing *source* package 'BioNetStat' ...
** using staged installation
** R
** data
** inst
** byte-compile and prepare package for lazy loading
** help
*** installing help indices
converting help for package 'BioNetStat'
finding HTML links ... done
KLdegree html
KLspectrum html
adjacencyMatrix html
centralityPathPlot html
diffNetAnalysis html
doLabels html
edgeTest html
labels html
nDegreeDensities html
nSpectralDensities html
networkFeature html
networkTest html
nodeScores html
nodeTest html
pathPlot html
readSetFile html
readVarFile html
runBioNetStat html
varFile html
** building package indices
** installing vignettes
** testing if installed package can be loaded from temporary location
** testing if installed package can be loaded from final location
** testing if installed package keeps a record of temporary installation path
* MD5 sums
packaged installation of 'BioNetStat' as BioNetStat_1.15.0.zip
* DONE (BioNetStat)