| Back to Multiple platform build/check report for BioC 3.15 |
|
This page was generated on 2022-03-18 11:07:03 -0400 (Fri, 18 Mar 2022).
| Hostname | OS | Arch (*) | R version | Installed pkgs |
|---|---|---|---|---|
| nebbiolo1 | Linux (Ubuntu 20.04.4 LTS) | x86_64 | R Under development (unstable) (2022-02-17 r81757) -- "Unsuffered Consequences" | 4334 |
| riesling1 | Windows Server 2019 Standard | x64 | R Under development (unstable) (2021-11-21 r81221) -- "Unsuffered Consequences" | 4097 |
| palomino3 | Windows Server 2022 Datacenter | x64 | R Under development (unstable) (2022-02-17 r81757 ucrt) -- "Unsuffered Consequences" | 4083 |
| merida1 | macOS 10.14.6 Mojave | x86_64 | R Under development (unstable) (2022-03-02 r81842) -- "Unsuffered Consequences" | 4134 |
| Click on any hostname to see more info about the system (e.g. compilers) (*) as reported by 'uname -p', except on Windows and Mac OS X | ||||
|
To the developers/maintainers of the BiSeq package: - Please allow up to 24 hours (and sometimes 48 hours) for your latest push to git@git.bioconductor.org:packages/BiSeq.git to reflect on this report. See How and When does the builder pull? When will my changes propagate? here for more information. - Make sure to use the following settings in order to reproduce any error or warning you see on this page. |
| Package 197/2090 | Hostname | OS / Arch | INSTALL | BUILD | CHECK | BUILD BIN | ||||||||
| BiSeq 1.35.1 (landing page) Katja Hebestreit
| nebbiolo1 | Linux (Ubuntu 20.04.4 LTS) / x86_64 | OK | OK | OK | |||||||||
| riesling1 | Windows Server 2019 Standard / x64 | OK | OK | OK | OK | |||||||||
| palomino3 | Windows Server 2022 Datacenter / x64 | OK | OK | OK | OK | |||||||||
| merida1 | macOS 10.14.6 Mojave / x86_64 | OK | OK | OK | OK | |||||||||
| Package: BiSeq |
| Version: 1.35.1 |
| Command: rm -rf BiSeq.buildbin-libdir && mkdir BiSeq.buildbin-libdir && D:\biocbuild\bbs-3.15-bioc\R\bin\R.exe CMD INSTALL --build --library=BiSeq.buildbin-libdir BiSeq_1.35.1.tar.gz |
| StartedAt: 2022-03-17 20:56:19 -0400 (Thu, 17 Mar 2022) |
| EndedAt: 2022-03-17 20:57:53 -0400 (Thu, 17 Mar 2022) |
| EllapsedTime: 94.0 seconds |
| RetCode: 0 |
| Status: OK |
| PackageFile: BiSeq_1.35.1.zip |
| PackageFileSize: 1.262 MiB |
##############################################################################
##############################################################################
###
### Running command:
###
### rm -rf BiSeq.buildbin-libdir && mkdir BiSeq.buildbin-libdir && D:\biocbuild\bbs-3.15-bioc\R\bin\R.exe CMD INSTALL --build --library=BiSeq.buildbin-libdir BiSeq_1.35.1.tar.gz
###
##############################################################################
##############################################################################
* installing *source* package 'BiSeq' ...
** using staged installation
** R
** data
** inst
** byte-compile and prepare package for lazy loading
** help
*** installing help indices
converting help for package 'BiSeq'
finding HTML links ... done
BSraw-class html
finding level-2 HTML links ... done
BSrel-class html
DMRs html
annotateGRanges html
betaRegression html
betaResults html
betaResultsNull html
binomLikelihoodSmooth html
clusterSites html
clusterSitesToGR html
compareTwoSamples html
covBoxplots html
covStatistics html
estLocCor html
filterByCov html
filterBySharedRegions html
findDMRs html
globalTest html
limitCov html
logisticRegression html
makeVariogram html
plotBindingSites html
plotMeth html
plotMethMap html
plotSmoothMeth html
predictMeth html
predictedMeth html
promoters html
rawToRel html
readBismark html
rrbs html
smoothVariogram html
summarizeRegions html
testClusters html
trimClusters html
vario html
writeBED html
** building package indices
** installing vignettes
** testing if installed package can be loaded from temporary location
** testing if installed package can be loaded from final location
** testing if installed package keeps a record of temporary installation path
* MD5 sums
packaged installation of 'BiSeq' as BiSeq_1.35.1.zip
* DONE (BiSeq)