| Back to Multiple platform build/check report for BioC 3.15 | 
  | 
This page was generated on 2022-03-18 11:07:03 -0400 (Fri, 18 Mar 2022).
| Hostname | OS | Arch (*) | R version | Installed pkgs | 
|---|---|---|---|---|
| nebbiolo1 | Linux (Ubuntu 20.04.4 LTS) | x86_64 | R Under development (unstable) (2022-02-17 r81757) -- "Unsuffered Consequences" | 4334 | 
| riesling1 | Windows Server 2019 Standard | x64 | R Under development (unstable) (2021-11-21 r81221) -- "Unsuffered Consequences" | 4097 | 
| palomino3 | Windows Server 2022 Datacenter | x64 | R Under development (unstable) (2022-02-17 r81757 ucrt) -- "Unsuffered Consequences" | 4083 | 
| merida1 | macOS 10.14.6 Mojave | x86_64 | R Under development (unstable) (2022-03-02 r81842) -- "Unsuffered Consequences" | 4134 | 
| Click on any hostname to see more info about the system (e.g. compilers) (*) as reported by 'uname -p', except on Windows and Mac OS X | ||||
| 
To the developers/maintainers of the BiRewire package: - Please allow up to 24 hours (and sometimes 48 hours) for your latest push to git@git.bioconductor.org:packages/BiRewire.git to reflect on this report. See How and When does the builder pull? When will my changes propagate? here for more information. - Make sure to use the following settings in order to reproduce any error or warning you see on this page.  | 
| Package 195/2090 | Hostname | OS / Arch | INSTALL | BUILD | CHECK | BUILD BIN | ||||||||
| BiRewire 3.27.2  (landing page) Andrea Gobbi 
  | nebbiolo1 | Linux (Ubuntu 20.04.4 LTS) / x86_64 | OK | OK | WARNINGS | |||||||||
| riesling1 | Windows Server 2019 Standard / x64 | OK | OK | WARNINGS | OK | |||||||||
| palomino3 | Windows Server 2022 Datacenter / x64 | OK | OK | WARNINGS | OK | |||||||||
| merida1 | macOS 10.14.6 Mojave / x86_64 | OK | OK | OK | OK | |||||||||
| Package: BiRewire | 
| Version: 3.27.2 | 
| Command: rm -rf BiRewire.buildbin-libdir && mkdir BiRewire.buildbin-libdir && D:\biocbuild\bbs-3.15-bioc\R\bin\R.exe CMD INSTALL --build --library=BiRewire.buildbin-libdir BiRewire_3.27.2.tar.gz | 
| StartedAt: 2022-03-17 20:56:17 -0400 (Thu, 17 Mar 2022) | 
| EndedAt: 2022-03-17 20:57:37 -0400 (Thu, 17 Mar 2022) | 
| EllapsedTime: 80.2 seconds | 
| RetCode: 0 | 
| Status: OK | 
| PackageFile: BiRewire_3.27.2.zip | 
| PackageFileSize: 696.2 KiB | 
##############################################################################
##############################################################################
###
### Running command:
###
###   rm -rf BiRewire.buildbin-libdir && mkdir BiRewire.buildbin-libdir && D:\biocbuild\bbs-3.15-bioc\R\bin\R.exe CMD INSTALL --build --library=BiRewire.buildbin-libdir BiRewire_3.27.2.tar.gz
###
##############################################################################
##############################################################################
* installing *source* package 'BiRewire' ...
** using staged installation
** libs
"C:/rtools40/mingw64/bin/"gcc  -I"D:/biocbuild/bbs-3.15-bioc/R/include" -DNDEBUG     -I"C:/extsoft/include"     -O2 -Wall  -std=gnu99 -mfpmath=sse -msse2 -mstackrealign -fno-reorder-blocks-and-partition  -c BiRewire.c -o BiRewire.o
BiRewire.c: In function 'rewire_sparse':
BiRewire.c:1066:16: warning: suggest parentheses around comparison in operand of '&' [-Wparentheses]
   if( a!=c && b!=d & a!=d && c!=b && (( ad==1 && cb==1 )|| (ac==1 && bd==1) )) {
               ~^~~
BiRewire.c: In function 'rewire_sparse_ex':
BiRewire.c:1149:16: warning: suggest parentheses around comparison in operand of '&' [-Wparentheses]
   if( a!=c && b!=d & a!=d && c!=b && (( ad==1 && cb==1 )|| (ac==1 && bd==1) )) {
               ~^~~
"C:/rtools40/mingw64/bin/"gcc  -I"D:/biocbuild/bbs-3.15-bioc/R/include" -DNDEBUG     -I"C:/extsoft/include"     -O2 -Wall  -std=gnu99 -mfpmath=sse -msse2 -mstackrealign -fno-reorder-blocks-and-partition  -c interface.c -o interface.o
C:/rtools40/mingw64/bin/gcc -shared -s -static-libgcc -o BiRewire.dll tmp.def BiRewire.o interface.o -LC:/extsoft/lib/x64 -LC:/extsoft/lib -LD:/biocbuild/bbs-3.15-bioc/R/bin/x64 -lR
installing to D:/biocbuild/bbs-3.15-bioc/meat/BiRewire.buildbin-libdir/00LOCK-BiRewire/00new/BiRewire/libs/x64
** R
** data
** inst
** byte-compile and prepare package for lazy loading
** help
*** installing help indices
  converting help for package 'BiRewire'
    finding HTML links ... done
    BRCA_binary_matrix                      html  
    BiRewire-package                        html  
    birewire.analysis.bipartite             html  
    finding level-2 HTML links ... done
    birewire.analysis.dsg                   html  
    birewire.analysis.undirected            html  
    birewire.bipartite.from.incidence       html  
    birewire.build.dsg                      html  
    birewire.induced.bipartite              html  
    birewire.load.dsg                       html  
    birewire.rewire.bipartite               html  
    birewire.rewire.bipartite.and.projections
                                            html  
    birewire.rewire.dsg                     html  
    birewire.rewire.undirected              html  
    birewire.sampler.bipartite              html  
    birewire.sampler.dsg                    html  
    birewire.sampler.undirected             html  
    birewire.similarity                     html  
    birewire.similarity.dsg                 html  
    birewire.slum.to.sparseMatrix           html  
    birewire.visual.monitoring.bipartite    html  
    birewire.visual.monitoring.dsg          html  
    birewire.visual.monitoring.undirected   html  
    test_dsg                                html  
** building package indices
** installing vignettes
** testing if installed package can be loaded from temporary location
** testing if installed package can be loaded from final location
** testing if installed package keeps a record of temporary installation path
* MD5 sums
packaged installation of 'BiRewire' as BiRewire_3.27.2.zip
* DONE (BiRewire)