Back to Multiple platform build/check report for BioC 3.15 |
|
This page was generated on 2022-03-18 11:07:00 -0400 (Fri, 18 Mar 2022).
Hostname | OS | Arch (*) | R version | Installed pkgs |
---|---|---|---|---|
nebbiolo1 | Linux (Ubuntu 20.04.4 LTS) | x86_64 | R Under development (unstable) (2022-02-17 r81757) -- "Unsuffered Consequences" | 4334 |
riesling1 | Windows Server 2019 Standard | x64 | R Under development (unstable) (2021-11-21 r81221) -- "Unsuffered Consequences" | 4097 |
palomino3 | Windows Server 2022 Datacenter | x64 | R Under development (unstable) (2022-02-17 r81757 ucrt) -- "Unsuffered Consequences" | 4083 |
merida1 | macOS 10.14.6 Mojave | x86_64 | R Under development (unstable) (2022-03-02 r81842) -- "Unsuffered Consequences" | 4134 |
Click on any hostname to see more info about the system (e.g. compilers) (*) as reported by 'uname -p', except on Windows and Mac OS X |
To the developers/maintainers of the BiGGR package: - Please allow up to 24 hours (and sometimes 48 hours) for your latest push to git@git.bioconductor.org:packages/BiGGR.git to reflect on this report. See How and When does the builder pull? When will my changes propagate? here for more information. - Make sure to use the following settings in order to reproduce any error or warning you see on this page. |
Package 145/2090 | Hostname | OS / Arch | INSTALL | BUILD | CHECK | BUILD BIN | ||||||||
BiGGR 1.31.0 (landing page) Anand K. Gavai
| nebbiolo1 | Linux (Ubuntu 20.04.4 LTS) / x86_64 | OK | OK | OK | |||||||||
riesling1 | Windows Server 2019 Standard / x64 | OK | OK | OK | OK | |||||||||
palomino3 | Windows Server 2022 Datacenter / x64 | OK | OK | OK | OK | |||||||||
merida1 | macOS 10.14.6 Mojave / x86_64 | ... NOT SUPPORTED ... | ||||||||||||
Package: BiGGR |
Version: 1.31.0 |
Command: rm -rf BiGGR.buildbin-libdir && mkdir BiGGR.buildbin-libdir && D:\biocbuild\bbs-3.15-bioc\R\bin\R.exe CMD INSTALL --build --library=BiGGR.buildbin-libdir BiGGR_1.31.0.tar.gz |
StartedAt: 2022-03-17 20:54:52 -0400 (Thu, 17 Mar 2022) |
EndedAt: 2022-03-17 20:56:16 -0400 (Thu, 17 Mar 2022) |
EllapsedTime: 83.5 seconds |
RetCode: 0 |
Status: OK |
PackageFile: BiGGR_1.31.0.zip |
PackageFileSize: 4.352 MiB |
############################################################################## ############################################################################## ### ### Running command: ### ### rm -rf BiGGR.buildbin-libdir && mkdir BiGGR.buildbin-libdir && D:\biocbuild\bbs-3.15-bioc\R\bin\R.exe CMD INSTALL --build --library=BiGGR.buildbin-libdir BiGGR_1.31.0.tar.gz ### ############################################################################## ############################################################################## * installing *source* package 'BiGGR' ... ** using staged installation ** R ** data ** inst ** byte-compile and prepare package for lazy loading ** help *** installing help indices converting help for package 'BiGGR' finding HTML links ... done BiGGR-internal html BiGGR-package html E.coli_iAF1260 html E.coli_iJR904 html E.coli_textbook html Glycolysis html H.pylori_ilT341 html H.sapiens_Recon1 html M.barkeri_iAF692 html M.tuberculosis_iNJ661 html P.putida_iJN746 html Recon2 html S.aureus_iSB619 html S.cerevisiae_iND750 html buildSBMLFromBiGG html buildSBMLFromGenes html finding level-2 HTML links ... done buildSBMLFromPathways html buildSBMLFromReactionIDs html createLIMFromBiGG html createLIMFromSBML html extractGeneAssociations html extractPathways html getPathwaysForSBML html getRates html gprMapping html gprMappingAvg html lying.tunell.data html rmvSpliceVariant html sampleFluxEnsemble html sbml2hyperdraw html ** building package indices ** installing vignettes ** testing if installed package can be loaded from temporary location ** testing if installed package can be loaded from final location ** testing if installed package keeps a record of temporary installation path * MD5 sums packaged installation of 'BiGGR' as BiGGR_1.31.0.zip * DONE (BiGGR)