| Back to Multiple platform build/check report for BioC 3.15 |
|
This page was generated on 2022-03-18 11:06:58 -0400 (Fri, 18 Mar 2022).
| Hostname | OS | Arch (*) | R version | Installed pkgs |
|---|---|---|---|---|
| nebbiolo1 | Linux (Ubuntu 20.04.4 LTS) | x86_64 | R Under development (unstable) (2022-02-17 r81757) -- "Unsuffered Consequences" | 4334 |
| riesling1 | Windows Server 2019 Standard | x64 | R Under development (unstable) (2021-11-21 r81221) -- "Unsuffered Consequences" | 4097 |
| palomino3 | Windows Server 2022 Datacenter | x64 | R Under development (unstable) (2022-02-17 r81757 ucrt) -- "Unsuffered Consequences" | 4083 |
| merida1 | macOS 10.14.6 Mojave | x86_64 | R Under development (unstable) (2022-03-02 r81842) -- "Unsuffered Consequences" | 4134 |
| Click on any hostname to see more info about the system (e.g. compilers) (*) as reported by 'uname -p', except on Windows and Mac OS X | ||||
|
To the developers/maintainers of the BaseSpaceR package: - Please allow up to 24 hours (and sometimes 48 hours) for your latest push to git@git.bioconductor.org:packages/BaseSpaceR.git to reflect on this report. See How and When does the builder pull? When will my changes propagate? here for more information. - Make sure to use the following settings in order to reproduce any error or warning you see on this page. |
| Package 113/2090 | Hostname | OS / Arch | INSTALL | BUILD | CHECK | BUILD BIN | ||||||||
| BaseSpaceR 1.39.0 (landing page) Jared O'Connell
| nebbiolo1 | Linux (Ubuntu 20.04.4 LTS) / x86_64 | OK | OK | OK | |||||||||
| riesling1 | Windows Server 2019 Standard / x64 | OK | OK | OK | OK | |||||||||
| palomino3 | Windows Server 2022 Datacenter / x64 | OK | OK | OK | OK | |||||||||
| merida1 | macOS 10.14.6 Mojave / x86_64 | OK | OK | OK | OK | |||||||||
| Package: BaseSpaceR |
| Version: 1.39.0 |
| Command: D:\biocbuild\bbs-3.15-bioc\R\bin\R.exe CMD check --no-multiarch --install=check:BaseSpaceR.install-out.txt --library=D:\biocbuild\bbs-3.15-bioc\R\library --no-vignettes --timings BaseSpaceR_1.39.0.tar.gz |
| StartedAt: 2022-03-17 18:29:19 -0400 (Thu, 17 Mar 2022) |
| EndedAt: 2022-03-17 18:30:14 -0400 (Thu, 17 Mar 2022) |
| EllapsedTime: 55.2 seconds |
| RetCode: 0 |
| Status: OK |
| CheckDir: BaseSpaceR.Rcheck |
| Warnings: 0 |
##############################################################################
##############################################################################
###
### Running command:
###
### D:\biocbuild\bbs-3.15-bioc\R\bin\R.exe CMD check --no-multiarch --install=check:BaseSpaceR.install-out.txt --library=D:\biocbuild\bbs-3.15-bioc\R\library --no-vignettes --timings BaseSpaceR_1.39.0.tar.gz
###
##############################################################################
##############################################################################
* using log directory 'D:/biocbuild/bbs-3.15-bioc/meat/BaseSpaceR.Rcheck'
* using R Under development (unstable) (2021-11-21 r81221)
* using platform: x86_64-w64-mingw32 (64-bit)
* using session charset: ISO8859-1
* using option '--no-vignettes'
* checking for file 'BaseSpaceR/DESCRIPTION' ... OK
* this is package 'BaseSpaceR' version '1.39.0'
* checking package namespace information ... OK
* checking package dependencies ... OK
* checking if this is a source package ... OK
* checking if there is a namespace ... OK
* checking for hidden files and directories ... OK
* checking for portable file names ... OK
* checking whether package 'BaseSpaceR' can be installed ... OK
* checking installed package size ... OK
* checking package directory ... OK
* checking 'build' directory ... OK
* checking DESCRIPTION meta-information ... OK
* checking top-level files ... OK
* checking for left-over files ... OK
* checking index information ... OK
* checking package subdirectories ... OK
* checking R files for non-ASCII characters ... OK
* checking R files for syntax errors ... OK
* checking whether the package can be loaded ... OK
* checking whether the package can be loaded with stated dependencies ... OK
* checking whether the package can be unloaded cleanly ... OK
* checking whether the namespace can be loaded with stated dependencies ... OK
* checking whether the namespace can be unloaded cleanly ... OK
* checking dependencies in R code ... NOTE
'library' or 'require' call to 'Rsamtools' in package code.
Please use :: or requireNamespace() instead.
See section 'Suggested packages' in the 'Writing R Extensions' manual.
* checking S3 generic/method consistency ... OK
* checking replacement functions ... OK
* checking foreign function calls ... OK
* checking R code for possible problems ... NOTE
asBamFile: no visible global function definition for 'BamFile'
GET,ServiceURI: no visible global function definition for
'basicHeaderGatherer'
GET,ServiceURI: no visible global function definition for
'basicTextGatherer'
GET,ServiceURI: no visible global function definition for 'getForm'
GET,ServiceURI: no visible global function definition for 'curlOptions'
POST,ServiceURI: no visible global function definition for
'basicHeaderGatherer'
POST,ServiceURI: no visible global function definition for
'basicTextGatherer'
POST,ServiceURI: no visible global function definition for
'curlPerform'
POSTForm,ServiceURI: no visible global function definition for
'basicHeaderGatherer'
POSTForm,ServiceURI: no visible global function definition for
'basicTextGatherer'
POSTForm,ServiceURI: no visible global function definition for
'postForm'
POSTForm,ServiceURI: no visible global function definition for
'curlOptions'
getBAMs,AppResults: no visible binding for global variable
'BamFileList'
getFiles,AppAuth : .toDisk: no visible global function definition for
'CFILE'
getFiles,AppAuth : .toDisk: no visible global function definition for
'curlPerform'
getFiles,AppAuth : .toMem: no visible global function definition for
'getURLContent'
getFiles,AppAuth : .toMem: no visible binding for global variable
'dsize'
Undefined global functions or variables:
BamFile BamFileList CFILE basicHeaderGatherer basicTextGatherer
curlOptions curlPerform dsize getForm getURLContent postForm
* checking Rd files ... OK
* checking Rd metadata ... OK
* checking Rd cross-references ... OK
* checking for missing documentation entries ... OK
* checking for code/documentation mismatches ... OK
* checking Rd \usage sections ... OK
* checking Rd contents ... OK
* checking for unstated dependencies in examples ... OK
* checking contents of 'data' directory ... OK
* checking data for non-ASCII characters ... OK
* checking data for ASCII and uncompressed saves ... OK
* checking files in 'vignettes' ... OK
* checking examples ... OK
Examples with CPU (user + system) or elapsed time > 5s
user system elapsed
Runs-class 0.14 0.01 5.36
* checking for unstated dependencies in vignettes ... OK
* checking package vignettes in 'inst/doc' ... OK
* checking running R code from vignettes ... SKIPPED
* checking re-building of vignette outputs ... SKIPPED
* checking PDF version of manual ... OK
* DONE
Status: 2 NOTEs
See
'D:/biocbuild/bbs-3.15-bioc/meat/BaseSpaceR.Rcheck/00check.log'
for details.
BaseSpaceR.Rcheck/00install.out
##############################################################################
##############################################################################
###
### Running command:
###
### D:\biocbuild\bbs-3.15-bioc\R\bin\R.exe CMD INSTALL BaseSpaceR
###
##############################################################################
##############################################################################
* installing to library 'D:/biocbuild/bbs-3.15-bioc/R/library'
* installing *source* package 'BaseSpaceR' ...
** using staged installation
** R
** data
** inst
** byte-compile and prepare package for lazy loading
** help
*** installing help indices
converting help for package 'BaseSpaceR'
finding HTML links ... done
AppAuth-class html
AppResults-class html
AppSessionAuth html
AppSessions-class html
BaseSpaceR-package html
Coverage html
Error html
Files-class html
FilesExtra html
Genomes-class html
Projects-class html
Response-class html
Runs-class html
Samples-class html
ServiceURI-class html
Users-class html
Variants html
data-aAuth html
private_methods html
** building package indices
** installing vignettes
** testing if installed package can be loaded from temporary location
** testing if installed package can be loaded from final location
** testing if installed package keeps a record of temporary installation path
* DONE (BaseSpaceR)
Making 'packages.html' ...Warning in packageDescription(i, lib.loc = lib, fields = "Title", encoding = "UTF-8") :
DESCRIPTION file of package 'GSALightning' is missing or broken
done
BaseSpaceR.Rcheck/BaseSpaceR-Ex.timings
| name | user | system | elapsed | |
| AppAuth-class | 0.44 | 0.17 | 1.23 | |
| AppResults-class | 0 | 0 | 0 | |
| AppSessionAuth | 0 | 0 | 0 | |
| AppSessions-class | 0 | 0 | 0 | |
| Coverage | 0 | 0 | 0 | |
| Error | 0 | 0 | 0 | |
| Files-class | 0.05 | 0.02 | 1.62 | |
| FilesExtra | 0.03 | 0.00 | 1.03 | |
| Genomes-class | 0.13 | 0.00 | 1.33 | |
| Projects-class | 0.12 | 0.00 | 2.50 | |
| Response-class | 0.02 | 0.00 | 0.02 | |
| Runs-class | 0.14 | 0.01 | 5.36 | |
| Samples-class | 0.08 | 0.02 | 3.70 | |
| ServiceURI-class | 0 | 0 | 0 | |
| Users-class | 0.01 | 0.00 | 0.67 | |
| Variants | 0.02 | 0.00 | 1.58 | |
| data-aAuth | 0.03 | 0.00 | 0.23 | |