| Back to Multiple platform build/check report for BioC 3.15 |
|
This page was generated on 2022-03-18 11:07:05 -0400 (Fri, 18 Mar 2022).
| Hostname | OS | Arch (*) | R version | Installed pkgs |
|---|---|---|---|---|
| nebbiolo1 | Linux (Ubuntu 20.04.4 LTS) | x86_64 | R Under development (unstable) (2022-02-17 r81757) -- "Unsuffered Consequences" | 4334 |
| riesling1 | Windows Server 2019 Standard | x64 | R Under development (unstable) (2021-11-21 r81221) -- "Unsuffered Consequences" | 4097 |
| palomino3 | Windows Server 2022 Datacenter | x64 | R Under development (unstable) (2022-02-17 r81757 ucrt) -- "Unsuffered Consequences" | 4083 |
| merida1 | macOS 10.14.6 Mojave | x86_64 | R Under development (unstable) (2022-03-02 r81842) -- "Unsuffered Consequences" | 4134 |
| Click on any hostname to see more info about the system (e.g. compilers) (*) as reported by 'uname -p', except on Windows and Mac OS X | ||||
|
To the developers/maintainers of the BUSseq package: - Please allow up to 24 hours (and sometimes 48 hours) for your latest push to git@git.bioconductor.org:packages/BUSseq.git to reflect on this report. See How and When does the builder pull? When will my changes propagate? here for more information. - Make sure to use the following settings in order to reproduce any error or warning you see on this page. |
| Package 230/2090 | Hostname | OS / Arch | INSTALL | BUILD | CHECK | BUILD BIN | ||||||||
| BUSseq 1.1.0 (landing page) Fangda Song
| nebbiolo1 | Linux (Ubuntu 20.04.4 LTS) / x86_64 | OK | OK | OK | |||||||||
| riesling1 | Windows Server 2019 Standard / x64 | OK | OK | OK | OK | |||||||||
| palomino3 | Windows Server 2022 Datacenter / x64 | OK | OK | OK | OK | |||||||||
| merida1 | macOS 10.14.6 Mojave / x86_64 | OK | OK | OK | OK | |||||||||
| Package: BUSseq |
| Version: 1.1.0 |
| Command: rm -rf BUSseq.buildbin-libdir && mkdir BUSseq.buildbin-libdir && D:\biocbuild\bbs-3.15-bioc\R\bin\R.exe CMD INSTALL --build --library=BUSseq.buildbin-libdir BUSseq_1.1.0.tar.gz |
| StartedAt: 2022-03-17 20:57:17 -0400 (Thu, 17 Mar 2022) |
| EndedAt: 2022-03-17 20:59:01 -0400 (Thu, 17 Mar 2022) |
| EllapsedTime: 104.6 seconds |
| RetCode: 0 |
| Status: OK |
| PackageFile: BUSseq_1.1.0.zip |
| PackageFileSize: 1.219 MiB |
##############################################################################
##############################################################################
###
### Running command:
###
### rm -rf BUSseq.buildbin-libdir && mkdir BUSseq.buildbin-libdir && D:\biocbuild\bbs-3.15-bioc\R\bin\R.exe CMD INSTALL --build --library=BUSseq.buildbin-libdir BUSseq_1.1.0.tar.gz
###
##############################################################################
##############################################################################
* installing *source* package 'BUSseq' ...
** using staged installation
** libs
D:/biocbuild/bbs-3.15-bioc/R/share/make/winshlib.mk:16: warning: overriding recipe for target 'BUSseq.dll'
Makevars.win:9: warning: ignoring old recipe for target 'BUSseq.dll'
"C:/rtools40/mingw64/bin/"g++ -std=gnu++11 -I"D:/biocbuild/bbs-3.15-bioc/R/include" -DNDEBUG -I"C:/extsoft/include" -fopenmp -O2 -Wall -mfpmath=sse -msse2 -mstackrealign -fno-reorder-blocks-and-partition -c BUSseq.cpp -o BUSseq.o
BUSseq.cpp: In function 'double postprob_DE_thr_fun(double*, double, int, int)':
BUSseq.cpp:964:69: warning: comparison of integer expressions of different signedness: 'int' and 'unsigned int' [-Wsign-compare]
while((fdr <= _fdr_threshold) & (kappa <= postprob_DE_thr) & (i < (unsigned)vec_PPI.size())){
~~^~~~~~~~~~~~~~~~~~~~~~~~~~
BUSseq.cpp: In function 'void BUSseq_inference(int*, int*, int*, int*, char**, double*, double*, double*, double*, double*, double*, double*, double*, double*, double*, double*, double*, double*, double*, double*, double*, double*, double*, double*, int*, double*, int*, double*)':
BUSseq.cpp:2674:7: warning: variable 'All_Drop' set but not used [-Wunused-but-set-variable]
bool All_Drop = true;
^~~~~~~~
"C:/rtools40/mingw64/bin/"g++ -std=gnu++11 -I"D:/biocbuild/bbs-3.15-bioc/R/include" -DNDEBUG -I"C:/extsoft/include" -fopenmp -O2 -Wall -mfpmath=sse -msse2 -mstackrealign -fno-reorder-blocks-and-partition -c rngstream.cpp -o rngstream.o
C:/rtools40/mingw64/bin/g++ -shared -s -static-libgcc -o BUSseq.dll tmp.def BUSseq.o rngstream.o -fopenmp -LD:/biocbuild/bbs-3.15-bioc/R/bin/x64 -lRlapack -LD:/biocbuild/bbs-3.15-bioc/R/bin/x64 -lRblas -lgfortran -lm -lquadmath -LC:/extsoft/lib/x64 -LC:/extsoft/lib -LD:/biocbuild/bbs-3.15-bioc/R/bin/x64 -lR
installing to D:/biocbuild/bbs-3.15-bioc/meat/BUSseq.buildbin-libdir/00LOCK-BUSseq/00new/BUSseq/libs/x64
** R
** data
*** moving datasets to lazyload DB
** inst
** byte-compile and prepare package for lazy loading
** help
*** installing help indices
converting help for package 'BUSseq'
finding HTML links ... done
BIC_BUSseq html
BUSseq-package html
BUSseq_MCMC html
BUSseqfits_example html
baseline_expression_values html
cell_effect_values html
celltype_effects html
celltype_mean_expression html
celltypes html
corrected_read_counts html
dropout_coefficient_values html
heatmap_data_BUSseq html
imputed_read_counts html
intrinsic_genes_BUSseq html
location_batch_effects html
overdispersions html
raw_read_counts html
** building package indices
** installing vignettes
** testing if installed package can be loaded from temporary location
** testing if installed package can be loaded from final location
** testing if installed package keeps a record of temporary installation path
* MD5 sums
packaged installation of 'BUSseq' as BUSseq_1.1.0.zip
* DONE (BUSseq)