| Back to Multiple platform build/check report for BioC 3.15 |
|
This page was generated on 2022-03-18 11:07:04 -0400 (Fri, 18 Mar 2022).
| Hostname | OS | Arch (*) | R version | Installed pkgs |
|---|---|---|---|---|
| nebbiolo1 | Linux (Ubuntu 20.04.4 LTS) | x86_64 | R Under development (unstable) (2022-02-17 r81757) -- "Unsuffered Consequences" | 4334 |
| riesling1 | Windows Server 2019 Standard | x64 | R Under development (unstable) (2021-11-21 r81221) -- "Unsuffered Consequences" | 4097 |
| palomino3 | Windows Server 2022 Datacenter | x64 | R Under development (unstable) (2022-02-17 r81757 ucrt) -- "Unsuffered Consequences" | 4083 |
| merida1 | macOS 10.14.6 Mojave | x86_64 | R Under development (unstable) (2022-03-02 r81842) -- "Unsuffered Consequences" | 4134 |
| Click on any hostname to see more info about the system (e.g. compilers) (*) as reported by 'uname -p', except on Windows and Mac OS X | ||||
|
To the developers/maintainers of the BPRMeth package: - Please allow up to 24 hours (and sometimes 48 hours) for your latest push to git@git.bioconductor.org:packages/BPRMeth.git to reflect on this report. See How and When does the builder pull? When will my changes propagate? here for more information. - Make sure to use the following settings in order to reproduce any error or warning you see on this page. |
| Package 207/2090 | Hostname | OS / Arch | INSTALL | BUILD | CHECK | BUILD BIN | ||||||||
| BPRMeth 1.21.1 (landing page) Chantriolnt-Andreas Kapourani
| nebbiolo1 | Linux (Ubuntu 20.04.4 LTS) / x86_64 | OK | OK | OK | |||||||||
| riesling1 | Windows Server 2019 Standard / x64 | OK | OK | OK | OK | |||||||||
| palomino3 | Windows Server 2022 Datacenter / x64 | OK | OK | OK | OK | |||||||||
| merida1 | macOS 10.14.6 Mojave / x86_64 | OK | OK | OK | OK | |||||||||
| Package: BPRMeth |
| Version: 1.21.1 |
| Command: rm -rf BPRMeth.buildbin-libdir && mkdir BPRMeth.buildbin-libdir && D:\biocbuild\bbs-3.15-bioc\R\bin\R.exe CMD INSTALL --build --library=BPRMeth.buildbin-libdir BPRMeth_1.21.1.tar.gz |
| StartedAt: 2022-03-17 20:56:30 -0400 (Thu, 17 Mar 2022) |
| EndedAt: 2022-03-17 20:58:20 -0400 (Thu, 17 Mar 2022) |
| EllapsedTime: 109.4 seconds |
| RetCode: 0 |
| Status: OK |
| PackageFile: BPRMeth_1.21.1.zip |
| PackageFileSize: 3.364 MiB |
##############################################################################
##############################################################################
###
### Running command:
###
### rm -rf BPRMeth.buildbin-libdir && mkdir BPRMeth.buildbin-libdir && D:\biocbuild\bbs-3.15-bioc\R\bin\R.exe CMD INSTALL --build --library=BPRMeth.buildbin-libdir BPRMeth_1.21.1.tar.gz
###
##############################################################################
##############################################################################
* installing *source* package 'BPRMeth' ...
** using staged installation
** libs
"C:/rtools40/mingw64/bin/"g++ -std=gnu++11 -I"D:/biocbuild/bbs-3.15-bioc/R/include" -DNDEBUG -I'D:/biocbuild/bbs-3.15-bioc/R/library/Rcpp/include' -I'D:/biocbuild/bbs-3.15-bioc/R/library/RcppArmadillo/include' -I"C:/extsoft/include" -fopenmp -O2 -Wall -mfpmath=sse -msse2 -mstackrealign -fno-reorder-blocks-and-partition -c RcppExports.cpp -o RcppExports.o
"C:/rtools40/mingw64/bin/"g++ -std=gnu++11 -I"D:/biocbuild/bbs-3.15-bioc/R/include" -DNDEBUG -I'D:/biocbuild/bbs-3.15-bioc/R/library/Rcpp/include' -I'D:/biocbuild/bbs-3.15-bioc/R/library/RcppArmadillo/include' -I"C:/extsoft/include" -fopenmp -O2 -Wall -mfpmath=sse -msse2 -mstackrealign -fno-reorder-blocks-and-partition -c model_likelihood.cpp -o model_likelihood.o
C:/rtools40/mingw64/bin/g++ -shared -s -static-libgcc -o BPRMeth.dll tmp.def RcppExports.o model_likelihood.o -fopenmp -LD:/biocbuild/bbs-3.15-bioc/R/bin/x64 -lRlapack -LD:/biocbuild/bbs-3.15-bioc/R/bin/x64 -lRblas -lgfortran -lm -lquadmath -LC:/extsoft/lib/x64 -LC:/extsoft/lib -LD:/biocbuild/bbs-3.15-bioc/R/bin/x64 -lR
installing to D:/biocbuild/bbs-3.15-bioc/meat/BPRMeth.buildbin-libdir/00LOCK-BPRMeth/00new/BPRMeth/libs/x64
** R
** data
*** moving datasets to lazyload DB
** inst
** byte-compile and prepare package for lazy loading
** help
*** installing help indices
converting help for package 'BPRMeth'
finding HTML links ... done
BPRMeth html
bernoulli_data html
beta_data html
binomial_data html
boxplot_cluster_expr html
bpr_cluster_wrap html
bpr_optimize html
bpr_predict_wrap html
cluster_profiles_mle html
cluster_profiles_vb html
create_anno_region html
create_basis html
create_region_object html
design_matrix html
encode_expr html
encode_met html
eval_functions html
gaussian_data html
gex_data html
impute_bulk_met html
infer_profiles_gibbs html
infer_profiles_mle html
infer_profiles_vb html
inner_predict_model_expr html
inner_train_model_expr html
meth_data html
model_log_likelihood html
old_boxplot_cluster_gex html
old_plot_cluster_prof html
old_plot_fitted_profiles html
partition_bulk_dataset html
plot_cluster_profiles html
plot_infer_profiles html
finding level-2 HTML links ... done
plot_predicted_expr html
pool_bs_seq_rep html
predict_expr html
preprocess_bs_seq html
preprocess_final_HTS_data html
process_haib_caltech_wrap html
read_anno html
read_bs_encode_haib html
read_chrom_size html
read_expr html
read_met html
read_rna_encode_caltech html
** building package indices
** installing vignettes
** testing if installed package can be loaded from temporary location
** testing if installed package can be loaded from final location
** testing if installed package keeps a record of temporary installation path
* MD5 sums
packaged installation of 'BPRMeth' as BPRMeth_1.21.1.zip
* DONE (BPRMeth)