| Back to Multiple platform build/check report for BioC 3.15 |
|
This page was generated on 2022-03-18 11:07:00 -0400 (Fri, 18 Mar 2022).
| Hostname | OS | Arch (*) | R version | Installed pkgs |
|---|---|---|---|---|
| nebbiolo1 | Linux (Ubuntu 20.04.4 LTS) | x86_64 | R Under development (unstable) (2022-02-17 r81757) -- "Unsuffered Consequences" | 4334 |
| riesling1 | Windows Server 2019 Standard | x64 | R Under development (unstable) (2021-11-21 r81221) -- "Unsuffered Consequences" | 4097 |
| palomino3 | Windows Server 2022 Datacenter | x64 | R Under development (unstable) (2022-02-17 r81757 ucrt) -- "Unsuffered Consequences" | 4083 |
| merida1 | macOS 10.14.6 Mojave | x86_64 | R Under development (unstable) (2022-03-02 r81842) -- "Unsuffered Consequences" | 4134 |
| Click on any hostname to see more info about the system (e.g. compilers) (*) as reported by 'uname -p', except on Windows and Mac OS X | ||||
|
To the developers/maintainers of the BHC package: - Please allow up to 24 hours (and sometimes 48 hours) for your latest push to git@git.bioconductor.org:packages/BHC.git to reflect on this report. See How and When does the builder pull? When will my changes propagate? here for more information. - Make sure to use the following settings in order to reproduce any error or warning you see on this page. |
| Package 142/2090 | Hostname | OS / Arch | INSTALL | BUILD | CHECK | BUILD BIN | ||||||||
| BHC 1.47.0 (landing page) Rich Savage
| nebbiolo1 | Linux (Ubuntu 20.04.4 LTS) / x86_64 | OK | OK | OK | |||||||||
| riesling1 | Windows Server 2019 Standard / x64 | OK | OK | OK | OK | |||||||||
| palomino3 | Windows Server 2022 Datacenter / x64 | OK | OK | OK | OK | |||||||||
| merida1 | macOS 10.14.6 Mojave / x86_64 | OK | OK | WARNINGS | OK | |||||||||
| Package: BHC |
| Version: 1.47.0 |
| Command: rm -rf BHC.buildbin-libdir && mkdir BHC.buildbin-libdir && D:\biocbuild\bbs-3.15-bioc\R\bin\R.exe CMD INSTALL --build --library=BHC.buildbin-libdir BHC_1.47.0.tar.gz |
| StartedAt: 2022-03-17 20:54:49 -0400 (Thu, 17 Mar 2022) |
| EndedAt: 2022-03-17 20:56:12 -0400 (Thu, 17 Mar 2022) |
| EllapsedTime: 83.0 seconds |
| RetCode: 0 |
| Status: OK |
| PackageFile: BHC_1.47.0.zip |
| PackageFileSize: 516.5 KiB |
##############################################################################
##############################################################################
###
### Running command:
###
### rm -rf BHC.buildbin-libdir && mkdir BHC.buildbin-libdir && D:\biocbuild\bbs-3.15-bioc\R\bin\R.exe CMD INSTALL --build --library=BHC.buildbin-libdir BHC_1.47.0.tar.gz
###
##############################################################################
##############################################################################
* installing *source* package 'BHC' ...
** using staged installation
**********************************************
WARNING: this package has a configure script
It probably needs manual configuration
**********************************************
** libs
"C:/rtools40/mingw64/bin/"g++ -std=gnu++11 -I"D:/biocbuild/bbs-3.15-bioc/R/include" -DNDEBUG -I"C:/extsoft/include" -O2 -Wall -mfpmath=sse -msse2 -mstackrealign -fno-reorder-blocks-and-partition -c BlockCovarianceMatrix.cpp -o BlockCovarianceMatrix.o
In file included from BlockCovarianceMatrix.h:16,
from BlockCovarianceMatrix.cpp:15:
header.h:16: warning: "NDEBUG" redefined
#define NDEBUG
<command-line>: note: this is the location of the previous definition
"C:/rtools40/mingw64/bin/"g++ -std=gnu++11 -I"D:/biocbuild/bbs-3.15-bioc/R/include" -DNDEBUG -I"C:/extsoft/include" -O2 -Wall -mfpmath=sse -msse2 -mstackrealign -fno-reorder-blocks-and-partition -c CubicSplineTimecourseDataSet.cpp -o CubicSplineTimecourseDataSet.o
In file included from DataSet.h:16,
from TimecourseDataSet.h:20,
from CubicSplineTimecourseDataSet.h:20,
from CubicSplineTimecourseDataSet.cpp:15:
header.h:16: warning: "NDEBUG" redefined
#define NDEBUG
<command-line>: note: this is the location of the previous definition
"C:/rtools40/mingw64/bin/"g++ -std=gnu++11 -I"D:/biocbuild/bbs-3.15-bioc/R/include" -DNDEBUG -I"C:/extsoft/include" -O2 -Wall -mfpmath=sse -msse2 -mstackrealign -fno-reorder-blocks-and-partition -c DataSet.cpp -o DataSet.o
In file included from DataSet.h:16,
from DataSet.cpp:13:
header.h:16: warning: "NDEBUG" redefined
#define NDEBUG
<command-line>: note: this is the location of the previous definition
"C:/rtools40/mingw64/bin/"g++ -std=gnu++11 -I"D:/biocbuild/bbs-3.15-bioc/R/include" -DNDEBUG -I"C:/extsoft/include" -O2 -Wall -mfpmath=sse -msse2 -mstackrealign -fno-reorder-blocks-and-partition -c DirichletProcessMixture.cpp -o DirichletProcessMixture.o
In file included from DirichletProcessMixture.h:4,
from DirichletProcessMixture.cpp:15:
header.h:16: warning: "NDEBUG" redefined
#define NDEBUG
<command-line>: note: this is the location of the previous definition
DirichletProcessMixture.cpp:187: warning: ignoring #pragma omp parallel [-Wunknown-pragmas]
#pragma omp parallel for default(shared) private(i) schedule(dynamic,1)
DirichletProcessMixture.cpp:272: warning: ignoring #pragma omp parallel [-Wunknown-pragmas]
#pragma omp parallel for default(shared) private(i) schedule(dynamic,1)
DirichletProcessMixture.cpp:299: warning: ignoring #pragma omp parallel [-Wunknown-pragmas]
#pragma omp parallel for default(shared) private(i,j) schedule(dynamic,1)
DirichletProcessMixture.cpp:375: warning: ignoring #pragma omp parallel [-Wunknown-pragmas]
#pragma omp parallel for default(shared) private(j) schedule(dynamic,1)
"C:/rtools40/mingw64/bin/"g++ -std=gnu++11 -I"D:/biocbuild/bbs-3.15-bioc/R/include" -DNDEBUG -I"C:/extsoft/include" -O2 -Wall -mfpmath=sse -msse2 -mstackrealign -fno-reorder-blocks-and-partition -c MultinomialDataSet.cpp -o MultinomialDataSet.o
In file included from DataSet.h:16,
from MultinomialDataSet.h:4,
from MultinomialDataSet.cpp:1:
header.h:16: warning: "NDEBUG" redefined
#define NDEBUG
<command-line>: note: this is the location of the previous definition
"C:/rtools40/mingw64/bin/"g++ -std=gnu++11 -I"D:/biocbuild/bbs-3.15-bioc/R/include" -DNDEBUG -I"C:/extsoft/include" -O2 -Wall -mfpmath=sse -msse2 -mstackrealign -fno-reorder-blocks-and-partition -c Node.cpp -o Node.o
In file included from Node.h:16,
from Node.cpp:13:
header.h:16: warning: "NDEBUG" redefined
#define NDEBUG
<command-line>: note: this is the location of the previous definition
"C:/rtools40/mingw64/bin/"g++ -std=gnu++11 -I"D:/biocbuild/bbs-3.15-bioc/R/include" -DNDEBUG -I"C:/extsoft/include" -O2 -Wall -mfpmath=sse -msse2 -mstackrealign -fno-reorder-blocks-and-partition -c RobustCubicSplineTimecourseDataSet.cpp -o RobustCubicSplineTimecourseDataSet.o
In file included from DataSet.h:16,
from TimecourseDataSet.h:20,
from CubicSplineTimecourseDataSet.h:20,
from RobustCubicSplineTimecourseDataSet.h:20,
from RobustCubicSplineTimecourseDataSet.cpp:15:
header.h:16: warning: "NDEBUG" redefined
#define NDEBUG
<command-line>: note: this is the location of the previous definition
"C:/rtools40/mingw64/bin/"g++ -std=gnu++11 -I"D:/biocbuild/bbs-3.15-bioc/R/include" -DNDEBUG -I"C:/extsoft/include" -O2 -Wall -mfpmath=sse -msse2 -mstackrealign -fno-reorder-blocks-and-partition -c RobustSquaredExponentialTimecourseDataSet.cpp -o RobustSquaredExponentialTimecourseDataSet.o
In file included from SquaredExponentialTimecourseDataSet.h:20,
from RobustSquaredExponentialTimecourseDataSet.h:20,
from RobustSquaredExponentialTimecourseDataSet.cpp:15:
header.h:16: warning: "NDEBUG" redefined
#define NDEBUG
<command-line>: note: this is the location of the previous definition
"C:/rtools40/mingw64/bin/"g++ -std=gnu++11 -I"D:/biocbuild/bbs-3.15-bioc/R/include" -DNDEBUG -I"C:/extsoft/include" -O2 -Wall -mfpmath=sse -msse2 -mstackrealign -fno-reorder-blocks-and-partition -c SquaredExponentialTimecourseDataSet.cpp -o SquaredExponentialTimecourseDataSet.o
In file included from SquaredExponentialTimecourseDataSet.h:20,
from SquaredExponentialTimecourseDataSet.cpp:15:
header.h:16: warning: "NDEBUG" redefined
#define NDEBUG
<command-line>: note: this is the location of the previous definition
SquaredExponentialTimecourseDataSet.cpp: In member function 'void SquaredExponentialTimecourseDataSet::OptimiseHyperparametersEstimatedNoise(std::vector<double>, double&, double&, double&, double)':
SquaredExponentialTimecourseDataSet.cpp:339:30: warning: variable 'gridLogEvidence' set but not used [-Wunused-but-set-variable]
double currentLogEvidence, gridLogEvidence,
^~~~~~~~~~~~~~~
"C:/rtools40/mingw64/bin/"g++ -std=gnu++11 -I"D:/biocbuild/bbs-3.15-bioc/R/include" -DNDEBUG -I"C:/extsoft/include" -O2 -Wall -mfpmath=sse -msse2 -mstackrealign -fno-reorder-blocks-and-partition -c TimecourseDataSet.cpp -o TimecourseDataSet.o
In file included from DataSet.h:16,
from TimecourseDataSet.h:20,
from TimecourseDataSet.cpp:13:
header.h:16: warning: "NDEBUG" redefined
#define NDEBUG
<command-line>: note: this is the location of the previous definition
"C:/rtools40/mingw64/bin/"g++ -std=gnu++11 -I"D:/biocbuild/bbs-3.15-bioc/R/include" -DNDEBUG -I"C:/extsoft/include" -O2 -Wall -mfpmath=sse -msse2 -mstackrealign -fno-reorder-blocks-and-partition -c bhc.cpp -o bhc.o
In file included from bhc.cpp:17:
header.h:16: warning: "NDEBUG" redefined
#define NDEBUG
<command-line>: note: this is the location of the previous definition
"C:/rtools40/mingw64/bin/"g++ -std=gnu++11 -I"D:/biocbuild/bbs-3.15-bioc/R/include" -DNDEBUG -I"C:/extsoft/include" -O2 -Wall -mfpmath=sse -msse2 -mstackrealign -fno-reorder-blocks-and-partition -c gammaln.cpp -o gammaln.o
"C:/rtools40/mingw64/bin/"g++ -std=gnu++11 -I"D:/biocbuild/bbs-3.15-bioc/R/include" -DNDEBUG -I"C:/extsoft/include" -O2 -Wall -mfpmath=sse -msse2 -mstackrealign -fno-reorder-blocks-and-partition -c header.cpp -o header.o
In file included from header.cpp:1:
header.h:16: warning: "NDEBUG" redefined
#define NDEBUG
<command-line>: note: this is the location of the previous definition
"C:/rtools40/mingw64/bin/"g++ -std=gnu++11 -I"D:/biocbuild/bbs-3.15-bioc/R/include" -DNDEBUG -I"C:/extsoft/include" -O2 -Wall -mfpmath=sse -msse2 -mstackrealign -fno-reorder-blocks-and-partition -c multinomial_CalculateHyperparameters.cpp -o multinomial_CalculateHyperparameters.o
"C:/rtools40/mingw64/bin/"g++ -std=gnu++11 -I"D:/biocbuild/bbs-3.15-bioc/R/include" -DNDEBUG -I"C:/extsoft/include" -O2 -Wall -mfpmath=sse -msse2 -mstackrealign -fno-reorder-blocks-and-partition -c multinomial_OutputDendrogramInformation.cpp -o multinomial_OutputDendrogramInformation.o
"C:/rtools40/mingw64/bin/"g++ -std=gnu++11 -I"D:/biocbuild/bbs-3.15-bioc/R/include" -DNDEBUG -I"C:/extsoft/include" -O2 -Wall -mfpmath=sse -msse2 -mstackrealign -fno-reorder-blocks-and-partition -c multinomial_ReadInData.cpp -o multinomial_ReadInData.o
"C:/rtools40/mingw64/bin/"g++ -std=gnu++11 -I"D:/biocbuild/bbs-3.15-bioc/R/include" -DNDEBUG -I"C:/extsoft/include" -O2 -Wall -mfpmath=sse -msse2 -mstackrealign -fno-reorder-blocks-and-partition -c multinomial_bayeslink_binf.cpp -o multinomial_bayeslink_binf.o
"C:/rtools40/mingw64/bin/"g++ -std=gnu++11 -I"D:/biocbuild/bbs-3.15-bioc/R/include" -DNDEBUG -I"C:/extsoft/include" -O2 -Wall -mfpmath=sse -msse2 -mstackrealign -fno-reorder-blocks-and-partition -c multinomial_binevidence.cpp -o multinomial_binevidence.o
C:/rtools40/mingw64/bin/g++ -std=gnu++11 -shared -s -static-libgcc -o BHC.dll tmp.def BlockCovarianceMatrix.o CubicSplineTimecourseDataSet.o DataSet.o DirichletProcessMixture.o MultinomialDataSet.o Node.o RobustCubicSplineTimecourseDataSet.o RobustSquaredExponentialTimecourseDataSet.o SquaredExponentialTimecourseDataSet.o TimecourseDataSet.o bhc.o gammaln.o header.o multinomial_CalculateHyperparameters.o multinomial_OutputDendrogramInformation.o multinomial_ReadInData.o multinomial_bayeslink_binf.o multinomial_binevidence.o -LC:/extsoft/lib/x64 -LC:/extsoft/lib -LD:/biocbuild/bbs-3.15-bioc/R/bin/x64 -lR
installing to D:/biocbuild/bbs-3.15-bioc/meat/BHC.buildbin-libdir/00LOCK-BHC/00new/BHC/libs/x64
** R
** inst
** byte-compile and prepare package for lazy loading
** help
*** installing help indices
converting help for package 'BHC'
finding HTML links ... done
BHC html
** building package indices
** installing vignettes
** testing if installed package can be loaded from temporary location
** testing if installed package can be loaded from final location
** testing if installed package keeps a record of temporary installation path
* MD5 sums
packaged installation of 'BHC' as BHC_1.47.0.zip
* DONE (BHC)