| Back to Multiple platform build/check report for BioC 3.15 |
|
This page was generated on 2022-03-18 11:06:59 -0400 (Fri, 18 Mar 2022).
| Hostname | OS | Arch (*) | R version | Installed pkgs |
|---|---|---|---|---|
| nebbiolo1 | Linux (Ubuntu 20.04.4 LTS) | x86_64 | R Under development (unstable) (2022-02-17 r81757) -- "Unsuffered Consequences" | 4334 |
| riesling1 | Windows Server 2019 Standard | x64 | R Under development (unstable) (2021-11-21 r81221) -- "Unsuffered Consequences" | 4097 |
| palomino3 | Windows Server 2022 Datacenter | x64 | R Under development (unstable) (2022-02-17 r81757 ucrt) -- "Unsuffered Consequences" | 4083 |
| merida1 | macOS 10.14.6 Mojave | x86_64 | R Under development (unstable) (2022-03-02 r81842) -- "Unsuffered Consequences" | 4134 |
| Click on any hostname to see more info about the system (e.g. compilers) (*) as reported by 'uname -p', except on Windows and Mac OS X | ||||
|
To the developers/maintainers of the BASiCS package: - Please allow up to 24 hours (and sometimes 48 hours) for your latest push to git@git.bioconductor.org:packages/BASiCS.git to reflect on this report. See How and When does the builder pull? When will my changes propagate? here for more information. - Make sure to use the following settings in order to reproduce any error or warning you see on this page. |
| Package 115/2090 | Hostname | OS / Arch | INSTALL | BUILD | CHECK | BUILD BIN | ||||||||
| BASiCS 2.7.5 (landing page) Alan O'Callaghan
| nebbiolo1 | Linux (Ubuntu 20.04.4 LTS) / x86_64 | OK | OK | OK | |||||||||
| riesling1 | Windows Server 2019 Standard / x64 | OK | OK | OK | OK | |||||||||
| palomino3 | Windows Server 2022 Datacenter / x64 | OK | OK | OK | OK | |||||||||
| merida1 | macOS 10.14.6 Mojave / x86_64 | OK | OK | OK | OK | |||||||||
| Package: BASiCS |
| Version: 2.7.5 |
| Command: rm -rf BASiCS.buildbin-libdir && mkdir BASiCS.buildbin-libdir && D:\biocbuild\bbs-3.15-bioc\R\bin\R.exe CMD INSTALL --build --library=BASiCS.buildbin-libdir BASiCS_2.7.5.tar.gz |
| StartedAt: 2022-03-17 20:53:58 -0400 (Thu, 17 Mar 2022) |
| EndedAt: 2022-03-17 20:55:25 -0400 (Thu, 17 Mar 2022) |
| EllapsedTime: 87.7 seconds |
| RetCode: 0 |
| Status: OK |
| PackageFile: BASiCS_2.7.5.zip |
| PackageFileSize: 3.925 MiB |
##############################################################################
##############################################################################
###
### Running command:
###
### rm -rf BASiCS.buildbin-libdir && mkdir BASiCS.buildbin-libdir && D:\biocbuild\bbs-3.15-bioc\R\bin\R.exe CMD INSTALL --build --library=BASiCS.buildbin-libdir BASiCS_2.7.5.tar.gz
###
##############################################################################
##############################################################################
* installing *source* package 'BASiCS' ...
** using staged installation
** libs
"C:/rtools40/mingw64/bin/"g++ -std=gnu++11 -I"D:/biocbuild/bbs-3.15-bioc/R/include" -DNDEBUG -I'D:/biocbuild/bbs-3.15-bioc/R/library/Rcpp/include' -I'D:/biocbuild/bbs-3.15-bioc/R/library/RcppArmadillo/include' -I"C:/extsoft/include" -fopenmp -O2 -Wall -mfpmath=sse -msse2 -mstackrealign -fno-reorder-blocks-and-partition -c BASiCS.cpp -o BASiCS.o
"C:/rtools40/mingw64/bin/"g++ -std=gnu++11 -I"D:/biocbuild/bbs-3.15-bioc/R/include" -DNDEBUG -I'D:/biocbuild/bbs-3.15-bioc/R/library/Rcpp/include' -I'D:/biocbuild/bbs-3.15-bioc/R/library/RcppArmadillo/include' -I"C:/extsoft/include" -fopenmp -O2 -Wall -mfpmath=sse -msse2 -mstackrealign -fno-reorder-blocks-and-partition -c RcppExports.cpp -o RcppExports.o
C:/rtools40/mingw64/bin/g++ -shared -s -static-libgcc -o BASiCS.dll tmp.def BASiCS.o RcppExports.o -LD:/biocbuild/bbs-3.15-bioc/R/bin/x64 -lRlapack -LD:/biocbuild/bbs-3.15-bioc/R/bin/x64 -lRblas -lgfortran -lm -lquadmath -fopenmp -LC:/extsoft/lib/x64 -LC:/extsoft/lib -LD:/biocbuild/bbs-3.15-bioc/R/bin/x64 -lR
installing to D:/biocbuild/bbs-3.15-bioc/meat/BASiCS.buildbin-libdir/00LOCK-BASiCS/00new/BASiCS/libs/x64
** R
** data
*** moving datasets to lazyload DB
** inst
** byte-compile and prepare package for lazy loading
** help
*** installing help indices
converting help for package 'BASiCS'
finding HTML links ... done
BASiCS-defunct html
BASiCS_Chain-methods html
BASiCS_Chain html
BASiCS_CorrectOffset html
BASiCS_DenoisedCounts html
finding level-2 HTML links ... done
BASiCS_DenoisedRates html
BASiCS_DetectVG html
BASiCS_DiagHist html
REDIRECT:topic Previous alias or file overwritten by alias: D:/biocbuild/bbs-3.15-bioc/meat/BASiCS.buildbin-libdir/00LOCK-BASiCS/00new/BASiCS/help/BASiCS_diagHist.html
BASiCS_DiagPlot html
REDIRECT:topic Previous alias or file overwritten by alias: D:/biocbuild/bbs-3.15-bioc/meat/BASiCS.buildbin-libdir/00LOCK-BASiCS/00new/BASiCS/help/BASiCS_diagPlot.html
BASiCS_DivideAndConquer html
BASiCS_Draw html
BASiCS_EffectiveSize html
REDIRECT:topic Previous alias or file overwritten by alias: D:/biocbuild/bbs-3.15-bioc/meat/BASiCS.buildbin-libdir/00LOCK-BASiCS/00new/BASiCS/help/BASiCS_effectiveSize.html
BASiCS_Filter html
BASiCS_LoadChain html
BASiCS_MCMC html
BASiCS_MockSCE html
BASiCS_PlotDE html
BASiCS_PlotOffset html
BASiCS_PlotVG html
BASiCS_PriorParam html
BASiCS_Result html
BASiCS_ResultDE html
BASiCS_ResultVG html
BASiCS_ResultsDE html
BASiCS_ShowFit html
REDIRECT:topic Previous alias or file overwritten by alias: D:/biocbuild/bbs-3.15-bioc/meat/BASiCS.buildbin-libdir/00LOCK-BASiCS/00new/BASiCS/help/BASiCS_showFit.html
BASiCS_Sim html
BASiCS_Summary-methods html
BASiCS_Summary html
BASiCS_TestDE html
BASiCS_VarThresholdSearchHVG_LVG html
BASiCS_VarianceDecomp html
ChainRNA html
ChainRNAReg html
ChainSC html
ChainSCReg html
Summary-BASiCS_Chain-method html
as.data.frame-methods html
dim-BASiCS_Chain-method html
dimnames-BASiCS_Chain-method html
displayChainBASiCS-BASiCS_Chain-method
html
displaySummaryBASiCS-BASiCS_Summary-method
html
dot-generateSubsets html
format-methods html
makeExampleBASiCS_Data html
newBASiCS_Chain html
newBASiCS_Data html
plot-BASiCS_Chain-method html
plot-BASiCS_Summary-method html
rowData html
show-BASiCS_ResultDE-method html
show-BASiCS_ResultVG-method html
show-BASiCS_ResultsDE-method html
subset-BASiCS_Chain-method html
subset-methods html
** building package indices
** installing vignettes
** testing if installed package can be loaded from temporary location
** testing if installed package can be loaded from final location
** testing if installed package keeps a record of temporary installation path
* MD5 sums
packaged installation of 'BASiCS' as BASiCS_2.7.5.zip
* DONE (BASiCS)