| Back to Multiple platform build/check report for BioC 3.15 | 
 | 
This page was generated on 2022-03-18 11:06:57 -0400 (Fri, 18 Mar 2022).
| Hostname | OS | Arch (*) | R version | Installed pkgs | 
|---|---|---|---|---|
| nebbiolo1 | Linux (Ubuntu 20.04.4 LTS) | x86_64 | R Under development (unstable) (2022-02-17 r81757) -- "Unsuffered Consequences" | 4334 | 
| riesling1 | Windows Server 2019 Standard | x64 | R Under development (unstable) (2021-11-21 r81221) -- "Unsuffered Consequences" | 4097 | 
| palomino3 | Windows Server 2022 Datacenter | x64 | R Under development (unstable) (2022-02-17 r81757 ucrt) -- "Unsuffered Consequences" | 4083 | 
| merida1 | macOS 10.14.6 Mojave | x86_64 | R Under development (unstable) (2022-03-02 r81842) -- "Unsuffered Consequences" | 4134 | 
| Click on any hostname to see more info about the system (e.g. compilers) (*) as reported by 'uname -p', except on Windows and Mac OS X | ||||
| To the developers/maintainers of the ATACseqQC package: - Please allow up to 24 hours (and sometimes 48 hours) for your latest push to git@git.bioconductor.org:packages/ATACseqQC.git to reflect on this report. See How and When does the builder pull? When will my changes propagate? here for more information. - Make sure to use the following settings in order to reproduce any error or warning you see on this page. | 
| Package 91/2090 | Hostname | OS / Arch | INSTALL | BUILD | CHECK | BUILD BIN | ||||||||
| ATACseqQC 1.19.1  (landing page) Jianhong Ou 
 | nebbiolo1 | Linux (Ubuntu 20.04.4 LTS) / x86_64 | OK | OK | OK |  | ||||||||
| riesling1 | Windows Server 2019 Standard / x64 | OK | OK | OK | OK | |||||||||
| palomino3 | Windows Server 2022 Datacenter / x64 | OK | OK | OK | OK |  | ||||||||
| merida1 | macOS 10.14.6 Mojave / x86_64 | OK | OK | OK | OK |  | ||||||||
| Package: ATACseqQC | 
| Version: 1.19.1 | 
| Command: D:\biocbuild\bbs-3.15-bioc\R\bin\R.exe CMD INSTALL ATACseqQC | 
| StartedAt: 2022-03-17 16:13:25 -0400 (Thu, 17 Mar 2022) | 
| EndedAt: 2022-03-17 16:14:53 -0400 (Thu, 17 Mar 2022) | 
| EllapsedTime: 88.5 seconds | 
| RetCode: 0 | 
| Status: OK | 
##############################################################################
##############################################################################
###
### Running command:
###
###   D:\biocbuild\bbs-3.15-bioc\R\bin\R.exe CMD INSTALL ATACseqQC
###
##############################################################################
##############################################################################
* installing to library 'D:/biocbuild/bbs-3.15-bioc/R/library'
* installing *source* package 'ATACseqQC' ...
** using staged installation
** R
** inst
** byte-compile and prepare package for lazy loading
** help
*** installing help indices
  converting help for package 'ATACseqQC'
    finding HTML links ... done
    ATACseqQC-package                       html  
    DB                                      html  
    NFRscore                                html  
    PTscore                                 html  
    TSSEscore                               html  
    bamQC                                   html  
    distanceDyad                            html  
    enrichedFragments                       html  
    estimateLibComplexity                   html  
    factorFootprints                        html  
    footprintsScanner                       html  
    fragSizeDist                            html  
    peakdet                                 html  
    plotCorrelation                         html  
    plotFootprints                          html  
    pwmscores                               html  
    readBamFile                             html  
    finding level-2 HTML links ... done
    readsDupFreq                            html  
    saturationPlot                          html  
    shiftGAlignments                        html  
    shiftGAlignmentsList                    html  
    shiftReads                              html  
    splitBam                                html  
    splitGAlignmentsByCut                   html  
    vPlot                                   html  
    writeListOfGAlignments                  html  
** building package indices
** installing vignettes
** testing if installed package can be loaded from temporary location
** testing if installed package can be loaded from final location
** testing if installed package keeps a record of temporary installation path
* DONE (ATACseqQC)
Making 'packages.html' ...Warning in packageDescription(i, lib.loc = lib, fields = "Title", encoding = "UTF-8") :
  DESCRIPTION file of package 'RnaSeqSampleSize' is missing or broken
 done