| Back to Multiple platform build/check report for BioC 3.15 |
|
This page was generated on 2022-10-19 13:19:58 -0400 (Wed, 19 Oct 2022).
| Hostname | OS | Arch (*) | R version | Installed pkgs |
|---|---|---|---|---|
| nebbiolo1 | Linux (Ubuntu 20.04.5 LTS) | x86_64 | 4.2.1 (2022-06-23) -- "Funny-Looking Kid" | 4386 |
| palomino3 | Windows Server 2022 Datacenter | x64 | 4.2.1 (2022-06-23 ucrt) -- "Funny-Looking Kid" | 4138 |
| merida1 | macOS 10.14.6 Mojave | x86_64 | 4.2.1 (2022-06-23) -- "Funny-Looking Kid" | 4205 |
| Click on any hostname to see more info about the system (e.g. compilers) (*) as reported by 'uname -p', except on Windows and Mac OS X | ||||
|
To the developers/maintainers of the APL package: - Please allow up to 24 hours (and sometimes 48 hours) for your latest push to git@git.bioconductor.org:packages/APL.git to reflect on this report. See How and When does the builder pull? When will my changes propagate? for more information. - Make sure to use the following settings in order to reproduce any error or warning you see on this page. |
| Package 73/2140 | Hostname | OS / Arch | INSTALL | BUILD | CHECK | BUILD BIN | ||||||||
| APL 1.0.1 (landing page) Elzbieta Gralinska
| nebbiolo1 | Linux (Ubuntu 20.04.5 LTS) / x86_64 | OK | OK | OK | |||||||||
| palomino3 | Windows Server 2022 Datacenter / x64 | OK | OK | OK | OK | |||||||||
| merida1 | macOS 10.14.6 Mojave / x86_64 | OK | OK | OK | OK | |||||||||
| Package: APL |
| Version: 1.0.1 |
| Command: /home/biocbuild/bbs-3.15-bioc/R/bin/R CMD check --install=check:APL.install-out.txt --library=/home/biocbuild/bbs-3.15-bioc/R/library --no-vignettes --timings APL_1.0.1.tar.gz |
| StartedAt: 2022-10-18 18:34:21 -0400 (Tue, 18 Oct 2022) |
| EndedAt: 2022-10-18 18:38:51 -0400 (Tue, 18 Oct 2022) |
| EllapsedTime: 270.4 seconds |
| RetCode: 0 |
| Status: OK |
| CheckDir: APL.Rcheck |
| Warnings: 0 |
##############################################################################
##############################################################################
###
### Running command:
###
### /home/biocbuild/bbs-3.15-bioc/R/bin/R CMD check --install=check:APL.install-out.txt --library=/home/biocbuild/bbs-3.15-bioc/R/library --no-vignettes --timings APL_1.0.1.tar.gz
###
##############################################################################
##############################################################################
* using log directory ‘/home/biocbuild/bbs-3.15-bioc/meat/APL.Rcheck’
* using R version 4.2.1 (2022-06-23)
* using platform: x86_64-pc-linux-gnu (64-bit)
* using session charset: UTF-8
* using option ‘--no-vignettes’
* checking for file ‘APL/DESCRIPTION’ ... OK
* checking extension type ... Package
* this is package ‘APL’ version ‘1.0.1’
* package encoding: UTF-8
* checking package namespace information ... OK
* checking package dependencies ... OK
* checking if this is a source package ... OK
* checking if there is a namespace ... OK
* checking for hidden files and directories ... OK
* checking for portable file names ... OK
* checking for sufficient/correct file permissions ... OK
* checking whether package ‘APL’ can be installed ... OK
* checking installed package size ... OK
* checking package directory ... OK
* checking ‘build’ directory ... OK
* checking DESCRIPTION meta-information ... OK
* checking top-level files ... OK
* checking for left-over files ... OK
* checking index information ... OK
* checking package subdirectories ... OK
* checking R files for non-ASCII characters ... OK
* checking R files for syntax errors ... OK
* checking whether the package can be loaded ... OK
* checking whether the package can be loaded with stated dependencies ... OK
* checking whether the package can be unloaded cleanly ... OK
* checking whether the namespace can be loaded with stated dependencies ... OK
* checking whether the namespace can be unloaded cleanly ... OK
* checking dependencies in R code ... OK
* checking S3 generic/method consistency ... OK
* checking replacement functions ... OK
* checking foreign function calls ... OK
* checking R code for possible problems ... OK
* checking Rd files ... OK
* checking Rd metadata ... OK
* checking Rd cross-references ... OK
* checking for missing documentation entries ... OK
* checking for code/documentation mismatches ... OK
* checking Rd \usage sections ... OK
* checking Rd contents ... OK
* checking for unstated dependencies in examples ... OK
* checking files in ‘vignettes’ ... OK
* checking examples ... OK
Examples with CPU (user + system) or elapsed time > 5s
user system elapsed
apl_topGO 6.363 0.159 6.524
plot_enrichment 5.286 0.057 5.342
* checking for unstated dependencies in ‘tests’ ... OK
* checking tests ...
Running ‘testthat.R’
OK
* checking for unstated dependencies in vignettes ... OK
* checking package vignettes in ‘inst/doc’ ... OK
* checking running R code from vignettes ... SKIPPED
* checking re-building of vignette outputs ... SKIPPED
* checking PDF version of manual ... OK
* DONE
Status: OK
APL.Rcheck/00install.out
############################################################################## ############################################################################## ### ### Running command: ### ### /home/biocbuild/bbs-3.15-bioc/R/bin/R CMD INSTALL APL ### ############################################################################## ############################################################################## * installing to library ‘/home/biocbuild/bbs-3.15-bioc/R/library’ * installing *source* package ‘APL’ ... ** using staged installation ** R ** inst ** byte-compile and prepare package for lazy loading ** help *** installing help indices *** copying figures ** building package indices ** installing vignettes ** testing if installed package can be loaded from temporary location ** testing if installed package can be loaded from final location ** testing if installed package keeps a record of temporary installation path * DONE (APL)
APL.Rcheck/tests/testthat.Rout
R version 4.2.1 (2022-06-23) -- "Funny-Looking Kid"
Copyright (C) 2022 The R Foundation for Statistical Computing
Platform: x86_64-pc-linux-gnu (64-bit)
R is free software and comes with ABSOLUTELY NO WARRANTY.
You are welcome to redistribute it under certain conditions.
Type 'license()' or 'licence()' for distribution details.
R is a collaborative project with many contributors.
Type 'contributors()' for more information and
'citation()' on how to cite R or R packages in publications.
Type 'demo()' for some demos, 'help()' for on-line help, or
'help.start()' for an HTML browser interface to help.
Type 'q()' to quit R.
> library(testthat)
> library(APL)
> test_check("APL")
Calling cacomp to recompute from matrix.
[ FAIL 0 | WARN 0 | SKIP 0 | PASS 38 ]
>
> proc.time()
user system elapsed
14.411 1.312 16.284
APL.Rcheck/APL-Ex.timings
| name | user | system | elapsed | |
| apl | 0.175 | 0.000 | 0.175 | |
| apl_coords | 0.006 | 0.000 | 0.006 | |
| apl_score | 1.253 | 0.007 | 1.261 | |
| apl_topGO | 6.363 | 0.159 | 6.524 | |
| as.cacomp | 1.045 | 0.044 | 1.089 | |
| as.list-cacomp-method | 0.015 | 0.001 | 0.015 | |
| ca_3Dplot | 0.177 | 0.011 | 0.189 | |
| ca_biplot | 0.084 | 0.008 | 0.092 | |
| ca_coords | 0.002 | 0.003 | 0.006 | |
| cacomp-class | 0.011 | 0.000 | 0.011 | |
| cacomp | 0.736 | 0.011 | 0.748 | |
| cacomp_names | 0.005 | 0.000 | 0.005 | |
| cacomp_slot | 0.001 | 0.003 | 0.005 | |
| check_cacomp | 0.005 | 0.000 | 0.005 | |
| elbow_method | 0.508 | 0.016 | 0.524 | |
| pick_dims | 1.131 | 0.008 | 1.139 | |
| pipe | 0 | 0 | 0 | |
| plot_enrichment | 5.286 | 0.057 | 5.342 | |
| runAPL | 1.727 | 0.013 | 1.739 | |
| show.cacomp | 0.005 | 0.000 | 0.005 | |
| subset_dims | 0.001 | 0.003 | 0.004 | |
| var_rows | 0.010 | 0.001 | 0.010 | |