| Back to Multiple platform build/check report for BioC 3.15 | 
  | 
This page was generated on 2022-03-18 11:06:52 -0400 (Fri, 18 Mar 2022).
| Hostname | OS | Arch (*) | R version | Installed pkgs | 
|---|---|---|---|---|
| nebbiolo1 | Linux (Ubuntu 20.04.4 LTS) | x86_64 | R Under development (unstable) (2022-02-17 r81757) -- "Unsuffered Consequences" | 4334 | 
| riesling1 | Windows Server 2019 Standard | x64 | R Under development (unstable) (2021-11-21 r81221) -- "Unsuffered Consequences" | 4097 | 
| palomino3 | Windows Server 2022 Datacenter | x64 | R Under development (unstable) (2022-02-17 r81757 ucrt) -- "Unsuffered Consequences" | 4083 | 
| merida1 | macOS 10.14.6 Mojave | x86_64 | R Under development (unstable) (2022-03-02 r81842) -- "Unsuffered Consequences" | 4134 | 
| Click on any hostname to see more info about the system (e.g. compilers) (*) as reported by 'uname -p', except on Windows and Mac OS X | ||||
| 
To the developers/maintainers of the ABarray package: - Please allow up to 24 hours (and sometimes 48 hours) for your latest push to git@git.bioconductor.org:packages/ABarray.git to reflect on this report. See How and When does the builder pull? When will my changes propagate? here for more information. - Make sure to use the following settings in order to reproduce any error or warning you see on this page.  | 
| Package 8/2090 | Hostname | OS / Arch | INSTALL | BUILD | CHECK | BUILD BIN | ||||||||
| ABarray 1.63.0  (landing page) Yongming Andrew Sun 
  | nebbiolo1 | Linux (Ubuntu 20.04.4 LTS) / x86_64 | OK | OK | OK | |||||||||
| riesling1 | Windows Server 2019 Standard / x64 | OK | OK | OK | OK | |||||||||
| palomino3 | Windows Server 2022 Datacenter / x64 | OK | OK | OK | OK | |||||||||
| merida1 | macOS 10.14.6 Mojave / x86_64 | OK | OK | OK | OK | |||||||||
| Package: ABarray | 
| Version: 1.63.0 | 
| Command: D:\biocbuild\bbs-3.15-bioc\R\bin\R.exe CMD check --no-multiarch --install=check:ABarray.install-out.txt --library=D:\biocbuild\bbs-3.15-bioc\R\library --no-vignettes --timings ABarray_1.63.0.tar.gz | 
| StartedAt: 2022-03-17 18:25:36 -0400 (Thu, 17 Mar 2022) | 
| EndedAt: 2022-03-17 18:26:32 -0400 (Thu, 17 Mar 2022) | 
| EllapsedTime: 56.6 seconds | 
| RetCode: 0 | 
| Status: OK | 
| CheckDir: ABarray.Rcheck | 
| Warnings: 0 | 
##############################################################################
##############################################################################
###
### Running command:
###
###   D:\biocbuild\bbs-3.15-bioc\R\bin\R.exe CMD check --no-multiarch --install=check:ABarray.install-out.txt --library=D:\biocbuild\bbs-3.15-bioc\R\library --no-vignettes --timings ABarray_1.63.0.tar.gz
###
##############################################################################
##############################################################################
* using log directory 'D:/biocbuild/bbs-3.15-bioc/meat/ABarray.Rcheck'
* using R Under development (unstable) (2021-11-21 r81221)
* using platform: x86_64-w64-mingw32 (64-bit)
* using session charset: ISO8859-1
* using option '--no-vignettes'
* checking for file 'ABarray/DESCRIPTION' ... OK
* this is package 'ABarray' version '1.63.0'
* checking package namespace information ... OK
* checking package dependencies ... OK
* checking if this is a source package ... OK
* checking if there is a namespace ... OK
* checking for hidden files and directories ... OK
* checking for portable file names ... OK
* checking whether package 'ABarray' can be installed ... OK
* checking installed package size ... OK
* checking package directory ... OK
* checking 'build' directory ... OK
* checking DESCRIPTION meta-information ... NOTE
Malformed Title field: should not end in a period.
* checking top-level files ... OK
* checking for left-over files ... OK
* checking index information ... OK
* checking package subdirectories ... OK
* checking R files for non-ASCII characters ... OK
* checking R files for syntax errors ... OK
* checking whether the package can be loaded ... OK
* checking whether the package can be loaded with stated dependencies ... OK
* checking whether the package can be unloaded cleanly ... OK
* checking whether the namespace can be loaded with stated dependencies ... OK
* checking whether the namespace can be unloaded cleanly ... OK
* checking dependencies in R code ... OK
* checking S3 generic/method consistency ... OK
* checking replacement functions ... OK
* checking foreign function calls ... OK
* checking R code for possible problems ... NOTE
ABarray: warning in read.table(dataFile, header = TRUE, sep = sep, nrow
  = 5000, colClasses = colRead): partial argument match of 'nrow' to
  'nrows'
ABarray: warning in read.table(dataFile, header = TRUE, sep = sep, nrow
  = 36000, colClasses = colRead, as.is = TRUE, check.names = FALSE,
  comment.char = "", na.string = c("NA", "MultipleValues", "Multiple
  Values")): partial argument match of 'na.string' to 'na.strings'
ABarray: warning in read.table(dataFile, header = TRUE, sep = sep, nrow
  = 36000, colClasses = colRead, as.is = TRUE, check.names = FALSE,
  comment.char = "", na.string = c("NA", "MultipleValues", "Multiple
  Values")): partial argument match of 'nrow' to 'nrows'
ABarray: warning in read.table(dataFile, header = TRUE, sep = sep, nrow
  = 36000, colClasses = colRead, check.names = FALSE, comment.char =
  "", na.string = c("NA", "MultipleValues", "Multiple Values")):
  partial argument match of 'na.string' to 'na.strings'
ABarray: warning in read.table(dataFile, header = TRUE, sep = sep, nrow
  = 36000, colClasses = colRead, check.names = FALSE, comment.char =
  "", na.string = c("NA", "MultipleValues", "Multiple Values")):
  partial argument match of 'nrow' to 'nrows'
ABarray: warning in dir.create(dataDir, showWarning = FALSE): partial
  argument match of 'showWarning' to 'showWarnings'
ABarray: warning in dir.create(pdfDir, showWarning = FALSE): partial
  argument match of 'showWarning' to 'showWarnings'
ABarray: warning in dir.create(jpgDir, showWarning = FALSE): partial
  argument match of 'showWarning' to 'showWarnings'
doLPE: warning in dir.create(dataDir, showWarning = FALSE): partial
  argument match of 'showWarning' to 'showWarnings'
doPlotEset: warning in dir.create(dataDir, showWarning = FALSE):
  partial argument match of 'showWarning' to 'showWarnings'
doPlotEset: warning in dir.create(pdfDir, showWarning = FALSE): partial
  argument match of 'showWarning' to 'showWarnings'
doPlotEset: warning in dir.create(jpgDir, showWarning = FALSE): partial
  argument match of 'showWarning' to 'showWarnings'
doPlotFCT: warning in dir.create(dataDir, showWarning = FALSE): partial
  argument match of 'showWarning' to 'showWarnings'
doPlotFCT: warning in dir.create(pdfDir, showWarning = FALSE): partial
  argument match of 'showWarning' to 'showWarnings'
doPlotFCT: warning in dir.create(jpgDir, showWarning = FALSE): partial
  argument match of 'showWarning' to 'showWarnings'
icpPlot: warning in jpeg(file = paste(jpgDir, fname, "_Heatmap.jpg",
  sep = ""), width = fWidth, height = fHeight): partial argument match
  of 'file' to 'filename'
ABarray: no visible binding for global variable 'colSn'
ABarrayGUI : getImputeFunc: no visible binding for global variable
  'knnRbtn'
doLPE: no visible global function definition for 'baseOlig.error'
doLPE: no visible global function definition for 'lpe'
doVennDiagram: no visible global function definition for 'vennCounts'
drawVennDiagram: no visible global function definition for 'vennCounts'
getPantherMap: no visible binding for global variable 'panther'
Undefined global functions or variables:
  baseOlig.error colSn knnRbtn lpe panther vennCounts
* checking Rd files ... NOTE
prepare_Rd: ABarrayGUI.Rd:12-13: Dropping empty section \arguments
prepare_Rd: calcsn.Rd:26-28: Dropping empty section \examples
prepare_Rd: cvv.Rd:22-24: Dropping empty section \examples
prepare_Rd: cvvPlot.Rd:24-26: Dropping empty section \examples
prepare_Rd: doVennDiagram.Rd:33-36: Dropping empty section \examples
prepare_Rd: getMemberEset.Rd:23-25: Dropping empty section \examples
prepare_Rd: getPantherMap.Rd:24-26: Dropping empty section \examples
prepare_Rd: hclusterPlot.Rd:27-29: Dropping empty section \examples
prepare_Rd: matrixPlot.Rd:32-34: Dropping empty section \examples
prepare_Rd: qnNormalize.Rd:52-54: Dropping empty section \examples
prepare_Rd: savejpg.Rd:26-28: Dropping empty section \examples
prepare_Rd: snSummary.Rd:22-25: Dropping empty section \examples
* checking Rd metadata ... OK
* checking Rd cross-references ... OK
* checking for missing documentation entries ... OK
* checking for code/documentation mismatches ... OK
* checking Rd \usage sections ... OK
* checking Rd contents ... OK
* checking for unstated dependencies in examples ... OK
* checking files in 'vignettes' ... NOTE
The following directory looks like a leftover from 'knitr':
  'figure'
Please remove from your package.
* checking examples ... OK
* checking for unstated dependencies in vignettes ... OK
* checking package vignettes in 'inst/doc' ... OK
* checking running R code from vignettes ... SKIPPED
* checking re-building of vignette outputs ... SKIPPED
* checking PDF version of manual ... OK
* DONE
Status: 4 NOTEs
See
  'D:/biocbuild/bbs-3.15-bioc/meat/ABarray.Rcheck/00check.log'
for details.
ABarray.Rcheck/00install.out
##############################################################################
##############################################################################
###
### Running command:
###
###   D:\biocbuild\bbs-3.15-bioc\R\bin\R.exe CMD INSTALL ABarray
###
##############################################################################
##############################################################################
* installing to library 'D:/biocbuild/bbs-3.15-bioc/R/library'
* installing *source* package 'ABarray' ...
** using staged installation
** R
** byte-compile and prepare package for lazy loading
** help
*** installing help indices
  converting help for package 'ABarray'
    finding HTML links ... done
    ABarray                                 html  
    ABarrayGUI                              html  
    calcsn                                  html  
    concord                                 html  
    cvv                                     html  
    cvvPlot                                 html  
    doANOVA                                 html  
    doLPE                                   html  
    doPlotEset                              html  
    doPlotFCT                               html  
    doVennDiagram                           html  
    drawVennDiagram                         html  
    getMemberEset                           html  
    getPantherMap                           html  
    hclusterPlot                            html  
    icpPlot                                 html  
    imputeFlag                              html  
    lpe.fdr.BH                              html  
    mamaplot                                html  
    matrixPlot                              html  
    mvaPair2                                html  
    panel.cor                               html  
    panel.scatter                           html  
    qnNormalize                             html  
    rgcolorsfunc                            html  
    savejpg                                 html  
    scaleColorBar                           html  
    snSummary                               html  
** building package indices
** installing vignettes
** testing if installed package can be loaded from temporary location
** testing if installed package can be loaded from final location
** testing if installed package keeps a record of temporary installation path
* DONE (ABarray)
Making 'packages.html' ...Warning in packageDescription(i, lib.loc = lib, fields = "Title", encoding = "UTF-8") :
  DESCRIPTION file of package 'qcmetrics' is missing or broken
 done
ABarray.Rcheck/ABarray-Ex.timings
| name | user | system | elapsed | |
| ABarray | 0 | 0 | 0 | |
| ABarrayGUI | 0 | 0 | 0 | |
| concord | 0 | 0 | 0 | |
| doANOVA | 0 | 0 | 0 | |
| doLPE | 0 | 0 | 0 | |
| doPlotEset | 0 | 0 | 0 | |
| doPlotFCT | 0 | 0 | 0 | |
| drawVennDiagram | 0 | 0 | 0 | |
| icpPlot | 0 | 0 | 0 | |
| imputeFlag | 0 | 0 | 0 | |
| lpe.fdr.BH | 0 | 0 | 0 | |
| mamaplot | 0 | 0 | 0 | |
| mvaPair2 | 0 | 0 | 0 | |
| panel.cor | 0 | 0 | 0 | |
| panel.scatter | 0 | 0 | 0 | |
| rgcolorsfunc | 0 | 0 | 0 | |
| scaleColorBar | 0 | 0 | 0 | |