| Back to Workflows build report for BioC 3.14 |
This page was generated on 2022-04-11 21:00:10 -0400 (Mon, 11 Apr 2022).
| Hostname | OS | Arch (*) | R version | Installed pkgs |
|---|---|---|---|---|
| nebbiolo2 | Linux (Ubuntu 20.04.4 LTS) | x86_64 | 4.1.3 (2022-03-10) -- "One Push-Up" | 4323 |
| riesling1 | Windows Server 2019 Standard | x64 | 4.1.2 (2021-11-01) -- "Bird Hippie" | 4108 |
| machv2 | macOS 10.14.6 Mojave | x86_64 | 4.1.3 (2022-03-10) -- "One Push-Up" | 4136 |
| Click on any hostname to see more info about the system (e.g. compilers) (*) as reported by 'uname -p', except on Windows and Mac OS X | ||||
|
To the developers/maintainers of the rnaseqGene package: Make sure to use the following settings in order to reproduce any error or warning you see on this page. |
| Package 23/29 | Hostname | OS / Arch | INSTALL | BUILD | ||||||||
| rnaseqGene 1.18.0 (landing page) Michael Love
| nebbiolo2 | Linux (Ubuntu 20.04.4 LTS) / x86_64 | OK | OK | ||||||||
| riesling1 | Windows Server 2019 Standard / x64 | OK | OK | |||||||||
| machv2 | macOS 10.14.6 Mojave / x86_64 | OK | OK | |||||||||
| Package: rnaseqGene |
| Version: 1.18.0 |
| Command: C:\cygwin\bin\curl.exe -O http://155.52.207.166/BBS/3.14/workflows/src/contrib/rnaseqGene_1.18.0.tar.gz && rm -rf rnaseqGene.buildbin-libdir && mkdir rnaseqGene.buildbin-libdir && D:\biocbuild\bbs-3.14-bioc\R\bin\R.exe CMD INSTALL --merge-multiarch --build --library=rnaseqGene.buildbin-libdir rnaseqGene_1.18.0.tar.gz && D:\biocbuild\bbs-3.14-bioc\R\bin\R.exe CMD INSTALL rnaseqGene_1.18.0.zip && rm rnaseqGene_1.18.0.tar.gz rnaseqGene_1.18.0.zip |
| StartedAt: 2022-04-11 15:00:43 -0400 (Mon, 11 Apr 2022) |
| EndedAt: 2022-04-11 15:02:04 -0400 (Mon, 11 Apr 2022) |
| EllapsedTime: 81.3 seconds |
| RetCode: 0 |
| Status: OK |
##############################################################################
##############################################################################
###
### Running command:
###
### C:\cygwin\bin\curl.exe -O http://155.52.207.166/BBS/3.14/workflows/src/contrib/rnaseqGene_1.18.0.tar.gz && rm -rf rnaseqGene.buildbin-libdir && mkdir rnaseqGene.buildbin-libdir && D:\biocbuild\bbs-3.14-bioc\R\bin\R.exe CMD INSTALL --merge-multiarch --build --library=rnaseqGene.buildbin-libdir rnaseqGene_1.18.0.tar.gz && D:\biocbuild\bbs-3.14-bioc\R\bin\R.exe CMD INSTALL rnaseqGene_1.18.0.zip && rm rnaseqGene_1.18.0.tar.gz rnaseqGene_1.18.0.zip
###
##############################################################################
##############################################################################
% Total % Received % Xferd Average Speed Time Time Time Current
Dload Upload Total Spent Left Speed
0 0 0 0 0 0 0 0 --:--:-- --:--:-- --:--:-- 0
100 37004 100 37004 0 0 151k 0 --:--:-- --:--:-- --:--:-- 151k
install for i386
* installing *source* package 'rnaseqGene' ...
** using staged installation
** inst
** help
No man pages found in package 'rnaseqGene'
*** installing help indices
** building package indices
** installing vignettes
** testing if installed package can be loaded from temporary location
** testing if installed package can be loaded from final location
** testing if installed package keeps a record of temporary installation path
install for x64
* installing *source* package 'rnaseqGene' ...
** testing if installed package can be loaded
* MD5 sums
packaged installation of 'rnaseqGene' as rnaseqGene_1.18.0.zip
* DONE (rnaseqGene)
* installing to library 'D:/biocbuild/bbs-3.14-bioc/R/library'
package 'rnaseqGene' successfully unpacked and MD5 sums checked