| Back to Workflows build report for BioC 3.14 | 
This page was generated on 2022-04-11 21:00:10 -0400 (Mon, 11 Apr 2022).
| Hostname | OS | Arch (*) | R version | Installed pkgs | 
|---|---|---|---|---|
| nebbiolo2 | Linux (Ubuntu 20.04.4 LTS) | x86_64 | 4.1.3 (2022-03-10) -- "One Push-Up" | 4323 | 
| riesling1 | Windows Server 2019 Standard | x64 | 4.1.2 (2021-11-01) -- "Bird Hippie" | 4108 | 
| machv2 | macOS 10.14.6 Mojave | x86_64 | 4.1.3 (2022-03-10) -- "One Push-Up" | 4136 | 
| Click on any hostname to see more info about the system (e.g. compilers) (*) as reported by 'uname -p', except on Windows and Mac OS X | ||||
| To the developers/maintainers of the methylationArrayAnalysis package: Make sure to use the following settings in order to reproduce any error or warning you see on this page. | 
| Package 18/29 | Hostname | OS / Arch | INSTALL | BUILD | ||||||||
| methylationArrayAnalysis 1.18.0  (landing page) Jovana Maksimovic 
 | nebbiolo2 | Linux (Ubuntu 20.04.4 LTS) / x86_64 | OK | OK |  | |||||||
| riesling1 | Windows Server 2019 Standard / x64 | OK | OK | |||||||||
| machv2 | macOS 10.14.6 Mojave / x86_64 | OK | OK | |||||||||
| Package: methylationArrayAnalysis | 
| Version: 1.18.0 | 
| Command: C:\cygwin\bin\curl.exe -O http://155.52.207.166/BBS/3.14/workflows/src/contrib/methylationArrayAnalysis_1.18.0.tar.gz && rm -rf methylationArrayAnalysis.buildbin-libdir && mkdir methylationArrayAnalysis.buildbin-libdir && D:\biocbuild\bbs-3.14-bioc\R\bin\R.exe CMD INSTALL --merge-multiarch --build --library=methylationArrayAnalysis.buildbin-libdir methylationArrayAnalysis_1.18.0.tar.gz && D:\biocbuild\bbs-3.14-bioc\R\bin\R.exe CMD INSTALL methylationArrayAnalysis_1.18.0.zip && rm methylationArrayAnalysis_1.18.0.tar.gz methylationArrayAnalysis_1.18.0.zip | 
| StartedAt: 2022-04-11 15:01:45 -0400 (Mon, 11 Apr 2022) | 
| EndedAt: 2022-04-11 15:05:34 -0400 (Mon, 11 Apr 2022) | 
| EllapsedTime: 228.5 seconds | 
| RetCode: 0 | 
| Status: OK | 
##############################################################################
##############################################################################
###
### Running command:
###
###   C:\cygwin\bin\curl.exe -O http://155.52.207.166/BBS/3.14/workflows/src/contrib/methylationArrayAnalysis_1.18.0.tar.gz && rm -rf methylationArrayAnalysis.buildbin-libdir && mkdir methylationArrayAnalysis.buildbin-libdir && D:\biocbuild\bbs-3.14-bioc\R\bin\R.exe CMD INSTALL --merge-multiarch --build --library=methylationArrayAnalysis.buildbin-libdir methylationArrayAnalysis_1.18.0.tar.gz && D:\biocbuild\bbs-3.14-bioc\R\bin\R.exe CMD INSTALL methylationArrayAnalysis_1.18.0.zip && rm methylationArrayAnalysis_1.18.0.tar.gz methylationArrayAnalysis_1.18.0.zip
###
##############################################################################
##############################################################################
  % Total    % Received % Xferd  Average Speed   Time    Time     Time  Current
                                 Dload  Upload   Total   Spent    Left  Speed
  0     0    0     0    0     0      0      0 --:--:-- --:--:-- --:--:--     0
  0  216M    0  175k    0     0   375k      0  0:09:51 --:--:--  0:09:51  374k
  0  216M    0 1253k    0     0   848k      0  0:04:21  0:00:01  0:04:20  847k
  1  216M    1 2855k    0     0  1161k      0  0:03:11  0:00:02  0:03:09 1161k
  2  216M    2 5149k    0     0  1477k      0  0:02:30  0:00:03  0:02:27 1477k
  3  216M    3 7838k    0     0  1756k      0  0:02:06  0:00:04  0:02:02 1755k
  5  216M    5 11.1M    0     0  2072k      0  0:01:47  0:00:05  0:01:42 2231k
  7  216M    7 15.3M    0     0  2422k      0  0:01:31  0:00:06  0:01:25 2889k
  9  216M    9 20.4M    0     0  2811k      0  0:01:18  0:00:07  0:01:11 3621k
 12  216M   12 26.1M    0     0  3159k      0  0:01:10  0:00:08  0:01:02 4333k
 14  216M   14 31.9M    0     0  3457k      0  0:01:04  0:00:09  0:00:55 4976k
 17  216M   17 37.4M    0     0  3669k      0  0:01:00  0:00:10  0:00:50 5427k
 19  216M   19 41.4M    0     0  3707k      0  0:00:59  0:00:11  0:00:48 5368k
 21  216M   21 46.8M    0     0  3846k      0  0:00:57  0:00:12  0:00:45 5391k
 24  216M   24 52.1M    0     0  3966k      0  0:00:55  0:00:13  0:00:42 5337k
 27  216M   27 58.9M    0     0  4175k      0  0:00:53  0:00:14  0:00:39 5532k
 30  216M   30 65.9M    0     0  4369k      0  0:00:50  0:00:15  0:00:35 5836k
 33  216M   33 73.4M    0     0  4568k      0  0:00:48  0:00:16  0:00:32 6543k
 37  216M   37 80.2M    0     0  4706k      0  0:00:47  0:00:17  0:00:30 6851k
 39  216M   39 85.4M    0     0  4736k      0  0:00:46  0:00:18  0:00:28 6810k
 41  216M   41 90.9M    0     0  4781k      0  0:00:46  0:00:19  0:00:27 6528k
 43  216M   43 95.2M    0     0  4763k      0  0:00:46  0:00:20  0:00:26 5974k
 45  216M   45 99.3M    0     0  4742k      0  0:00:46  0:00:21  0:00:25 5315k
 48  216M   48  104M    0     0  4760k      0  0:00:46  0:00:22  0:00:24 4949k
 50  216M   50  110M    0     0  4814k      0  0:00:46  0:00:23  0:00:23 5099k
 54  216M   54  117M    0     0  4911k      0  0:00:45  0:00:24  0:00:21 5418k
 57  216M   57  125M    0     0  5032k      0  0:00:44  0:00:25  0:00:19 6140k
 61  216M   61  132M    0     0  5128k      0  0:00:43  0:00:26  0:00:17 6759k
 65  216M   65  141M    0     0  5265k      0  0:00:42  0:00:27  0:00:15 7541k
 69  216M   69  150M    0     0  5423k      0  0:00:40  0:00:28  0:00:12 8280k
 73  216M   73  159M    0     0  5534k      0  0:00:40  0:00:29  0:00:11 8580k
 76  216M   76  165M    0     0  5551k      0  0:00:39  0:00:30  0:00:09 8193k
 79  216M   79  172M    0     0  5607k      0  0:00:39  0:00:31  0:00:08 8195k
 83  216M   83  180M    0     0  5684k      0  0:00:39  0:00:32  0:00:07 7979k
 86  216M   86  187M    0     0  5724k      0  0:00:38  0:00:33  0:00:05 7442k
 88  216M   88  192M    0     0  5708k      0  0:00:38  0:00:34  0:00:04 6734k
 91  216M   91  197M    0     0  5710k      0  0:00:38  0:00:35  0:00:03 6677k
 94  216M   94  204M    0     0  5738k      0  0:00:38  0:00:36  0:00:02 6558k
 97  216M   97  211M    0     0  5783k      0  0:00:38  0:00:37  0:00:01 6426k
100  216M  100  216M    0     0  5828k      0  0:00:38  0:00:38 --:--:-- 6582k
install for i386
* installing *source* package 'methylationArrayAnalysis' ...
** using staged installation
** inst
** help
No man pages found in package  'methylationArrayAnalysis' 
*** installing help indices
** building package indices
** installing vignettes
** testing if installed package can be loaded from temporary location
Warning: replacing previous import 'minfi::getMeth' by 'bsseq::getMeth' when loading 'DMRcate'
** testing if installed package can be loaded from final location
Warning: replacing previous import 'minfi::getMeth' by 'bsseq::getMeth' when loading 'DMRcate'
** testing if installed package keeps a record of temporary installation path
install for x64
* installing *source* package 'methylationArrayAnalysis' ...
** testing if installed package can be loaded
Warning: replacing previous import 'minfi::getMeth' by 'bsseq::getMeth' when loading 'DMRcate'
* MD5 sums
packaged installation of 'methylationArrayAnalysis' as methylationArrayAnalysis_1.18.0.zip
* DONE (methylationArrayAnalysis)
* installing to library 'D:/biocbuild/bbs-3.14-bioc/R/library'
package 'methylationArrayAnalysis' successfully unpacked and MD5 sums checked