| Back to Workflows build report for BioC 3.14 |
This page was generated on 2022-04-11 21:00:10 -0400 (Mon, 11 Apr 2022).
| Hostname | OS | Arch (*) | R version | Installed pkgs |
|---|---|---|---|---|
| nebbiolo2 | Linux (Ubuntu 20.04.4 LTS) | x86_64 | 4.1.3 (2022-03-10) -- "One Push-Up" | 4323 |
| riesling1 | Windows Server 2019 Standard | x64 | 4.1.2 (2021-11-01) -- "Bird Hippie" | 4108 |
| machv2 | macOS 10.14.6 Mojave | x86_64 | 4.1.3 (2022-03-10) -- "One Push-Up" | 4136 |
| Click on any hostname to see more info about the system (e.g. compilers) (*) as reported by 'uname -p', except on Windows and Mac OS X | ||||
|
To the developers/maintainers of the liftOver package: Make sure to use the following settings in order to reproduce any error or warning you see on this page. |
| Package 16/29 | Hostname | OS / Arch | INSTALL | BUILD | ||||||||
| liftOver 1.18.0 (landing page) Bioconductor Package Maintainer
| nebbiolo2 | Linux (Ubuntu 20.04.4 LTS) / x86_64 | OK | OK | ||||||||
| riesling1 | Windows Server 2019 Standard / x64 | OK | OK | |||||||||
| machv2 | macOS 10.14.6 Mojave / x86_64 | OK | OK | |||||||||
| Package: liftOver |
| Version: 1.18.0 |
| Command: C:\cygwin\bin\curl.exe -O http://155.52.207.166/BBS/3.14/workflows/src/contrib/liftOver_1.18.0.tar.gz && rm -rf liftOver.buildbin-libdir && mkdir liftOver.buildbin-libdir && D:\biocbuild\bbs-3.14-bioc\R\bin\R.exe CMD INSTALL --merge-multiarch --build --library=liftOver.buildbin-libdir liftOver_1.18.0.tar.gz && D:\biocbuild\bbs-3.14-bioc\R\bin\R.exe CMD INSTALL liftOver_1.18.0.zip && rm liftOver_1.18.0.tar.gz liftOver_1.18.0.zip |
| StartedAt: 2022-04-11 15:00:54 -0400 (Mon, 11 Apr 2022) |
| EndedAt: 2022-04-11 15:01:31 -0400 (Mon, 11 Apr 2022) |
| EllapsedTime: 37.1 seconds |
| RetCode: 0 |
| Status: OK |
##############################################################################
##############################################################################
###
### Running command:
###
### C:\cygwin\bin\curl.exe -O http://155.52.207.166/BBS/3.14/workflows/src/contrib/liftOver_1.18.0.tar.gz && rm -rf liftOver.buildbin-libdir && mkdir liftOver.buildbin-libdir && D:\biocbuild\bbs-3.14-bioc\R\bin\R.exe CMD INSTALL --merge-multiarch --build --library=liftOver.buildbin-libdir liftOver_1.18.0.tar.gz && D:\biocbuild\bbs-3.14-bioc\R\bin\R.exe CMD INSTALL liftOver_1.18.0.zip && rm liftOver_1.18.0.tar.gz liftOver_1.18.0.zip
###
##############################################################################
##############################################################################
% Total % Received % Xferd Average Speed Time Time Time Current
Dload Upload Total Spent Left Speed
0 0 0 0 0 0 0 0 --:--:-- --:--:-- --:--:-- 0
43 4281k 43 1846k 0 0 2325k 0 0:00:01 --:--:-- 0:00:01 2323k
100 4281k 100 4281k 0 0 2904k 0 0:00:01 0:00:01 --:--:-- 2904k
install for i386
* installing *source* package 'liftOver' ...
** using staged installation
** data
*** moving datasets to lazyload DB
** inst
** help
No man pages found in package 'liftOver'
*** installing help indices
** building package indices
** installing vignettes
** testing if installed package can be loaded from temporary location
** testing if installed package can be loaded from final location
** testing if installed package keeps a record of temporary installation path
install for x64
* installing *source* package 'liftOver' ...
** testing if installed package can be loaded
* MD5 sums
packaged installation of 'liftOver' as liftOver_1.18.0.zip
* DONE (liftOver)
* installing to library 'D:/biocbuild/bbs-3.14-bioc/R/library'
package 'liftOver' successfully unpacked and MD5 sums checked