| Back to Build/check report for BioC 3.14 experimental data |
|
This page was generated on 2022-04-13 14:50:25 -0400 (Wed, 13 Apr 2022).
| Hostname | OS | Arch (*) | R version | Installed pkgs |
|---|---|---|---|---|
| nebbiolo2 | Linux (Ubuntu 20.04.4 LTS) | x86_64 | 4.1.3 (2022-03-10) -- "One Push-Up" | 4324 |
| Click on any hostname to see more info about the system (e.g. compilers) (*) as reported by 'uname -p', except on Windows and Mac OS X | ||||
|
To the developers/maintainers of the spatialLIBD package: Make sure to use the following settings in order to reproduce any error or warning you see on this page. |
| Package 361/408 | Hostname | OS / Arch | INSTALL | BUILD | CHECK | ||||||||
| spatialLIBD 1.6.5 (landing page) Leonardo Collado-Torres
| nebbiolo2 | Linux (Ubuntu 20.04.4 LTS) / x86_64 | OK | OK | OK | ||||||||
| Package: spatialLIBD |
| Version: 1.6.5 |
| Command: /home/biocbuild/bbs-3.14-bioc/R/bin/R CMD check --install=check:spatialLIBD.install-out.txt --library=/home/biocbuild/bbs-3.14-bioc/R/library --no-vignettes --timings spatialLIBD_1.6.5.tar.gz |
| StartedAt: 2022-04-13 11:50:10 -0400 (Wed, 13 Apr 2022) |
| EndedAt: 2022-04-13 11:59:49 -0400 (Wed, 13 Apr 2022) |
| EllapsedTime: 578.8 seconds |
| RetCode: 0 |
| Status: OK |
| CheckDir: spatialLIBD.Rcheck |
| Warnings: 0 |
##############################################################################
##############################################################################
###
### Running command:
###
### /home/biocbuild/bbs-3.14-bioc/R/bin/R CMD check --install=check:spatialLIBD.install-out.txt --library=/home/biocbuild/bbs-3.14-bioc/R/library --no-vignettes --timings spatialLIBD_1.6.5.tar.gz
###
##############################################################################
##############################################################################
* using log directory ‘/home/biocbuild/bbs-3.14-data-experiment/meat/spatialLIBD.Rcheck’
* using R version 4.1.3 (2022-03-10)
* using platform: x86_64-pc-linux-gnu (64-bit)
* using session charset: UTF-8
* using option ‘--no-vignettes’
* checking for file ‘spatialLIBD/DESCRIPTION’ ... OK
* this is package ‘spatialLIBD’ version ‘1.6.5’
* package encoding: UTF-8
* checking package namespace information ... OK
* checking package dependencies ... OK
* checking if this is a source package ... OK
* checking if there is a namespace ... OK
* checking for hidden files and directories ... OK
* checking for portable file names ... OK
* checking for sufficient/correct file permissions ... OK
* checking whether package ‘spatialLIBD’ can be installed ... OK
* checking installed package size ... OK
* checking package directory ... OK
* checking ‘build’ directory ... OK
* checking DESCRIPTION meta-information ... OK
* checking top-level files ... OK
* checking for left-over files ... OK
* checking index information ... OK
* checking package subdirectories ... OK
* checking R files for non-ASCII characters ... OK
* checking R files for syntax errors ... OK
* checking whether the package can be loaded ... OK
* checking whether the package can be loaded with stated dependencies ... OK
* checking whether the package can be unloaded cleanly ... OK
* checking whether the namespace can be loaded with stated dependencies ... OK
* checking whether the namespace can be unloaded cleanly ... OK
* checking dependencies in R code ... OK
* checking S3 generic/method consistency ... OK
* checking replacement functions ... OK
* checking foreign function calls ... OK
* checking R code for possible problems ... OK
* checking Rd files ... OK
* checking Rd metadata ... OK
* checking Rd cross-references ... OK
* checking for missing documentation entries ... OK
* checking for code/documentation mismatches ... OK
* checking Rd \usage sections ... OK
* checking Rd contents ... OK
* checking for unstated dependencies in examples ... OK
* checking contents of ‘data’ directory ... OK
* checking data for non-ASCII characters ... OK
* checking LazyData ... OK
* checking data for ASCII and uncompressed saves ... OK
* checking files in ‘vignettes’ ... OK
* checking examples ... OK
Examples with CPU (user + system) or elapsed time > 5s
user system elapsed
add_images 24.718 2.292 30.918
vis_gene 20.338 1.891 22.782
img_update_all 20.489 1.688 22.636
cluster_import 19.303 1.647 21.782
img_edit 18.396 1.675 20.679
vis_grid_clus 17.475 2.448 21.388
check_spe 18.415 1.465 20.373
vis_gene_p 18.178 1.686 20.450
geom_spatial 18.274 1.547 20.473
vis_grid_gene 17.642 2.044 20.373
vis_clus 18.017 1.593 20.285
img_update 17.484 2.090 20.192
vis_clus_p 17.857 1.613 20.138
cluster_export 17.522 1.573 19.979
sce_to_spe 16.085 1.286 18.045
layer_boxplot 5.007 0.493 6.023
sig_genes_extract 4.440 0.640 5.602
* checking for unstated dependencies in ‘tests’ ... OK
* checking tests ...
Running ‘testthat.R’
OK
* checking for unstated dependencies in vignettes ... OK
* checking package vignettes in ‘inst/doc’ ... OK
* checking running R code from vignettes ... SKIPPED
* checking re-building of vignette outputs ... SKIPPED
* checking PDF version of manual ... OK
* DONE
Status: OK
spatialLIBD.Rcheck/00install.out
############################################################################## ############################################################################## ### ### Running command: ### ### /home/biocbuild/bbs-3.14-bioc/R/bin/R CMD INSTALL spatialLIBD ### ############################################################################## ############################################################################## * installing to library ‘/home/biocbuild/bbs-3.14-bioc/R/library’ * installing *source* package ‘spatialLIBD’ ... ** using staged installation ** R ** data *** moving datasets to lazyload DB ** inst ** byte-compile and prepare package for lazy loading ** help *** installing help indices *** copying figures ** building package indices ** installing vignettes ** testing if installed package can be loaded from temporary location ** testing if installed package can be loaded from final location ** testing if installed package keeps a record of temporary installation path * DONE (spatialLIBD)
spatialLIBD.Rcheck/tests/testthat.Rout
R version 4.1.3 (2022-03-10) -- "One Push-Up"
Copyright (C) 2022 The R Foundation for Statistical Computing
Platform: x86_64-pc-linux-gnu (64-bit)
R is free software and comes with ABSOLUTELY NO WARRANTY.
You are welcome to redistribute it under certain conditions.
Type 'license()' or 'licence()' for distribution details.
R is a collaborative project with many contributors.
Type 'contributors()' for more information and
'citation()' on how to cite R or R packages in publications.
Type 'demo()' for some demos, 'help()' for on-line help, or
'help.start()' for an HTML browser interface to help.
Type 'q()' to quit R.
> library(testthat)
> library(spatialLIBD)
Loading required package: SpatialExperiment
Loading required package: SingleCellExperiment
Loading required package: SummarizedExperiment
Loading required package: MatrixGenerics
Loading required package: matrixStats
Attaching package: 'MatrixGenerics'
The following objects are masked from 'package:matrixStats':
colAlls, colAnyNAs, colAnys, colAvgsPerRowSet, colCollapse,
colCounts, colCummaxs, colCummins, colCumprods, colCumsums,
colDiffs, colIQRDiffs, colIQRs, colLogSumExps, colMadDiffs,
colMads, colMaxs, colMeans2, colMedians, colMins, colOrderStats,
colProds, colQuantiles, colRanges, colRanks, colSdDiffs, colSds,
colSums2, colTabulates, colVarDiffs, colVars, colWeightedMads,
colWeightedMeans, colWeightedMedians, colWeightedSds,
colWeightedVars, rowAlls, rowAnyNAs, rowAnys, rowAvgsPerColSet,
rowCollapse, rowCounts, rowCummaxs, rowCummins, rowCumprods,
rowCumsums, rowDiffs, rowIQRDiffs, rowIQRs, rowLogSumExps,
rowMadDiffs, rowMads, rowMaxs, rowMeans2, rowMedians, rowMins,
rowOrderStats, rowProds, rowQuantiles, rowRanges, rowRanks,
rowSdDiffs, rowSds, rowSums2, rowTabulates, rowVarDiffs, rowVars,
rowWeightedMads, rowWeightedMeans, rowWeightedMedians,
rowWeightedSds, rowWeightedVars
Loading required package: GenomicRanges
Loading required package: stats4
Loading required package: BiocGenerics
Attaching package: 'BiocGenerics'
The following objects are masked from 'package:stats':
IQR, mad, sd, var, xtabs
The following objects are masked from 'package:base':
Filter, Find, Map, Position, Reduce, anyDuplicated, append,
as.data.frame, basename, cbind, colnames, dirname, do.call,
duplicated, eval, evalq, get, grep, grepl, intersect, is.unsorted,
lapply, mapply, match, mget, order, paste, pmax, pmax.int, pmin,
pmin.int, rank, rbind, rownames, sapply, setdiff, sort, table,
tapply, union, unique, unsplit, which.max, which.min
Loading required package: S4Vectors
Attaching package: 'S4Vectors'
The following objects are masked from 'package:base':
I, expand.grid, unname
Loading required package: IRanges
Loading required package: GenomeInfoDb
Loading required package: Biobase
Welcome to Bioconductor
Vignettes contain introductory material; view with
'browseVignettes()'. To cite Bioconductor, see
'citation("Biobase")', and for packages 'citation("pkgname")'.
Attaching package: 'Biobase'
The following object is masked from 'package:MatrixGenerics':
rowMedians
The following objects are masked from 'package:matrixStats':
anyMissing, rowMedians
>
> test_check("spatialLIBD")
[ FAIL 0 | WARN 0 | SKIP 0 | PASS 1 ]
>
> proc.time()
user system elapsed
9.479 0.627 10.086
spatialLIBD.Rcheck/spatialLIBD-Ex.timings
| name | user | system | elapsed | |
| add10xVisiumAnalysis | 0.001 | 0.000 | 0.001 | |
| add_images | 24.718 | 2.292 | 30.918 | |
| check_modeling_results | 2.692 | 0.416 | 3.355 | |
| check_sce | 3.707 | 0.196 | 4.234 | |
| check_sce_layer | 2.100 | 0.148 | 2.533 | |
| check_spe | 18.415 | 1.465 | 20.373 | |
| cluster_export | 17.522 | 1.573 | 19.979 | |
| cluster_import | 19.303 | 1.647 | 21.782 | |
| enough_ram | 0.010 | 0.002 | 0.011 | |
| fetch_data | 2.023 | 0.196 | 2.535 | |
| gene_set_enrichment | 2.108 | 0.252 | 2.663 | |
| gene_set_enrichment_plot | 3.124 | 0.521 | 3.928 | |
| geom_spatial | 18.274 | 1.547 | 20.473 | |
| get_colors | 2.012 | 0.164 | 2.513 | |
| img_edit | 18.396 | 1.675 | 20.679 | |
| img_update | 17.484 | 2.090 | 20.192 | |
| img_update_all | 20.489 | 1.688 | 22.636 | |
| layer_boxplot | 5.007 | 0.493 | 6.023 | |
| layer_matrix_plot | 0.007 | 0.000 | 0.007 | |
| layer_stat_cor | 1.578 | 0.124 | 2.007 | |
| layer_stat_cor_plot | 1.697 | 0.136 | 2.142 | |
| locate_images | 0 | 0 | 0 | |
| read10xVisiumAnalysis | 0.001 | 0.000 | 0.000 | |
| read10xVisiumWrapper | 0 | 0 | 0 | |
| run_app | 0 | 0 | 0 | |
| sce_to_spe | 16.085 | 1.286 | 18.045 | |
| sig_genes_extract | 4.440 | 0.640 | 5.602 | |
| sig_genes_extract_all | 3.901 | 0.244 | 4.634 | |
| sort_clusters | 0.002 | 0.000 | 0.002 | |
| vis_clus | 18.017 | 1.593 | 20.285 | |
| vis_clus_p | 17.857 | 1.613 | 20.138 | |
| vis_gene | 20.338 | 1.891 | 22.782 | |
| vis_gene_p | 18.178 | 1.686 | 20.450 | |
| vis_grid_clus | 17.475 | 2.448 | 21.388 | |
| vis_grid_gene | 17.642 | 2.044 | 20.373 | |