| Back to Build/check report for BioC 3.14 experimental data |
|
This page was generated on 2022-04-13 14:50:24 -0400 (Wed, 13 Apr 2022).
| Hostname | OS | Arch (*) | R version | Installed pkgs |
|---|---|---|---|---|
| nebbiolo2 | Linux (Ubuntu 20.04.4 LTS) | x86_64 | 4.1.3 (2022-03-10) -- "One Push-Up" | 4324 |
| Click on any hostname to see more info about the system (e.g. compilers) (*) as reported by 'uname -p', except on Windows and Mac OS X | ||||
|
To the developers/maintainers of the pepDat package: Make sure to use the following settings in order to reproduce any error or warning you see on this page. |
| Package 273/408 | Hostname | OS / Arch | INSTALL | BUILD | CHECK | ||||||||
| pepDat 1.14.0 (landing page) Renan Sauteraud
| nebbiolo2 | Linux (Ubuntu 20.04.4 LTS) / x86_64 | OK | OK | OK | ||||||||
| Package: pepDat |
| Version: 1.14.0 |
| Command: /home/biocbuild/bbs-3.14-bioc/R/bin/R CMD build --keep-empty-dirs --no-resave-data pepDat |
| StartedAt: 2022-04-13 10:36:50 -0400 (Wed, 13 Apr 2022) |
| EndedAt: 2022-04-13 10:37:01 -0400 (Wed, 13 Apr 2022) |
| EllapsedTime: 11.8 seconds |
| RetCode: 0 |
| Status: OK |
| PackageFile: pepDat_1.14.0.tar.gz |
| PackageFileSize: 2.653 MiB |
############################################################################## ############################################################################## ### ### Running command: ### ### /home/biocbuild/bbs-3.14-bioc/R/bin/R CMD build --keep-empty-dirs --no-resave-data pepDat ### ############################################################################## ############################################################################## * checking for file ‘pepDat/DESCRIPTION’ ... OK * preparing ‘pepDat’: * checking DESCRIPTION meta-information ... OK * installing the package to build vignettes * creating vignettes ... OK * checking for LF line-endings in source and make files and shell scripts * checking for empty or unneeded directories * looking to see if a ‘data/datalist’ file should be added * building ‘pepDat_1.14.0.tar.gz’