| Back to Build/check report for BioC 3.14 experimental data |
|
This page was generated on 2022-04-13 14:50:25 -0400 (Wed, 13 Apr 2022).
| Hostname | OS | Arch (*) | R version | Installed pkgs |
|---|---|---|---|---|
| nebbiolo2 | Linux (Ubuntu 20.04.4 LTS) | x86_64 | 4.1.3 (2022-03-10) -- "One Push-Up" | 4324 |
| Click on any hostname to see more info about the system (e.g. compilers) (*) as reported by 'uname -p', except on Windows and Mac OS X | ||||
|
To the developers/maintainers of the SomaticCancerAlterations package: Make sure to use the following settings in order to reproduce any error or warning you see on this page. |
| Package 359/408 | Hostname | OS / Arch | INSTALL | BUILD | CHECK | ||||||||
| SomaticCancerAlterations 1.30.0 (landing page) Julian Gehring
| nebbiolo2 | Linux (Ubuntu 20.04.4 LTS) / x86_64 | OK | OK | OK | ||||||||
| Package: SomaticCancerAlterations |
| Version: 1.30.0 |
| Command: /home/biocbuild/bbs-3.14-bioc/R/bin/R CMD build --keep-empty-dirs --no-resave-data SomaticCancerAlterations |
| StartedAt: 2022-04-13 10:42:39 -0400 (Wed, 13 Apr 2022) |
| EndedAt: 2022-04-13 10:42:59 -0400 (Wed, 13 Apr 2022) |
| EllapsedTime: 20.5 seconds |
| RetCode: 0 |
| Status: OK |
| PackageFile: SomaticCancerAlterations_1.30.0.tar.gz |
| PackageFileSize: 4.374 MiB |
############################################################################## ############################################################################## ### ### Running command: ### ### /home/biocbuild/bbs-3.14-bioc/R/bin/R CMD build --keep-empty-dirs --no-resave-data SomaticCancerAlterations ### ############################################################################## ############################################################################## * checking for file ‘SomaticCancerAlterations/DESCRIPTION’ ... OK * preparing ‘SomaticCancerAlterations’: * checking DESCRIPTION meta-information ... OK * installing the package to build vignettes * creating vignettes ... OK * checking for LF line-endings in source and make files and shell scripts * checking for empty or unneeded directories * looking to see if a ‘data/datalist’ file should be added * building ‘SomaticCancerAlterations_1.30.0.tar.gz’