| Back to Build/check report for BioC 3.14 experimental data |
|
This page was generated on 2022-04-13 14:50:23 -0400 (Wed, 13 Apr 2022).
| Hostname | OS | Arch (*) | R version | Installed pkgs |
|---|---|---|---|---|
| nebbiolo2 | Linux (Ubuntu 20.04.4 LTS) | x86_64 | 4.1.3 (2022-03-10) -- "One Push-Up" | 4324 |
| Click on any hostname to see more info about the system (e.g. compilers) (*) as reported by 'uname -p', except on Windows and Mac OS X | ||||
|
To the developers/maintainers of the MetaGxOvarian package: Make sure to use the following settings in order to reproduce any error or warning you see on this page. |
| Package 220/408 | Hostname | OS / Arch | INSTALL | BUILD | CHECK | ||||||||
| MetaGxOvarian 1.14.0 (landing page) Benjamin Haibe-Kains
| nebbiolo2 | Linux (Ubuntu 20.04.4 LTS) / x86_64 | OK | OK | WARNINGS | ||||||||
| Package: MetaGxOvarian |
| Version: 1.14.0 |
| Command: /home/biocbuild/bbs-3.14-bioc/R/bin/R CMD build --keep-empty-dirs --no-resave-data MetaGxOvarian |
| StartedAt: 2022-04-13 10:33:03 -0400 (Wed, 13 Apr 2022) |
| EndedAt: 2022-04-13 10:34:37 -0400 (Wed, 13 Apr 2022) |
| EllapsedTime: 94.2 seconds |
| RetCode: 0 |
| Status: OK |
| PackageFile: MetaGxOvarian_1.14.0.tar.gz |
| PackageFileSize: 256.6 KiB |
############################################################################## ############################################################################## ### ### Running command: ### ### /home/biocbuild/bbs-3.14-bioc/R/bin/R CMD build --keep-empty-dirs --no-resave-data MetaGxOvarian ### ############################################################################## ############################################################################## * checking for file ‘MetaGxOvarian/DESCRIPTION’ ... OK * preparing ‘MetaGxOvarian’: * checking DESCRIPTION meta-information ... OK * installing the package to build vignettes * creating vignettes ... OK * checking for LF line-endings in source and make files and shell scripts * checking for empty or unneeded directories Omitted ‘LazyData’ from DESCRIPTION * building ‘MetaGxOvarian_1.14.0.tar.gz’