| Back to Build/check report for BioC 3.14 experimental data |
|
This page was generated on 2022-04-13 14:50:23 -0400 (Wed, 13 Apr 2022).
| Hostname | OS | Arch (*) | R version | Installed pkgs |
|---|---|---|---|---|
| nebbiolo2 | Linux (Ubuntu 20.04.4 LTS) | x86_64 | 4.1.3 (2022-03-10) -- "One Push-Up" | 4324 |
| Click on any hostname to see more info about the system (e.g. compilers) (*) as reported by 'uname -p', except on Windows and Mac OS X | ||||
|
To the developers/maintainers of the KEGGandMetacoreDzPathwaysGEO package: Make sure to use the following settings in order to reproduce any error or warning you see on this page. |
| Package 193/408 | Hostname | OS / Arch | INSTALL | BUILD | CHECK | ||||||||
| KEGGandMetacoreDzPathwaysGEO 1.14.0 (landing page) Gaurav Bhatti
| nebbiolo2 | Linux (Ubuntu 20.04.4 LTS) / x86_64 | OK | OK | OK | ||||||||
| Package: KEGGandMetacoreDzPathwaysGEO |
| Version: 1.14.0 |
| Command: /home/biocbuild/bbs-3.14-bioc/R/bin/R CMD check --install=check:KEGGandMetacoreDzPathwaysGEO.install-out.txt --library=/home/biocbuild/bbs-3.14-bioc/R/library --no-vignettes --timings KEGGandMetacoreDzPathwaysGEO_1.14.0.tar.gz |
| StartedAt: 2022-04-13 11:31:16 -0400 (Wed, 13 Apr 2022) |
| EndedAt: 2022-04-13 11:31:59 -0400 (Wed, 13 Apr 2022) |
| EllapsedTime: 43.0 seconds |
| RetCode: 0 |
| Status: OK |
| CheckDir: KEGGandMetacoreDzPathwaysGEO.Rcheck |
| Warnings: 0 |
##############################################################################
##############################################################################
###
### Running command:
###
### /home/biocbuild/bbs-3.14-bioc/R/bin/R CMD check --install=check:KEGGandMetacoreDzPathwaysGEO.install-out.txt --library=/home/biocbuild/bbs-3.14-bioc/R/library --no-vignettes --timings KEGGandMetacoreDzPathwaysGEO_1.14.0.tar.gz
###
##############################################################################
##############################################################################
* using log directory ‘/home/biocbuild/bbs-3.14-data-experiment/meat/KEGGandMetacoreDzPathwaysGEO.Rcheck’
* using R version 4.1.3 (2022-03-10)
* using platform: x86_64-pc-linux-gnu (64-bit)
* using session charset: UTF-8
* using option ‘--no-vignettes’
* checking for file ‘KEGGandMetacoreDzPathwaysGEO/DESCRIPTION’ ... OK
* checking extension type ... Package
* this is package ‘KEGGandMetacoreDzPathwaysGEO’ version ‘1.14.0’
* checking package namespace information ... OK
* checking package dependencies ... OK
* checking if this is a source package ... OK
* checking if there is a namespace ... OK
* checking for hidden files and directories ... OK
* checking for portable file names ... OK
* checking for sufficient/correct file permissions ... OK
* checking whether package ‘KEGGandMetacoreDzPathwaysGEO’ can be installed ... OK
* checking installed package size ... NOTE
installed size is 98.7Mb
sub-directories of 1Mb or more:
data 98.5Mb
* checking package directory ... OK
* checking ‘build’ directory ... OK
* checking DESCRIPTION meta-information ... OK
* checking top-level files ... OK
* checking for left-over files ... OK
* checking index information ... OK
* checking package subdirectories ... OK
* checking whether the package can be loaded ... OK
* checking whether the package can be loaded with stated dependencies ... OK
* checking whether the package can be unloaded cleanly ... OK
* checking whether the namespace can be loaded with stated dependencies ... OK
* checking whether the namespace can be unloaded cleanly ... OK
* checking Rd files ... OK
* checking Rd metadata ... OK
* checking Rd cross-references ... OK
* checking for missing documentation entries ... OK
* checking for code/documentation mismatches ... OK
* checking Rd \usage sections ... OK
* checking Rd contents ... OK
* checking for unstated dependencies in examples ... OK
* checking contents of ‘data’ directory ... OK
* checking data for non-ASCII characters ... OK
* checking data for ASCII and uncompressed saves ... OK
* checking files in ‘vignettes’ ... OK
* checking examples ... OK
* checking for unstated dependencies in vignettes ... OK
* checking package vignettes in ‘inst/doc’ ... OK
* checking running R code from vignettes ... SKIPPED
* checking re-building of vignette outputs ... SKIPPED
* checking PDF version of manual ... OK
* DONE
Status: 1 NOTE
See
‘/home/biocbuild/bbs-3.14-data-experiment/meat/KEGGandMetacoreDzPathwaysGEO.Rcheck/00check.log’
for details.
KEGGandMetacoreDzPathwaysGEO.Rcheck/00install.out
############################################################################## ############################################################################## ### ### Running command: ### ### /home/biocbuild/bbs-3.14-bioc/R/bin/R CMD INSTALL KEGGandMetacoreDzPathwaysGEO ### ############################################################################## ############################################################################## * installing to library ‘/home/biocbuild/bbs-3.14-bioc/R/library’ * installing *source* package ‘KEGGandMetacoreDzPathwaysGEO’ ... ** using staged installation ** data ** help *** installing help indices ** building package indices ** installing vignettes ** testing if installed package can be loaded from temporary location ** testing if installed package can be loaded from final location ** testing if installed package keeps a record of temporary installation path * DONE (KEGGandMetacoreDzPathwaysGEO)
KEGGandMetacoreDzPathwaysGEO.Rcheck/KEGGandMetacoreDzPathwaysGEO-Ex.timings
| name | user | system | elapsed | |
| GSE1145 | 0.331 | 0.015 | 0.347 | |
| GSE11906 | 2.266 | 0.043 | 2.311 | |
| GSE14924_CD4 | 0.210 | 0.000 | 0.211 | |
| GSE14924_CD8 | 0.204 | 0.012 | 0.217 | |
| GSE16759 | 0.246 | 0.000 | 0.246 | |
| GSE19420 | 0.179 | 0.012 | 0.191 | |
| GSE20164 | 0.062 | 0.000 | 0.062 | |
| GSE22780 | 0.190 | 0.004 | 0.195 | |
| GSE23878 | 0.661 | 0.023 | 0.685 | |
| GSE24739_G0 | 0.353 | 0.004 | 0.357 | |
| GSE24739_G1 | 0.349 | 0.004 | 0.352 | |
| GSE30153 | 0.427 | 0.008 | 0.435 | |
| GSE32676 | 0.550 | 0.015 | 0.565 | |
| GSE38666_epithelia | 0.264 | 0.012 | 0.276 | |
| GSE38666_stroma | 0.179 | 0.001 | 0.179 | |
| GSE4183 | 0.207 | 0.012 | 0.220 | |
| GSE42057 | 0.757 | 0.011 | 0.769 | |
| GSE7305 | 0.524 | 0.008 | 0.533 | |
| KEGGandMetacoreDzPathwaysGEO-package | 0.511 | 0.020 | 0.531 | |