| Back to Build/check report for BioC 3.14 experimental data |
|
This page was generated on 2022-04-13 14:50:22 -0400 (Wed, 13 Apr 2022).
| Hostname | OS | Arch (*) | R version | Installed pkgs |
|---|---|---|---|---|
| nebbiolo2 | Linux (Ubuntu 20.04.4 LTS) | x86_64 | 4.1.3 (2022-03-10) -- "One Push-Up" | 4324 |
| Click on any hostname to see more info about the system (e.g. compilers) (*) as reported by 'uname -p', except on Windows and Mac OS X | ||||
|
To the developers/maintainers of the ChAMPdata package: Make sure to use the following settings in order to reproduce any error or warning you see on this page. |
| Package 54/408 | Hostname | OS / Arch | INSTALL | BUILD | CHECK | ||||||||
| ChAMPdata 2.26.0 (landing page) Yuan Tian
| nebbiolo2 | Linux (Ubuntu 20.04.4 LTS) / x86_64 | OK | OK | OK | ||||||||
| Package: ChAMPdata |
| Version: 2.26.0 |
| Command: /home/biocbuild/bbs-3.14-bioc/R/bin/R CMD check --install=check:ChAMPdata.install-out.txt --library=/home/biocbuild/bbs-3.14-bioc/R/library --no-vignettes --timings ChAMPdata_2.26.0.tar.gz |
| StartedAt: 2022-04-13 11:16:46 -0400 (Wed, 13 Apr 2022) |
| EndedAt: 2022-04-13 11:20:51 -0400 (Wed, 13 Apr 2022) |
| EllapsedTime: 244.5 seconds |
| RetCode: 0 |
| Status: OK |
| CheckDir: ChAMPdata.Rcheck |
| Warnings: 0 |
##############################################################################
##############################################################################
###
### Running command:
###
### /home/biocbuild/bbs-3.14-bioc/R/bin/R CMD check --install=check:ChAMPdata.install-out.txt --library=/home/biocbuild/bbs-3.14-bioc/R/library --no-vignettes --timings ChAMPdata_2.26.0.tar.gz
###
##############################################################################
##############################################################################
* using log directory ‘/home/biocbuild/bbs-3.14-data-experiment/meat/ChAMPdata.Rcheck’
* using R version 4.1.3 (2022-03-10)
* using platform: x86_64-pc-linux-gnu (64-bit)
* using session charset: UTF-8
* using option ‘--no-vignettes’
* checking for file ‘ChAMPdata/DESCRIPTION’ ... OK
* checking extension type ... Package
* this is package ‘ChAMPdata’ version ‘2.26.0’
* checking package namespace information ... OK
* checking package dependencies ... OK
* checking if this is a source package ... OK
* checking if there is a namespace ... OK
* checking for hidden files and directories ... OK
* checking for portable file names ... OK
* checking for sufficient/correct file permissions ... OK
* checking whether package ‘ChAMPdata’ can be installed ... OK
* checking installed package size ... NOTE
installed size is 743.0Mb
sub-directories of 1Mb or more:
data 619.3Mb
extdata 123.6Mb
* checking package directory ... OK
* checking DESCRIPTION meta-information ... OK
* checking top-level files ... OK
* checking for left-over files ... OK
* checking index information ... OK
* checking package subdirectories ... OK
* checking whether the package can be loaded ... OK
* checking whether the package can be loaded with stated dependencies ... OK
* checking whether the package can be unloaded cleanly ... OK
* checking whether the namespace can be loaded with stated dependencies ... OK
* checking whether the namespace can be unloaded cleanly ... OK
* checking Rd files ... OK
* checking Rd metadata ... OK
* checking Rd cross-references ... OK
* checking for missing documentation entries ... OK
* checking for code/documentation mismatches ... OK
* checking Rd \usage sections ... OK
* checking Rd contents ... OK
* checking for unstated dependencies in examples ... OK
* checking contents of ‘data’ directory ... OK
* checking data for non-ASCII characters ... NOTE
Error loading dataset 'bloodCtl':
Error in h(simpleError(msg, call)) :
error in evaluating the argument 'x' in selecting a method for function 'nrow': no slot of name "elementMetadata" for this object of class "RGChannelSetExtended"
Error loading dataset 'myLoad':
Error in h(simpleError(msg, call)) :
error in evaluating the argument 'x' in selecting a method for function 'nrow': no slot of name "elementMetadata" for this object of class "MethylSet"
* checking data for ASCII and uncompressed saves ... OK
* checking examples ... OK
Examples with CPU (user + system) or elapsed time > 5s
user system elapsed
ChAMPdata-package 26.912 0.78 27.692
testDataSet 7.827 0.14 7.967
* checking PDF version of manual ... OK
* DONE
Status: 2 NOTEs
See
‘/home/biocbuild/bbs-3.14-data-experiment/meat/ChAMPdata.Rcheck/00check.log’
for details.
ChAMPdata.Rcheck/00install.out
############################################################################## ############################################################################## ### ### Running command: ### ### /home/biocbuild/bbs-3.14-bioc/R/bin/R CMD INSTALL ChAMPdata ### ############################################################################## ############################################################################## * installing to library ‘/home/biocbuild/bbs-3.14-bioc/R/library’ * installing *source* package ‘ChAMPdata’ ... ** using staged installation ** data ** inst ** help *** installing help indices ** building package indices ** testing if installed package can be loaded from temporary location ** testing if installed package can be loaded from final location ** testing if installed package keeps a record of temporary installation path * DONE (ChAMPdata)
ChAMPdata.Rcheck/ChAMPdata-Ex.timings
| name | user | system | elapsed | |
| Anno450K | 2.435 | 0.136 | 2.571 | |
| AnnoEPIC | 4.146 | 0.072 | 4.219 | |
| CellTypeMeans27K | 0.001 | 0.000 | 0.001 | |
| CellTypeMeans450K | 0.001 | 0.000 | 0.001 | |
| ChAMPdata-package | 26.912 | 0.780 | 27.692 | |
| ControlProbes450K | 0.001 | 0.000 | 0.001 | |
| ControlProbesEPIC | 0.001 | 0.000 | 0.001 | |
| EPIC.manifest.hg19 | 3.698 | 0.176 | 3.874 | |
| EPIC.manifest.pop.hg19 | 2.228 | 0.004 | 2.232 | |
| EPICSimData | 2.048 | 0.080 | 2.128 | |
| MatchGeneName | 0.016 | 0.000 | 0.015 | |
| PathwayList | 0.305 | 0.000 | 0.306 | |
| bloodCtl | 0.001 | 0.000 | 0.001 | |
| hm450.manifest.hg19 | 1.401 | 0.004 | 1.405 | |
| hm450.manifest.pop.hg19 | 1.631 | 0.028 | 1.659 | |
| hprdAsigH | 1.679 | 0.272 | 1.951 | |
| illumina450Gr | 1.327 | 0.008 | 1.335 | |
| illuminaEPICGr | 1.978 | 0.016 | 1.995 | |
| multi.hit | 0.940 | 0.032 | 0.972 | |
| probe.features | 0.552 | 0.008 | 0.559 | |
| probe.features.epic | 1.260 | 0.008 | 1.267 | |
| probeInfoALL.epic.lv | 0.542 | 0.000 | 0.542 | |
| probeInfoALL.lv | 0.361 | 0.000 | 0.361 | |
| snp.hit | 0.649 | 0.000 | 0.648 | |
| testDataSet | 7.827 | 0.140 | 7.967 | |