| Back to Build/check report for BioC 3.14 experimental data |
|
This page was generated on 2022-04-13 14:50:22 -0400 (Wed, 13 Apr 2022).
| Hostname | OS | Arch (*) | R version | Installed pkgs |
|---|---|---|---|---|
| nebbiolo2 | Linux (Ubuntu 20.04.4 LTS) | x86_64 | 4.1.3 (2022-03-10) -- "One Push-Up" | 4324 |
| Click on any hostname to see more info about the system (e.g. compilers) (*) as reported by 'uname -p', except on Windows and Mac OS X | ||||
|
To the developers/maintainers of the CardinalWorkflows package: Make sure to use the following settings in order to reproduce any error or warning you see on this page. |
| Package 47/408 | Hostname | OS / Arch | INSTALL | BUILD | CHECK | ||||||||
| CardinalWorkflows 1.26.0 (landing page) Kylie A. Bemis
| nebbiolo2 | Linux (Ubuntu 20.04.4 LTS) / x86_64 | OK | OK | OK | ||||||||
| Package: CardinalWorkflows |
| Version: 1.26.0 |
| Command: /home/biocbuild/bbs-3.14-bioc/R/bin/R CMD build --keep-empty-dirs --no-resave-data CardinalWorkflows |
| StartedAt: 2022-04-13 10:13:23 -0400 (Wed, 13 Apr 2022) |
| EndedAt: 2022-04-13 10:21:00 -0400 (Wed, 13 Apr 2022) |
| EllapsedTime: 456.7 seconds |
| RetCode: 0 |
| Status: OK |
| PackageFile: CardinalWorkflows_1.26.0.tar.gz |
| PackageFileSize: 145 MiB |
############################################################################## ############################################################################## ### ### Running command: ### ### /home/biocbuild/bbs-3.14-bioc/R/bin/R CMD build --keep-empty-dirs --no-resave-data CardinalWorkflows ### ############################################################################## ############################################################################## * checking for file ‘CardinalWorkflows/DESCRIPTION’ ... OK * preparing ‘CardinalWorkflows’: * checking DESCRIPTION meta-information ... OK * installing the package to build vignettes * creating vignettes ... OK * checking for LF line-endings in source and make files and shell scripts * checking for empty or unneeded directories * looking to see if a ‘data/datalist’ file should be added * building ‘CardinalWorkflows_1.26.0.tar.gz’